{"text_format":"1","workbook":"xlsx","n_sheets":34,"sheets":["メイン","確認申請書（建築物）第一面","計変_確認申請書　第一面1","第二面","第二面（印刷用）","建築主追加用(申)","第二面 別紙建築主追加様式（印刷用）","設計者追加用(申)","第二面 別紙設計者追加様式 (印刷用)","第二面 別紙工事監理者追加様式 (印刷用)","工事監理者追加用(申)","第三面","第四面 ","第四面 (別紙)","第五面","第五面 (2)","第五面 (3)","第五面 (4)","第六面","委任状","工事届第一面","工事届第二面","工事届第三面","関係企業等確認書","建築計画概要書第一面","建築主追加用(概)","設計者追加用(概)","工事監理者追加用(概)","建築計画概要書第二面 ","建築計画概要書第三面 ","建築計画概要書第四面","用途区分","マスタシート","記入シート"],"not_rendered":{"charts":0,"images":1,"macros":1,"external_links":2,"defined_names":727,"comments":8,"pivot_tables":0},"unopened":[],"bounds":{"document_bytes":16777216,"sheet_cells":100000,"rows_first":2000,"rows_last":500,"rows_between":2000,"halvings":0,"cell_chars":16384,"cell_head_chars":4096},"cells_cut":0,"cells_raw":0,"read":"whole","date_system":"1900"}

{"sheet":"メイン","index":0,"n_rows":34,"n_cols":9,"rows_kept":34,"cut":false,"hidden":false,"merged":[]}
[]
[]
[]
[]
[]
[]
[]
[]
[]
[]
[]
[]
[]
[]
[]
[]
[]
[]
[]
[]
[]
[]
[null,"※","申請書は「エクセルのテンプレート」で作成されています。"]
[null,null,"入力後「物件名」で名前をつけて保存してください。"]
[]
[null,"※","Windows以外の環境では作動しない場合があります。"]
[]
[]
[]
[]
[]
[]
[]
[null,null,null,null,null,null,null,null,210101]

{"sheet":"確認申請書（建築物）第一面","index":1,"n_rows":38,"n_cols":22,"rows_kept":38,"cut":false,"hidden":false,"merged":[[9,0,11,21],[2,0,2,21],[4,0,4,21],[21,11,21,20],[23,11,23,20],[25,11,25,20],[22,11,22,20],[19,11,20,20],[29,0,29,21],[30,0,32,21],[33,0,33,6],[33,15,33,21],[37,0,48,21],[34,7,36,11],[33,12,33,14],[34,12,36,14],[33,7,33,11]]}
["第二号様式（第一条の三、第三条、第三条の三　関係）（Ａ４）"]
[]
["　　確認申請書（建築物）"]
[]
["（第一面）"]
[]
[]
[]
[]
["　建築基準法第６条第１項又は第６条の２第１項の規定による確認を申請します。この申請書及び添付図書に記載の事項は、事実に相違ありません。"]
[]
[]
[]
[]
["指定確認検査機関"]
["株式会社　グッド・アイズ建築検査機構　御中"]
[]
[null,null,null,null,null,null,null,null,null,null,null,null,null,null,null,"令和",null,"年",null,"月",null,"日"]
[]
[null,null,null,null,null,null,null,null,null,null,"申請者氏名　　",{"$f":"第二面!G5","v":0}]
[]
[null,null,null,null,null,null,null,null,null,null,null,{"$f":"'建築主追加用(申)'!G5","v":0}]
[null,null,null,null,null,null,null,null,null,null,null,{"$f":"'建築主追加用(申)'!G15","v":0}]
[null,null,null,null,null,null,null,null,null,null,null,{"$f":"'建築主追加用(申)'!G25","v":0}]
[]
[null,null,null,null,null,null,null,null,null,null,"設計者氏名　　",{"$f":"第二面!G23","v":0}]
[]
[]
[]
["※手数料欄"]
[]
[]
[]
["※受付欄",null,null,null,null,null,null,"※消防関係同意欄",null,null,null,null,"※決裁欄",null,null,"※確認番号欄"]
["令和",null,"年",null,"月",null,"日",null,null,null,null,null,null,null,null,"令和",null,"年",null,"月",null,"日"]
["第",null,null,null,null,null,"号",null,null,null,null,null,null,null,null,"第",null,null,null,null,null,"号"]
["係員氏名",null,null,null,null,null,null,null,null,null,null,null,null,null,null,"係員氏名"]
["ren230719"]

{"sheet":"計変_確認申請書　第一面1","index":2,"n_rows":49,"n_cols":28,"rows_kept":49,"cut":false,"hidden":false,"merged":[[32,7,32,19],[2,0,2,21],[4,0,4,21],[9,0,11,21],[20,11,20,20],[22,11,22,20],[24,11,24,20],[25,14,25,20],[26,14,26,20],[30,7,30,13],[21,11,21,20],[18,11,19,20],[42,7,44,11],[42,12,44,14],[33,6,36,20],[37,0,37,21],[41,0,41,6],[41,7,41,11],[41,12,41,14],[41,15,41,21]]}
["第四号様式（第一条の三、第三条、第三条の三　関係）（Ａ４）"]
[]
["　　計画変更確認申請書（建築物）"]
[]
["（第一面）"]
[]
[]
[]
[]
["　建築基準法第６条第１項又は第６条の２第１項の規定による計画の変更の確認を申請します。この申請書及び添付図書に記載の事項は、事実に相違ありません。"]
[]
[]
[]
["指定確認検査機関"]
["株式会社　グッド・アイズ建築検査機構　御中"]
[]
[null,null,null,null,null,null,null,null,null,null,null,null,null,null,null,"令和",null,"年",null,"月",null,"日"]
[]
[null,null,null,null,null,null,null,null,null,null,"申請者氏名　　",{"$f":"'確認申請書（建築物）第一面'!L20:U20","v":0}]
[]
[null,null,null,null,null,null,null,null,null,null,null,{"$f":"'確認申請書（建築物）第一面'!L22:U22","v":0},null,null,null,null,null,null,null,null,null,null,null,null,null,null,null,"平成"]
[null,null,null,null,null,null,null,null,null,null,null,{"$f":"'確認申請書（建築物）第一面'!L23:U23","v":0},null,null,null,null,null,null,null,null,null,null,null,null,null,null,null,"令和"]
[null,null,null,null,null,null,null,null,null,null,null,{"$f":"'確認申請書（建築物）第一面'!L24:U24","v":0}]
[]
[null,null,null,null,null,null,null,null,null,null,"設計者氏名　　",{"$f":"'確認申請書（建築物）第一面'!L26:U26","v":0}]
[]
[]
[]
["　【計画を変更する建築物の直前の確認】"]
[]
[null,"【確認済証番号】",null,null,null,null,"第",null,null,null,null,null,null,null,"号"]
[null,"【確認済証交付年月日】",null,null,null,null,"令和",null,"年",null,"月",null,"日"]
[null,"【確認済証交付者】",null,null,null,null,null,"指定確認検査機関　株式会社　グッド・アイズ建築検査機構"]
[null,"【計画変更の概要】"]
[]
[]
[]
["※手数料欄"]
[]
[]
[]
["※受付欄",null,null,null,null,null,null,"※消防関係同意欄",null,null,null,null,"※決裁欄",null,null,"※確認番号欄"]
["令和",null,"年",null,"月",null,"日",null,null,null,null,null,null,null,null,"令和",null,"年",null,"月",null,"日"]
["第",null,null,null,null,null,"号",null,null,null,null,null,null,null,null,"第",null,null,null,null,null,"号"]
["係員氏名",null,null,null,null,null,null,null,null,null,null,null,null,null,null,"係員氏名"]
[]
[]
[]
[null,null,null,null,null,null,null,null,null,null,null,null,null,null,null,null,null,null,null,null,null,"ren210101"]

{"sheet":"第二面","index":3,"n_rows":179,"n_cols":16,"rows_kept":179,"cut":false,"hidden":false,"merged":[[176,9,176,14],[177,9,177,14],[174,0,174,9],[160,6,160,7],[160,12,160,13],[162,0,162,3],[169,0,169,3],[0,0,0,16],[1,0,1,3],[2,0,2,3],[3,6,3,14],[10,0,10,3],[6,6,6,13],[30,2,30,3],[8,8,8,14],[4,6,5,14],[12,6,12,14],[14,6,14,14],[28,10,28,11],[18,0,18,16],[19,0,19,3],[28,3,28,4],[28,12,28,13],[28,8,28,9],[22,6,22,14],[20,2,20,3],[16,8,16,14],[64,6,64,14],[65,5,65,8],[69,5,69,8],[26,8,26,14],[47,12,47,13],[47,6,47,7],[54,8,54,14],[24,6,24,14],[43,6,43,14],[38,8,38,9],[56,8,56,9],[56,10,56,11],[56,12,56,13],[28,6,28,7],[38,12,38,13],[36,8,36,14],[52,6,52,14],[32,6,32,14],[34,6,34,14],[38,10,38,11],[38,3,38,4],[182,6,182,10],[182,11,182,14],[180,6,180,10],[181,6,181,10],[181,11,181,14],[180,11,180,14],[111,6,111,14],[178,0,178,3],[165,6,165,14],[178,6,178,12],[178,13,178,16],[167,8,167,14],[170,12,170,15],[172,7,172,9],[172,12,172,15],[174,12,174,15],[156,6,156,14],[160,8,160,9],[170,7,170,9],[154,6,154,14],[160,10,160,11],[164,6,164,7],[164,9,164,11],[175,9,175,14],[45,8,45,14],[50,6,50,14],[41,6,41,14],[56,6,56,7],[47,10,47,11],[47,8,47,9],[38,6,38,7],[179,6,179,10],[179,11,179,14],[163,6,163,14],[77,5,77,8],[158,8,158,14],[68,6,68,14],[75,5,75,8],[76,6,76,14],[101,8,101,14],[80,6,80,14],[89,6,89,14],[107,6,107,14],[74,6,74,14],[72,6,72,14],[87,0,87,7],[73,5,73,8],[88,2,88,7],[98,6,98,14],[83,5,83,8],[85,5,85,8],[90,6,90,14],[99,6,99,14],[115,6,115,14],[106,6,106,14],[47,3,47,4],[56,3,56,4],[82,6,82,14],[81,5,81,8],[94,6,94,14],[84,6,84,14],[97,2,97,7],[92,8,92,14],[95,6,95,14],[109,8,109,14],[104,6,104,14],[103,6,103,14],[112,6,112,14],[151,12,151,13],[145,6,145,14],[149,8,149,14],[142,12,142,13],[151,6,151,7],[151,8,151,9],[142,6,142,7],[151,10,151,11],[142,10,142,11],[147,6,147,14],[123,0,123,3],[120,6,120,14],[124,2,124,4],[114,6,114,14],[142,8,142,9],[132,12,132,13],[132,6,132,7],[132,8,132,9],[134,2,134,4],[140,8,140,14],[138,6,138,14],[132,10,132,11],[136,6,136,14],[117,8,117,14],[119,6,119,14],[128,6,128,14],[130,8,130,14],[126,6,126,14]]}
["（第二面）"]
["建築主等の概要"]
["【１．建築主】"]
[null,"【","イ．","氏名のフリガナ","】",null,{"$f":"PHONETIC(G5)","v":""}]
[null,"【","ロ．","氏名","】"]
[]
[]
[null,"【","ハ．","郵便番号","】",null,"〒",null,"-"]
[null,"【","二．","住所","】"]
[null,"【","ホ．","電話番号","】",null,null,null,"-",null,"-"]
["【２．代理者】"]
[null,"【","イ．","資格","】",null,"（",null,"）","建築士","（",null,"）","登録　　第",null,"号"]
[null,"【","ロ．","氏名","】"]
[null,"【","ハ．","建築士事務所名","】",null,"（",null,"）","建築士事務所","（",null,"）","知事登録　第",null,"号"]
[]
[null,"【","二．","郵便番号","】",null,"〒",null,"-"]
[null,"【","ホ．","所在地","】"]
[null,"【","へ．","電話番号","】",null,null,null,"-",null,"-"]
[]
["【３．設計者】"]
[null,"（","代表となる設計者）"]
[null,"【","イ．","資格","】",null,"（",null,"）","建築士","（",null,"）","登録　　第",null,"号"]
[null,"【","ロ．","氏名","】"]
[null,"【","ハ．","建築士事務所名","】",null,"（",null,"）","建築士事務所","（",null,"）","知事登録　第",null,"号"]
[]
[null,"【","二．","郵便番号","】",null,"〒",null,"-"]
[null,"【","ホ．","所在地","】"]
[null,"【","へ．","電話番号","】",null,null,null,"-",null,"-"]
[null,"【","ト．","作成又は確認した設計図書",null,"】"]
[]
[null,"（","その他の設計者）"]
[null,"【","イ．","資格","】",null,"（",null,"）","建築士","（",null,"）","登録　　第",null,"号"]
[null,"【","ロ．","氏名","】"]
[null,"【","ハ．","建築士事務所名","】",null,"（",null,"）","建築士事務所","（",null,"）","知事登録　第",null,"号"]
[]
[null,"【","二．","郵便番号","】",null,"〒",null,"-"]
[null,"【","ホ．","所在地","】"]
[null,"【","へ．","電話番号","】",null,null,null,"-",null,"-"]
[null,"【","ト．","作成又は確認した設計図書",null,"】"]
[]
[null,"【","イ．","資格","】",null,"（",null,"）","建築士","（",null,"）","登録　　第",null,"号"]
[null,"【","ロ．","氏名","】"]
[null,"【","ハ．","建築士事務所名","】",null,"（",null,"）","建築士事務所","（",null,"）","知事登録　第",null,"号"]
[]
[null,"【","二．","郵便番号","】",null,"〒",null,"-"]
[null,"【","ホ．","所在地","】"]
[null,"【","へ．","電話番号","】",null,null,null,"-",null,"-"]
[null,"【","ト．","作成又は確認した設計図書",null,"】"]
[]
[null,"【","イ．","資格","】",null,"（",null,"）","建築士","（",null,"）","登録　　第",null,"号"]
[null,"【","ロ．","氏名","】"]
[null,"【","ハ．","建築士事務所名","】",null,"（",null,"）","建築士事務所","（",null,"）","知事登録　第",null,"号"]
[]
[null,"【","二．","郵便番号","】",null,"〒",null,"-"]
[null,"【","ホ．","所在地","】"]
[null,"【","へ．","電話番号","】",null,null,null,"-",null,"-"]
[null,"【","ト．","作成又は確認した設計図書",null,"】"]
[]
[]
[]
[]
[null,"（","構造設計一級建築士又は設備設計一級建築士である旨の表示をした者）"]
[null,null,"上記の設計者のうち、"]
[null,null,"□","建築士法第20条の２第１項の表示をした者"]
[null,"【","イ．","氏名","】"]
[null,"【","ロ．","資格","】","構造設計一級建築士交付第",null,null,null,null,"号"]
[]
[null,null,"□","建築士法第20条の２第３項の表示をした者"]
[null,"【","イ．","氏名","】"]
[null,"【","ロ．","資格","】","構造設計一級建築士交付第",null,null,null,null,"号"]
[]
[null,null,"□","建築士法第20条の３第１項の表示をした者"]
[null,"【","イ．","氏名","】"]
[null,"【","ロ．","資格","】","設備設計一級建築士交付第",null,null,null,null,"号"]
[null,"【","イ．","氏名","】"]
[null,"【","ロ．","資格","】","設備設計一級建築士交付第",null,null,null,null,"号"]
[null,"【","イ．","氏名","】"]
[null,"【","ロ．","資格","】","設備設計一級建築士交付第",null,null,null,null,"号"]
[]
[null,null,"□","建築士法第20条の３第３項の表示をした者"]
[null,"【","イ．","氏名","】"]
[null,"【","ロ．","資格","】","設備設計一級建築士交付第",null,null,null,null,"号"]
[null,"【","イ．","氏名","】"]
[null,"【","ロ．","資格","】","設備設計一級建築士交付第",null,null,null,null,"号"]
[null,"【","イ．","氏名","】"]
[null,"【","ロ．","資格","】","設備設計一級建築士交付第",null,null,null,null,"号"]
[]
["【４．建築設備の設計に関し意見を聴いた者】"]
[null,"（","代表となる建築設備の設計に関し意見を聴いた者）"]
[null,"【","イ．","氏名","】"]
[null,"【","ロ．","勤務先","】"]
[null,"【","ハ．","郵便番号","】",null,"〒",null,"-"]
[null,"【","二．","所在地","】"]
[null,"【","ホ．","電話番号","】",null,null,null,"-",null,"-"]
[null,"【","ヘ．","登録番号","】"]
[null,"【","ト．","意見を聴いた設計図書","】"]
[]
[null,"（","その他の建築設備の設計に関し意見を聴いた者）"]
[null,"【","イ．","氏名","】"]
[null,"【","ロ．","勤務先","】"]
[null,"【","ハ．","郵便番号","】",null,"〒",null,"-"]
[null,"【","二．","所在地","】"]
[null,"【","ホ．","電話番号","】",null,null,null,"-",null,"-"]
[null,"【","ヘ．","登録番号","】"]
[null,"【","ト．","意見を聴いた設計図書","】"]
[]
[null,"【","イ．","氏名","】"]
[null,"【","ロ．","勤務先","】"]
[null,"【","ハ．","郵便番号","】",null,"〒",null,"-"]
[null,"【","二．","所在地","】"]
[null,"【","ホ．","電話番号","】",null,null,null,"-",null,"-"]
[null,"【","ヘ．","登録番号","】"]
[null,"【","ト．","意見を聴いた設計図書","】"]
[]
[null,"【","イ．","氏名","】"]
[null,"【","ロ．","勤務先","】"]
[null,"【","ハ．","郵便番号","】",null,"〒",null,"-"]
[null,"【","二．","所在地","】"]
[null,"【","ホ．","電話番号","】",null,null,null,"-",null,"-"]
[null,"【","ヘ．","登録番号","】"]
[null,"【","ト．","意見を聴いた設計図書","】"]
[]
[]
["【５．工事監理者】"]
[null,"（","代表となる工事監理者）"]
[null,"【","イ．","資格","】",null,"（",null,"）","建築士","（",null,"）","登録　　第",null,"号"]
[null,"【","ロ．","氏名","】"]
[null,"【","ハ．","建築士事務所名","】",null,"（",null,"）","建築士事務所","（",null,"）","知事登録　第",null,"号"]
[]
[null,"【","二．","郵便番号","】",null,"〒",null,"-"]
[null,"【","ホ．","所在地","】"]
[null,"【","へ．","電話番号","】",null,null,null,"-",null,"-"]
[null,"【","ト．","工事と照合する設計図書","】"]
[]
[null,"（","その他の工事監理者）"]
[null,"【","イ．","資格","】",null,"（",null,"）","建築士","（",null,"）","登録　　第",null,"号"]
[null,"【","ロ．","氏名","】"]
[null,"【","ハ．","建築士事務所名","】",null,"（",null,"）","建築士事務所","（",null,"）","知事登録　第",null,"号"]
[]
[null,"【","二．","郵便番号","】",null,"〒",null,"-"]
[null,"【","ホ．","所在地","】"]
[null,"【","へ．","電話番号","】",null,null,null,"-",null,"-"]
[null,"【","ト．","工事と照合する設計図書","】"]
[]
[null,"【","イ．","資格","】",null,"（",null,"）","建築士","（",null,"）","登録　　第",null,"号"]
[null,"【","ロ．","氏名","】"]
[null,"【","ハ．","建築士事務所名","】",null,"（",null,"）","建築士事務所","（",null,"）","知事登録　第",null,"号"]
[]
[null,"【","二．","郵便番号","】",null,"〒",null,"-"]
[null,"【","ホ．","所在地","】"]
[null,"【","へ．","電話番号","】",null,null,null,"-",null,"-"]
[null,"【","ト．","工事と照合する設計図書","】"]
[]
[null,"【","イ．","資格","】",null,"（",null,"）","建築士","（",null,"）","登録　　第",null,"号"]
[null,"【","ロ．","氏名","】"]
[null,"【","ハ．","建築士事務所名","】",null,"（",null,"）","建築士事務所","（",null,"）","知事登録　第",null,"号"]
[]
[null,"【","二．","郵便番号","】",null,"〒",null,"-"]
[null,"【","ホ．","所在地","】"]
[null,"【","へ．","電話番号","】",null,null,null,"-",null,"-"]
[null,"【","ト．","工事と照合する設計図書","】"]
[]
["【６．工事施工者】"]
[null,"【","イ．","氏名","】"]
[null,"【","ロ．","営業所名","】",null,"建設業の許可",null,"（",null,null,null,"）","第",null,"号"]
[]
[null,"【","ハ．","郵便番号","】",null,"〒",null,"-"]
[null,"【","二．","所在地","】"]
[null,"【","ホ．","電話番号","】",null,null,null,"-",null,"-"]
["【７．構造計算適合性判定の申請】",null,null,null,null,null,"□","申請済　　（構造計算判定機関）",null,null,null,"所在地"]
[null,null,null,null,null,null,null,null,null,null,null,{"$f":"IF(H171=\"\",\"\",VLOOKUP(H171,マスタシート!AI5:AK32,2,0))","v":""},{"$f":"IF(H171=\"\",\"\",VLOOKUP(H171,マスタシート!AI5:AK32,3,0))","v":""}]
[null,null,null,null,null,null,"□","未申請　　（構造計算判定機関）",null,null,null,"所在地"]
[null,null,null,null,null,null,null,null,null,null,null,{"$f":"IF(H173=\"\",\"\",VLOOKUP(H173,マスタシート!AI5:AK32,2,0))","v":""},{"$f":"IF(H173=\"\",\"\",VLOOKUP(H173,マスタシート!AI5:AK32,3,0))","v":""}]
[null,null,null,null,null,null,"□","申請不要　"]
["【８．建築物エネルギー消費性能確保計画の提出】"]
[null,null,null,null,null,null,"□","提出済","（",null,null,null,null,null,null,"）"]
[null,null,null,null,null,null,"□","未提出","（",null,null,null,null,null,null,"）"]
[null,null,null,null,null,null,"□","提出不要","（",null,null,null,null,null,null,"）"]
["【９．備考】",null,null,null,null,null,null,null,null,null,null,null,null,"新築工事"]

{"sheet":"第二面（印刷用）","index":4,"n_rows":182,"n_cols":16,"rows_kept":182,"cut":false,"hidden":true,"merged":[[169,0,169,3],[82,6,82,14],[68,6,68,14],[77,6,77,8],[81,6,81,8],[76,6,76,14],[75,6,75,8],[38,3,38,4],[56,10,56,11],[56,6,56,7],[38,6,38,7],[45,7,45,14],[52,6,52,14],[38,12,38,13],[54,7,54,14],[56,12,56,13],[107,6,107,14],[97,2,97,7],[103,6,103,14],[109,7,109,14],[108,7,108,9],[106,6,106,14],[101,7,101,14],[74,6,74,14],[56,3,56,4],[92,7,92,14],[91,7,91,9],[69,6,69,8],[83,6,83,8],[84,6,84,14],[72,6,72,14],[85,6,85,8],[73,6,73,8],[80,6,80,14],[88,2,88,7],[163,6,163,14],[159,7,159,11],[164,6,164,7],[164,9,164,11],[172,11,172,16],[171,11,171,16],[170,11,170,16],[160,10,160,11],[170,4,170,9],[171,4,171,9],[172,4,172,9],[142,12,142,13],[134,2,134,4],[132,12,132,13],[139,7,139,9],[141,7,141,11],[132,8,132,9],[160,8,160,9],[160,6,160,7],[160,12,160,13],[150,7,150,11],[142,6,142,7],[145,6,145,14],[138,6,138,14],[132,6,132,7],[147,6,147,14],[142,10,142,11],[149,7,149,14],[142,8,142,9],[158,7,158,14],[151,8,151,9],[151,12,151,13],[157,7,157,9],[156,6,156,14],[151,6,151,7],[124,2,124,4],[98,6,98,14],[20,2,20,3],[114,6,114,14],[24,6,24,14],[87,0,87,7],[89,6,89,14],[123,0,123,3],[47,3,47,4],[26,7,26,14],[53,7,53,9],[47,6,47,7],[50,6,50,14],[27,7,27,11],[35,7,35,9],[36,7,36,14],[37,7,37,11],[34,6,34,14],[32,6,32,14],[28,12,28,13],[28,3,28,4],[22,6,22,14],[110,7,110,11],[116,7,116,9],[0,0,0,16],[1,0,1,3],[2,0,2,3],[3,6,3,14],[10,0,10,3],[6,6,6,13],[7,7,7,9],[9,7,9,11],[8,7,8,14],[30,2,30,3],[15,7,15,9],[28,10,28,11],[28,6,28,7],[28,8,28,9],[16,7,16,14],[25,7,25,9],[19,0,19,3],[4,6,5,14],[12,6,12,14],[14,6,14,14],[18,0,18,16],[17,7,17,11],[55,7,55,11],[64,6,64,14],[65,6,65,8],[56,8,56,9],[47,8,47,9],[38,10,38,11],[43,6,43,14],[41,6,41,14],[44,7,44,9],[47,10,47,11],[38,8,38,9],[46,7,46,11],[47,12,47,13],[95,6,95,14],[90,6,90,14],[104,6,104,14],[93,7,93,11],[102,7,102,11],[100,7,100,9],[94,6,94,14],[99,6,99,14],[140,7,140,14],[132,10,132,11],[111,6,111,14],[115,6,115,14],[136,6,136,14],[126,6,126,14],[119,6,119,14],[129,7,129,9],[131,7,131,11],[128,6,128,14],[118,7,118,11],[120,6,120,14],[112,6,112,14],[117,7,117,14],[130,7,130,14],[154,6,154,14],[151,10,151,11],[148,7,148,9],[180,6,180,10],[180,11,180,14],[181,6,181,10],[181,11,181,14],[174,5,174,14],[175,5,175,14],[176,5,176,14],[173,0,173,9],[173,12,173,15],[177,0,177,3],[177,6,177,12],[177,13,177,16],[179,6,179,10],[179,11,179,14],[178,6,178,10],[178,11,178,14],[162,0,162,3],[165,6,165,14],[166,7,166,9],[168,7,168,11],[167,7,167,14]]}
["（第二面）"]
["建築主等の概要"]
["【１．建築主】"]
[null,"【","イ．","氏名のフリガナ","】",null,{"$f":"IF(第二面!G4=\"\",\"\",第二面!G4)","v":""}]
[null,"【","ロ．","氏名","】",null,{"$f":"IF(第二面!G5=\"\",\"\",第二面!G5)","v":""}]
[]
[null,null,null,null,null,null,null,null,null,null,null,null,null,null,{"$f":"IF(第二面!O7=\"\",\"\",第二面!O7)","v":""}]
[null,"【","ハ．","郵便番号","】",null,"〒",{"$f":"IF(AND(第二面!H8<>\"\",第二面!J8<>\"\"),第二面!H8&\"-\"&第二面!J8,\"\")","v":""}]
[null,"【","二．","住所","】",null,null,{"$f":"IF(第二面!H9=\"\",\"\",第二面!H9&第二面!I9)","v":""}]
[null,"【","ホ．","電話番号","】",null,null,{"$f":"IF(第二面!H10=\"\",\"\",第二面!H10&\"-\"&第二面!J10&\"-\"&第二面!L10)","v":""}]
["【２．代理者】"]
[null,"【","イ．","資格","】",null,"（",{"$f":"IF(第二面!H12=\"\",\"\",第二面!H12)","v":""},"）","建築士","（",{"$f":"IF(第二面!L12=\"\",\"\",第二面!L12)","v":""},"）","登録　　第",{"$f":"IF(第二面!O12=\"\",\"\",第二面!O12)","v":""},"号"]
[null,"【","ロ．","氏名","】",null,{"$f":"IF(第二面!G13=\"\",\"\",第二面!G13)","v":""}]
[null,"【","ハ．","建築士事務所名","】",null,"（",{"$f":"IF(第二面!H14=\"\",\"\",第二面!H14)","v":""},"）","建築士事務所","（",{"$f":"IF(第二面!L14=\"\",\"\",第二面!L14)","v":""},"）","知事登録　第",{"$f":"IF(第二面!O14=\"\",\"\",第二面!O14)","v":""},"号"]
[null,null,null,null,null,null,{"$f":"IF(第二面!G15=\"\",\"\",第二面!G15)","v":""}]
[null,"【","二．","郵便番号","】",null,"〒",{"$f":"IF(AND(第二面!H16<>\"\",第二面!J16<>\"\"),第二面!H16&\"-\"&第二面!J16,\"\")","v":""}]
[null,"【","ホ．","所在地","】",null,null,{"$f":"IF(第二面!H17=\"\",\"\",第二面!H17&第二面!I17)","v":""}]
[null,"【","へ．","電話番号","】",null,null,{"$f":"IF(第二面!H18=\"\",\"\",第二面!H18&\"-\"&第二面!J18&\"-\"&第二面!L18)","v":""}]
[]
["【３．設計者】"]
[null,"（","代表となる設計者）"]
[null,"【","イ．","資格","】",null,"（",{"$f":"IF(第二面!H22=\"\",\"\",第二面!H22)","v":""},"）","建築士","（",{"$f":"IF(第二面!L22=\"\",\"\",第二面!L22)","v":""},"）","登録　　第",{"$f":"IF(第二面!O22=\"\",\"\",第二面!O22)","v":""},"号"]
[null,"【","ロ．","氏名","】",null,{"$f":"IF(第二面!G23=\"\",\"\",第二面!G23)","v":""}]
[null,"【","ハ．","建築士事務所名","】",null,"（",{"$f":"IF(第二面!H24=\"\",\"\",第二面!H24)","v":""},"）","建築士事務所","（",{"$f":"IF(第二面!L24=\"\",\"\",第二面!L24)","v":""},"）","知事登録　第",{"$f":"IF(第二面!O24=\"\",\"\",第二面!O24)","v":""},"号"]
[null,null,null,null,null,null,{"$f":"IF(第二面!G25=\"\",\"\",第二面!G25)","v":""}]
[null,"【","二．","郵便番号","】",null,"〒",{"$f":"IF(AND(第二面!H26<>\"\",第二面!J26<>\"\"),第二面!H26&\"-\"&第二面!J26,\"\")","v":""}]
[null,"【","ホ．","所在地","】",null,null,{"$f":"IF(第二面!H27=\"\",\"\",第二面!H27&第二面!I27)","v":""},{"$f":"IF(第二面!I27=\"\",\"\",第二面!I27)","v":""}]
[null,"【","へ．","電話番号","】",null,null,{"$f":"IF(第二面!H28=\"\",\"\",第二面!H28&\"-\"&第二面!J28&\"-\"&第二面!L28)","v":""}]
[null,"【","ト．","作成又は確認した設計図書",null,"】",{"$f":"IF(第二面!G29=\"\",\"\",第二面!G29)","v":""},null,{"$f":"IF(第二面!I29=\"\",\"\",第二面!I29)","v":""},null,{"$f":"IF(第二面!K29=\"\",\"\",第二面!K29)","v":""},null,{"$f":"IF(第二面!M29=\"\",\"\",第二面!M29)","v":""}]
[]
[null,"（","その他の設計者）"]
[null,"【","イ．","資格","】",null,"（",{"$f":"IF(第二面!H32=\"\",\"\",第二面!H32)","v":""},"）","建築士","（",{"$f":"IF(第二面!L32=\"\",\"\",第二面!L32)","v":""},"）","登録　　第",{"$f":"IF(第二面!O32=\"\",\"\",第二面!O32)","v":""},"号"]
[null,"【","ロ．","氏名","】",null,{"$f":"IF(第二面!G33=\"\",\"\",第二面!G33)","v":""}]
[null,"【","ハ．","建築士事務所名","】",null,"（",{"$f":"IF(第二面!H34=\"\",\"\",第二面!H34)","v":""},"）","建築士事務所","（",{"$f":"IF(第二面!L34=\"\",\"\",第二面!L34)","v":""},"）","知事登録　第",{"$f":"IF(第二面!O34=\"\",\"\",第二面!O34)","v":""},"号"]
[null,null,null,null,null,null,{"$f":"IF(第二面!G35=\"\",\"\",第二面!G35)","v":""}]
[null,"【","二．","郵便番号","】",null,"〒",{"$f":"IF(AND(第二面!H36<>\"\",第二面!J36<>\"\"),第二面!H36&\"-\"&第二面!J36,\"\")","v":""}]
[null,"【","ホ．","所在地","】",null,null,{"$f":"IF(第二面!H37=\"\",\"\",第二面!H37&第二面!I37)","v":""},{"$f":"IF(第二面!I37=\"\",\"\",第二面!I37)","v":""}]
[null,"【","へ．","電話番号","】",null,null,{"$f":"IF(第二面!H38=\"\",\"\",第二面!H38&\"-\"&第二面!J38&\"-\"&第二面!L38)","v":""}]
[null,"【","ト．","作成又は確認した設計図書",null,"】",{"$f":"IF(第二面!G39=\"\",\"\",第二面!G39)","v":""},null,{"$f":"IF(第二面!I39=\"\",\"\",第二面!I39)","v":""},null,{"$f":"IF(第二面!K39=\"\",\"\",第二面!K39)","v":""},null,{"$f":"IF(第二面!M39=\"\",\"\",第二面!M39)","v":""}]
[]
[null,"【","イ．","資格","】",null,"（",{"$f":"IF(第二面!H41=\"\",\"\",第二面!H41)","v":""},"）","建築士","（",{"$f":"IF(第二面!L41=\"\",\"\",第二面!L41)","v":""},"）","登録　　第",{"$f":"IF(第二面!O41=\"\",\"\",第二面!O41)","v":""},"号"]
[null,"【","ロ．","氏名","】",null,{"$f":"IF(第二面!G42=\"\",\"\",第二面!G42)","v":""}]
[null,"【","ハ．","建築士事務所名","】",null,"（",{"$f":"IF(第二面!H43=\"\",\"\",第二面!H43)","v":""},"）","建築士事務所","（",{"$f":"IF(第二面!L43=\"\",\"\",第二面!L43)","v":""},"）","知事登録　第",{"$f":"IF(第二面!O43=\"\",\"\",第二面!O43)","v":""},"号"]
[null,null,null,null,null,null,{"$f":"IF(第二面!G44=\"\",\"\",第二面!G44)","v":""}]
[null,"【","二．","郵便番号","】",null,"〒",{"$f":"IF(AND(第二面!H45<>\"\",第二面!J45<>\"\"),第二面!H45&\"-\"&第二面!J45,\"\")","v":""}]
[null,"【","ホ．","所在地","】",null,null,{"$f":"IF(第二面!H46=\"\",\"\",第二面!H46&第二面!I46)","v":""},{"$f":"IF(第二面!I46=\"\",\"\",第二面!I46)","v":""}]
[null,"【","へ．","電話番号","】",null,null,{"$f":"IF(第二面!H47=\"\",\"\",第二面!H47&\"-\"&第二面!J47&\"-\"&第二面!L47)","v":""}]
[null,"【","ト．","作成又は確認した設計図書",null,"】",{"$f":"IF(第二面!G48=\"\",\"\",第二面!G48)","v":""},null,{"$f":"IF(第二面!I48=\"\",\"\",第二面!I48)","v":""},null,{"$f":"IF(第二面!K48=\"\",\"\",第二面!K48)","v":""},null,{"$f":"IF(第二面!M48=\"\",\"\",第二面!M48)","v":""}]
[]
[null,"【","イ．","資格","】",null,"（",{"$f":"IF(第二面!H50=\"\",\"\",第二面!H50)","v":""},"）","建築士","（",{"$f":"IF(第二面!L50=\"\",\"\",第二面!L50)","v":""},"）","登録　　第",{"$f":"IF(第二面!O50=\"\",\"\",第二面!O50)","v":""},"号"]
[null,"【","ロ．","氏名","】",null,{"$f":"IF(第二面!G51=\"\",\"\",第二面!G51)","v":""}]
[null,"【","ハ．","建築士事務所名","】",null,"（",{"$f":"IF(第二面!H52=\"\",\"\",第二面!H52)","v":""},"）","建築士事務所","（",{"$f":"IF(第二面!L52=\"\",\"\",第二面!L52)","v":""},"）","知事登録　第",{"$f":"IF(第二面!O52=\"\",\"\",第二面!O52)","v":""},"号"]
[null,null,null,null,null,null,{"$f":"IF(第二面!G53=\"\",\"\",第二面!G53)","v":""}]
[null,"【","二．","郵便番号","】",null,"〒",{"$f":"IF(AND(第二面!H54<>\"\",第二面!J54<>\"\"),第二面!H54&\"-\"&第二面!J54,\"\")","v":""}]
[null,"【","ホ．","所在地","】",null,null,{"$f":"IF(第二面!H55=\"\",\"\",第二面!H55&第二面!I55)","v":""},{"$f":"IF(第二面!I55=\"\",\"\",第二面!I55)","v":""}]
[null,"【","へ．","電話番号","】",null,null,{"$f":"IF(第二面!H56=\"\",\"\",第二面!H56&\"-\"&第二面!J56&\"-\"&第二面!L56)","v":""}]
[null,"【","ト．","作成又は確認した設計図書",null,"】",{"$f":"IF(第二面!G57=\"\",\"\",第二面!G57)","v":""},null,{"$f":"IF(第二面!I57=\"\",\"\",第二面!I57)","v":""},null,{"$f":"IF(第二面!K57=\"\",\"\",第二面!K57)","v":""},null,{"$f":"IF(第二面!M57=\"\",\"\",第二面!M57)","v":""}]
[]
[]
[]
[]
[null,"（","構造設計一級建築士又は設備設計一級建築士である旨の表示をした者）"]
[null,null,"上記の設計者のうち、"]
[null,null,{"$f":"第二面!C64","v":"□"},"建築士法第20条の２第１項の表示をした者"]
[null,"【","イ．","氏名","】",null,{"$f":"IF(第二面!G65=\"\",\"\",第二面!G65)","v":""}]
[null,"【","ロ．","資格","】",null,"構造設計一級建築士交付第",null,null,{"$f":"IF(第二面!J66=\"\",\"\",第二面!J66)","v":""},"号"]
[]
[null,null,{"$f":"第二面!C68","v":"□"},"建築士法第20条の２第３項の表示をした者"]
[null,"【","イ．","氏名","】",null,{"$f":"IF(第二面!G69=\"\",\"\",第二面!G69)","v":""}]
[null,"【","ロ．","資格","】",null,"構造設計一級建築士交付第",null,null,{"$f":"IF(第二面!J70=\"\",\"\",第二面!J70)","v":""},"号"]
[]
[null,null,{"$f":"第二面!C72","v":"□"},"建築士法第20条の３第１項の表示をした者"]
[null,"【","イ．","氏名","】",null,{"$f":"IF(第二面!G73=\"\",\"\",第二面!G73)","v":""}]
[null,"【","ロ．","資格","】",null,"設備設計一級建築士交付第",null,null,{"$f":"IF(第二面!J74=\"\",\"\",第二面!J74)","v":""},"号"]
[null,"【","イ．","氏名","】",null,{"$f":"IF(第二面!G75=\"\",\"\",第二面!G75)","v":""}]
[null,"【","ロ．","資格","】",null,"設備設計一級建築士交付第",null,null,{"$f":"IF(第二面!J76=\"\",\"\",第二面!J76)","v":""},"号"]
[null,"【","イ．","氏名","】",null,{"$f":"IF(第二面!G77=\"\",\"\",第二面!G77)","v":""}]
[null,"【","ロ．","資格","】",null,"設備設計一級建築士交付第",null,null,{"$f":"IF(第二面!J78=\"\",\"\",第二面!J78)","v":""},"号"]
[]
[null,null,{"$f":"第二面!C80","v":"□"},"建築士法第20条の３第３項の表示をした者"]
[null,"【","イ．","氏名","】",null,{"$f":"IF(第二面!G81=\"\",\"\",第二面!G81)","v":""}]
[null,"【","ロ．","資格","】",null,"設備設計一級建築士交付第",null,null,{"$f":"IF(第二面!J82=\"\",\"\",第二面!J82)","v":""},"号"]
[null,"【","イ．","氏名","】",null,{"$f":"IF(第二面!G83=\"\",\"\",第二面!G83)","v":""}]
[null,"【","ロ．","資格","】",null,"設備設計一級建築士交付第",null,null,{"$f":"IF(第二面!J84=\"\",\"\",第二面!J84)","v":""},"号"]
[null,"【","イ．","氏名","】",null,{"$f":"IF(第二面!G85=\"\",\"\",第二面!G85)","v":""}]
[null,"【","ロ．","資格","】",null,"設備設計一級建築士交付第",null,null,{"$f":"IF(第二面!J86=\"\",\"\",第二面!J86)","v":""},"号"]
[]
["【４．建築設備の設計に関し意見を聴いた者】"]
[null,"（","代表となる建築設備の設計に関し意見を聴いた者）"]
[null,"【","イ．","氏名","】",null,{"$f":"IF(第二面!G90=\"\",\"\",第二面!G90)","v":""}]
[null,"【","ロ．","勤務先","】",null,{"$f":"IF(第二面!G91=\"\",\"\",第二面!G91)","v":""}]
[null,"【","ハ．","郵便番号","】",null,"〒",{"$f":"IF(AND(第二面!H92<>\"\",第二面!J92<>\"\"),第二面!H92&\"-\"&第二面!J92,\"\")","v":""}]
[null,"【","二．","所在地","】",null,null,{"$f":"IF(第二面!H93=\"\",\"\",第二面!H93&第二面!I93)","v":""},{"$f":"IF(第二面!I93=\"\",\"\",第二面!I93)","v":""}]
[null,"【","ホ．","電話番号","】",null,null,{"$f":"IF(第二面!H94=\"\",\"\",第二面!H94&\"-\"&第二面!J94&\"-\"&第二面!L94)","v":""}]
[null,"【","ヘ．","登録番号","】",null,{"$f":"IF(第二面!G95=\"\",\"\",第二面!G95)","v":""}]
[null,"【","ト．","意見を聴いた設計図書","】",null,{"$f":"IF(第二面!G96=\"\",\"\",第二面!G96)","v":""}]
[]
[null,"（","その他の建築設備の設計に関し意見を聴いた者）"]
[null,"【","イ．","氏名","】",null,{"$f":"IF(第二面!G99=\"\",\"\",第二面!G99)","v":""}]
[null,"【","ロ．","勤務先","】",null,{"$f":"IF(第二面!G100=\"\",\"\",第二面!G100)","v":""}]
[null,"【","ハ．","郵便番号","】",null,"〒",{"$f":"IF(AND(第二面!H101<>\"\",第二面!J101<>\"\"),第二面!H101&\"-\"&第二面!J101,\"\")","v":""}]
[null,"【","二．","所在地","】",null,null,{"$f":"IF(第二面!H102=\"\",\"\",第二面!H102&第二面!I102)","v":""},{"$f":"IF(第二面!I102=\"\",\"\",第二面!I102)","v":""}]
[null,"【","ホ．","電話番号","】",null,null,{"$f":"IF(第二面!H103=\"\",\"\",第二面!H103&\"-\"&第二面!J103&\"-\"&第二面!L103)","v":""}]
[null,"【","ヘ．","登録番号","】",null,{"$f":"IF(第二面!G104=\"\",\"\",第二面!G104)","v":""}]
[null,"【","ト．","意見を聴いた設計図書","】",null,{"$f":"IF(第二面!G105=\"\",\"\",第二面!G105)","v":""}]
[]
[null,"【","イ．","氏名","】",null,{"$f":"IF(第二面!G107=\"\",\"\",第二面!G107)","v":""}]
[null,"【","ロ．","勤務先","】",null,{"$f":"IF(第二面!G108=\"\",\"\",第二面!G108)","v":""}]
[null,"【","ハ．","郵便番号","】",null,"〒",{"$f":"IF(AND(第二面!H109<>\"\",第二面!J109<>\"\"),第二面!H109&\"-\"&第二面!J109,\"\")","v":""}]
[null,"【","二．","所在地","】",null,null,{"$f":"IF(第二面!H110=\"\",\"\",第二面!H110&第二面!I110)","v":""},{"$f":"IF(第二面!I110=\"\",\"\",第二面!I110)","v":""}]
[null,"【","ホ．","電話番号","】",null,null,{"$f":"IF(第二面!H111=\"\",\"\",第二面!H111&\"-\"&第二面!J111&\"-\"&第二面!L111)","v":""}]
[null,"【","ヘ．","登録番号","】",null,{"$f":"IF(第二面!G112=\"\",\"\",第二面!G112)","v":""}]
[null,"【","ト．","意見を聴いた設計図書","】",null,{"$f":"IF(第二面!G113=\"\",\"\",第二面!G113)","v":""}]
[]
[null,"【","イ．","氏名","】",null,{"$f":"IF(第二面!G115=\"\",\"\",第二面!G115)","v":""}]
[null,"【","ロ．","勤務先","】",null,{"$f":"IF(第二面!G116=\"\",\"\",第二面!G116)","v":""}]
[null,"【","ハ．","郵便番号","】",null,"〒",{"$f":"IF(AND(第二面!H117<>\"\",第二面!J117<>\"\"),第二面!H117&\"-\"&第二面!J117,\"\")","v":""}]
[null,"【","二．","所在地","】",null,null,{"$f":"IF(第二面!H118=\"\",\"\",第二面!H118&第二面!I118)","v":""},{"$f":"IF(第二面!I118=\"\",\"\",第二面!I118)","v":""}]
[null,"【","ホ．","電話番号","】",null,null,{"$f":"IF(第二面!H119=\"\",\"\",第二面!H119&\"-\"&第二面!J119&\"-\"&第二面!L119)","v":""}]
[null,"【","ヘ．","登録番号","】",null,{"$f":"IF(第二面!G120=\"\",\"\",第二面!G120)","v":""}]
[null,"【","ト．","意見を聴いた設計図書","】",null,{"$f":"IF(第二面!G121=\"\",\"\",第二面!G121)","v":""}]
[]
[]
["【５．工事監理者】"]
[null,"（","代表となる工事監理者）"]
[null,"【","イ．","資格","】",null,"（",{"$f":"IF(第二面!H126=\"\",\"\",第二面!H126)","v":""},"）","建築士","（",{"$f":"IF(第二面!L126=\"\",\"\",第二面!L126)","v":""},"）","登録　　第",{"$f":"IF(第二面!O126=\"\",\"\",第二面!O126)","v":""},"号"]
[null,"【","ロ．","氏名","】",null,{"$f":"IF(第二面!G127=\"\",\"\",第二面!G127)","v":""}]
[null,"【","ハ．","建築士事務所名","】",null,"（",{"$f":"IF(第二面!H128=\"\",\"\",第二面!H128)","v":""},"）","建築士事務所","（",{"$f":"IF(第二面!L128=\"\",\"\",第二面!L128)","v":""},"）","知事登録　第",{"$f":"IF(第二面!O128=\"\",\"\",第二面!O128)","v":""},"号"]
[null,null,null,null,null,null,{"$f":"IF(第二面!G129=\"\",\"\",第二面!G129)","v":""}]
[null,"【","二．","郵便番号","】",null,"〒",{"$f":"IF(AND(第二面!H130<>\"\",第二面!J130<>\"\"),第二面!H130&\"-\"&第二面!J130,\"\")","v":""}]
[null,"【","ホ．","所在地","】",null,null,{"$f":"IF(第二面!H131=\"\",\"\",第二面!H131&第二面!I131)","v":""},{"$f":"IF(第二面!I131=\"\",\"\",第二面!I131)","v":""}]
[null,"【","へ．","電話番号","】",null,null,{"$f":"IF(第二面!H132=\"\",\"\",第二面!H132&\"-\"&第二面!J132&\"-\"&第二面!L132)","v":""}]
[null,"【","ト．","工事と照合する設計図書","】",null,{"$f":"IF(第二面!G133=\"\",\"\",第二面!G133)","v":""},null,{"$f":"IF(第二面!I133=\"\",\"\",第二面!I133)","v":""},null,{"$f":"IF(第二面!K133=\"\",\"\",第二面!K133)","v":""},null,{"$f":"IF(第二面!M133=\"\",\"\",第二面!M133)","v":""}]
[]
[null,"（","その他の工事監理者）"]
[null,"【","イ．","資格","】",null,"（",{"$f":"IF(第二面!H136=\"\",\"\",第二面!H136)","v":""},"）","建築士","（",{"$f":"IF(第二面!L136=\"\",\"\",第二面!L136)","v":""},"）","登録　　第",{"$f":"IF(第二面!O136=\"\",\"\",第二面!O136)","v":""},"号"]
[null,"【","ロ．","氏名","】",null,{"$f":"IF(第二面!G137=\"\",\"\",第二面!G137)","v":""}]
[null,"【","ハ．","建築士事務所名","】",null,"（",{"$f":"IF(第二面!H138=\"\",\"\",第二面!H138)","v":""},"）","建築士事務所","（",{"$f":"IF(第二面!L138=\"\",\"\",第二面!L138)","v":""},"）","知事登録　第",{"$f":"IF(第二面!O138=\"\",\"\",第二面!O138)","v":""},"号"]
[null,null,null,null,null,null,{"$f":"IF(第二面!G139=\"\",\"\",第二面!G139)","v":""}]
[null,"【","二．","郵便番号","】",null,"〒",{"$f":"IF(AND(第二面!H140<>\"\",第二面!J140<>\"\"),第二面!H140&\"-\"&第二面!J140,\"\")","v":""}]
[null,"【","ホ．","所在地","】",null,null,{"$f":"IF(第二面!H141=\"\",\"\",第二面!H141&第二面!I141)","v":""},{"$f":"IF(第二面!I141=\"\",\"\",第二面!I141)","v":""}]
[null,"【","へ．","電話番号","】",null,null,{"$f":"IF(第二面!H142=\"\",\"\",第二面!H142&\"-\"&第二面!J142&\"-\"&第二面!L142)","v":""}]
[null,"【","ト．","工事と照合する設計図書","】",null,{"$f":"IF(第二面!G143=\"\",\"\",第二面!G143)","v":""},null,{"$f":"IF(第二面!I143=\"\",\"\",第二面!I143)","v":""},null,{"$f":"IF(第二面!K143=\"\",\"\",第二面!K143)","v":""},null,{"$f":"IF(第二面!M143=\"\",\"\",第二面!M143)","v":""}]
[]
[null,"【","イ．","資格","】",null,"（",{"$f":"IF(第二面!H145=\"\",\"\",第二面!H145)","v":""},"）","建築士","（",{"$f":"IF(第二面!L145=\"\",\"\",第二面!L145)","v":""},"）","登録　　第",{"$f":"IF(第二面!O145=\"\",\"\",第二面!O145)","v":""},"号"]
[null,"【","ロ．","氏名","】",null,{"$f":"IF(第二面!G146=\"\",\"\",第二面!G146)","v":""}]
[null,"【","ハ．","建築士事務所名","】",null,"（",{"$f":"IF(第二面!H147=\"\",\"\",第二面!H147)","v":""},"）","建築士事務所","（",{"$f":"IF(第二面!L147=\"\",\"\",第二面!L147)","v":""},"）","知事登録　第",{"$f":"IF(第二面!O147=\"\",\"\",第二面!O147)","v":""},"号"]
[null,null,null,null,null,null,{"$f":"IF(第二面!G148=\"\",\"\",第二面!G148)","v":""}]
[null,"【","二．","郵便番号","】",null,"〒",{"$f":"IF(AND(第二面!H149<>\"\",第二面!J149<>\"\"),第二面!H149&\"-\"&第二面!J149,\"\")","v":""}]
[null,"【","ホ．","所在地","】",null,null,{"$f":"IF(第二面!H150=\"\",\"\",第二面!H150&第二面!I150)","v":""},{"$f":"IF(第二面!I150=\"\",\"\",第二面!I150)","v":""}]
[null,"【","へ．","電話番号","】",null,null,{"$f":"IF(第二面!H151=\"\",\"\",第二面!H151&\"-\"&第二面!J151&\"-\"&第二面!L151)","v":""}]
[null,"【","ト．","工事と照合する設計図書","】",null,{"$f":"IF(第二面!G152=\"\",\"\",第二面!G152)","v":""},null,{"$f":"IF(第二面!I152=\"\",\"\",第二面!I152)","v":""},null,{"$f":"IF(第二面!K152=\"\",\"\",第二面!K152)","v":""},null,{"$f":"IF(第二面!M152=\"\",\"\",第二面!M152)","v":""}]
[]
[null,"【","イ．","資格","】",null,"（",{"$f":"IF(第二面!H154=\"\",\"\",第二面!H154)","v":""},"）","建築士","（",{"$f":"IF(第二面!L154=\"\",\"\",第二面!L154)","v":""},"）","登録　　第",{"$f":"IF(第二面!O154=\"\",\"\",第二面!O154)","v":""},"号"]
[null,"【","ロ．","氏名","】",null,{"$f":"IF(第二面!G155=\"\",\"\",第二面!G155)","v":""}]
[null,"【","ハ．","建築士事務所名","】",null,"（",{"$f":"IF(第二面!H156=\"\",\"\",第二面!H156)","v":""},"）","建築士事務所","（",{"$f":"IF(第二面!L156=\"\",\"\",第二面!L156)","v":""},"）","知事登録　第",{"$f":"IF(第二面!O156=\"\",\"\",第二面!O156)","v":""},"号"]
[null,null,null,null,null,null,{"$f":"IF(第二面!G157=\"\",\"\",第二面!G157)","v":""}]
[null,"【","二．","郵便番号","】",null,"〒",{"$f":"IF(AND(第二面!H158<>\"\",第二面!J158<>\"\"),第二面!H158&\"-\"&第二面!J158,\"\")","v":""}]
[null,"【","ホ．","所在地","】",null,null,{"$f":"IF(第二面!H159=\"\",\"\",第二面!H159&第二面!I159)","v":""},{"$f":"IF(第二面!I159=\"\",\"\",第二面!I159)","v":""}]
[null,"【","へ．","電話番号","】",null,null,{"$f":"IF(第二面!H160=\"\",\"\",第二面!H160&\"-\"&第二面!J160&\"-\"&第二面!L160)","v":""}]
[null,"【","ト．","工事と照合する設計図書","】",null,{"$f":"IF(第二面!G161=\"\",\"\",第二面!G161)","v":""},null,{"$f":"IF(第二面!I161=\"\",\"\",第二面!I161)","v":""},null,{"$f":"IF(第二面!K161=\"\",\"\",第二面!K161)","v":""},null,{"$f":"IF(第二面!M161=\"\",\"\",第二面!M161)","v":""}]
[]
["【６．工事施工者】"]
[null,"【","イ．","氏名","】",null,{"$f":"IF(第二面!G164=\"\",\"\",第二面!G164)","v":""}]
[null,"【","ロ．","営業所名","】",null,"建設業の許可",null,"（",{"$f":"IF(第二面!J165=\"\",\"\",第二面!J165)","v":""},null,null,"）","第",{"$f":"IF(第二面!O165=\"\",\"\",第二面!O165)","v":""},"号"]
[null,null,null,null,null,null,{"$f":"IF(第二面!G166=\"\",\"\",第二面!G166)","v":""}]
[null,"【","ハ．","郵便番号","】",null,"〒",{"$f":"IF(AND(第二面!H167<>\"\",第二面!J167<>\"\"),第二面!H167&\"-\"&第二面!J167,\"\")","v":""}]
[null,"【","二．","所在地","】",null,null,{"$f":"IF(第二面!H168=\"\",\"\",第二面!H168&第二面!I168)","v":""},{"$f":"IF(第二面!I168=\"\",\"\",第二面!I168)","v":""}]
[null,"【","ホ．","電話番号","】",null,null,{"$f":"IF(第二面!H169=\"\",\"\",第二面!H169&\"-\"&第二面!J169&\"-\"&第二面!L169)","v":""}]
["【７．構造計算適合性判定の申請】"]
[null,null,{"$f":"IF(第二面!G170=\"\",\"\",第二面!G170)","v":"□"},"申請済",{"$f":"IF(第二面!H171=\"\",\"\",第二面!H171)","v":""},null,null,null,null,null,null,{"$f":"IF(第二面!L171=\"\",\"\",第二面!L171&第二面!M171)","v":""}]
[null,null,{"$f":"IF(第二面!G172=\"\",\"\",第二面!G172)","v":"□"},"未申請",{"$f":"IF(第二面!H173=\"\",\"\",第二面!H173)","v":""},null,null,null,null,null,null,{"$f":"IF(第二面!L173=\"\",\"\",第二面!L173&第二面!M173)","v":""}]
[null,null,{"$f":"IF(第二面!G174=\"\",\"\",第二面!G174)","v":"□"},"申請不要"]
["【８．建築物エネルギー消費性能確保計画の提出】"]
[null,null,{"$f":"IF(第二面!G176=\"\",\"\",第二面!G176)","v":"□"},"提出済","（",{"$f":"IF(第二面!J176=\"\",\"\",第二面!J176)","v":""},null,null,null,null,null,null,null,null,null,"）"]
[null,null,{"$f":"IF(第二面!G177=\"\",\"\",第二面!G177)","v":"□"},"未提出","（",{"$f":"IF(第二面!J177=\"\",\"\",第二面!J177)","v":""},null,null,null,null,null,null,null,null,null,"）"]
[null,null,{"$f":"IF(第二面!G178=\"\",\"\",第二面!G178)","v":"□"},"提出不要","（",{"$f":"IF(第二面!J178=\"\",\"\",第二面!J178)","v":""},null,null,null,null,null,null,null,null,null,"）"]
["【９．備考】",null,null,null,null,null,{"$f":"IF(第二面!G179=\"\",\"\",第二面!G179)","v":""},null,null,null,null,null,null,"新築工事"]
[null,null,null,null,null,null,{"$f":"IF(第二面!G180=\"\",\"\",第二面!G180)","v":""},null,null,null,null,{"$f":"IF(第二面!L180=\"\",\"\",第二面!L180)","v":""}]
[null,null,null,null,null,null,{"$f":"IF(第二面!G181=\"\",\"\",第二面!G181)","v":""},null,null,null,null,{"$f":"IF(第二面!L181=\"\",\"\",第二面!L181)","v":""}]
[null,null,null,null,null,null,{"$f":"IF(第二面!G182=\"\",\"\",第二面!G182)","v":""},null,null,null,null,{"$f":"IF(第二面!L182=\"\",\"\",第二面!L182)","v":""}]
[null,null,null,null,null,null,{"$f":"IF(第二面!G183=\"\",\"\",第二面!G183)","v":""},null,null,null,null,{"$f":"IF(第二面!L183=\"\",\"\",第二面!L183)","v":""}]

{"sheet":"建築主追加用(申)","index":5,"n_rows":30,"n_cols":11,"rows_kept":30,"cut":false,"hidden":false,"merged":[[10,0,10,16],[0,0,0,16],[1,0,1,3],[2,0,2,3],[3,6,3,14],[8,8,8,14],[6,6,6,13],[4,6,5,14],[13,6,13,14],[16,6,16,13],[11,0,11,16],[12,0,12,3],[14,6,15,14],[30,0,30,16],[28,8,28,14],[26,6,26,13],[18,8,18,14],[23,6,23,14],[21,0,21,16],[20,0,20,16],[22,0,22,3],[24,6,25,14]]}
["（第二面）"]
["別紙　建築主追加様式"]
["【１．建築主】"]
[null,"【","イ．","氏名のフリガナ","】"]
[null,"【","ロ．","氏名","】"]
[]
[]
[null,"【","ハ．","郵便番号","】",null,"〒",null,"－"]
[null,"【","二．","住所","】"]
[null,"【","ホ．","電話番号","】",null,null,null,"－",null,"－"]
[]
[]
["【１．建築主】"]
[null,"【","イ．","氏名のフリガナ","】"]
[null,"【","ロ．","氏名","】"]
[]
[]
[null,"【","ハ．","郵便番号","】",null,"〒",null,"－"]
[null,"【","二．","住所","】"]
[null,"【","ホ．","電話番号","】",null,null,null,"－",null,"－"]
[]
[]
["【１．建築主】"]
[null,"【","イ．","氏名のフリガナ","】"]
[null,"【","ロ．","氏名","】"]
[]
[]
[null,"【","ハ．","郵便番号","】",null,"〒",null,"－"]
[null,"【","二．","住所","】"]
[null,"【","ホ．","電話番号","】",null,null,null,"－",null,"－"]

{"sheet":"第二面 別紙建築主追加様式（印刷用）","index":6,"n_rows":30,"n_cols":9,"rows_kept":30,"cut":false,"hidden":true,"merged":[[10,0,10,16],[9,7,9,11],[6,6,6,13],[7,7,7,9],[8,7,8,14],[0,0,0,16],[1,0,1,3],[2,0,2,3],[3,6,3,14],[4,6,5,14],[12,0,12,3],[11,0,11,16],[20,0,20,16],[22,0,22,3],[24,6,25,14],[13,6,13,14],[16,6,16,13],[18,7,18,14],[17,7,17,9],[19,7,19,11],[14,6,15,14],[21,0,21,16],[23,6,23,14],[30,0,30,16],[29,7,29,11],[28,7,28,14],[27,7,27,9],[26,6,26,13]]}
["（第二面）"]
["別紙　建築主追加様式"]
["【１．建築主】"]
[null,"【","イ．","氏名のフリガナ","】",null,{"$f":"IF('建築主追加用(申)'!G4:O4=\"\",\"\",'建築主追加用(申)'!G4:O4)","v":""}]
[null,"【","ロ．","氏名","】",null,{"$f":"IF('建築主追加用(申)'!G5:O5=\"\",\"\",'建築主追加用(申)'!G5:O5)","v":""}]
[]
[]
[null,"【","ハ．","郵便番号","】",null,"〒",{"$f":"IF(AND('建築主追加用(申)'!H8<>\"\",'建築主追加用(申)'!J8<>\"\"),'建築主追加用(申)'!H8&\"-\"&'建築主追加用(申)'!J8,\"\")","v":""}]
[null,"【","二．","住所","】",null,null,{"$f":"IF('建築主追加用(申)'!H9=\"\",\"\",'建築主追加用(申)'!H9&'建築主追加用(申)'!I9)","v":""}]
[null,"【","ホ．","電話番号","】",null,null,{"$f":"IF('建築主追加用(申)'!H10=\"\",\"\",'建築主追加用(申)'!H10&\"-\"&'建築主追加用(申)'!J10&\"-\"&'建築主追加用(申)'!L10)","v":""}]
[]
[]
["【１．建築主】"]
[null,"【","イ．","氏名のフリガナ","】",null,{"$f":"IF('建築主追加用(申)'!G14:O14=\"\",\"\",'建築主追加用(申)'!G14:O14)","v":""}]
[null,"【","ロ．","氏名","】",null,{"$f":"IF('建築主追加用(申)'!G15:O15=\"\",\"\",'建築主追加用(申)'!G15:O15)","v":""}]
[]
[]
[null,"【","ハ．","郵便番号","】",null,"〒",{"$f":"IF(AND('建築主追加用(申)'!H18<>\"\",'建築主追加用(申)'!J18<>\"\"),'建築主追加用(申)'!H18&\"-\"&'建築主追加用(申)'!J18,\"\")","v":""}]
[null,"【","二．","住所","】",null,null,{"$f":"IF('建築主追加用(申)'!H19=\"\",\"\",'建築主追加用(申)'!H19&'建築主追加用(申)'!I19)","v":""},{"$f":"IF('建築主追加用(申)'!I19=\"\",\"\",'建築主追加用(申)'!I19)","v":""}]
[null,"【","ホ．","電話番号","】",null,null,{"$f":"IF('建築主追加用(申)'!H20=\"\",\"\",'建築主追加用(申)'!H20&\"-\"&'建築主追加用(申)'!J20&\"-\"&'建築主追加用(申)'!L20)","v":""}]
[]
[]
["【１．建築主】"]
[null,"【","イ．","氏名のフリガナ","】",null,{"$f":"IF('建築主追加用(申)'!G24:O24=\"\",\"\",'建築主追加用(申)'!G24:O24)","v":""}]
[null,"【","ロ．","氏名","】",null,{"$f":"IF('建築主追加用(申)'!G25:O25=\"\",\"\",'建築主追加用(申)'!G25:O25)","v":""}]
[]
[]
[null,"【","ハ．","郵便番号","】",null,"〒",{"$f":"IF(AND('建築主追加用(申)'!H28<>\"\",'建築主追加用(申)'!J28<>\"\"),'建築主追加用(申)'!H28&\"-\"&'建築主追加用(申)'!J28,\"\")","v":""}]
[null,"【","二．","住所","】",null,null,{"$f":"IF('建築主追加用(申)'!H29=\"\",\"\",'建築主追加用(申)'!H29&'建築主追加用(申)'!I29)","v":""},{"$f":"IF('建築主追加用(申)'!I29=\"\",\"\",'建築主追加用(申)'!I29)","v":""}]
[null,"【","ホ．","電話番号","】",null,null,{"$f":"IF('建築主追加用(申)'!H30=\"\",\"\",'建築主追加用(申)'!H30&\"-\"&'建築主追加用(申)'!J30&\"-\"&'建築主追加用(申)'!L30)","v":""}]

{"sheet":"設計者追加用(申)","index":7,"n_rows":52,"n_cols":16,"rows_kept":52,"cut":false,"hidden":false,"merged":[[11,12,11,13],[11,8,11,9],[5,6,5,14],[11,6,11,7],[9,8,9,14],[0,0,0,16],[1,0,1,3],[21,8,21,9],[3,2,3,3],[7,6,7,14],[19,8,19,14],[21,10,21,11],[13,2,13,3],[21,6,21,7],[21,12,21,13],[21,3,21,4],[15,6,15,14],[17,6,17,14],[11,10,11,11],[2,0,2,3],[11,3,11,4],[43,2,43,3],[41,3,41,4],[23,2,23,3],[33,2,33,3],[31,3,31,4],[31,12,31,13],[31,6,31,7],[35,6,35,14],[25,6,25,14],[27,6,27,14],[31,10,31,11],[31,8,31,9],[29,8,29,14],[45,6,45,14],[41,6,41,7],[37,6,37,14],[39,8,39,14],[41,8,41,9],[41,10,41,11],[41,12,41,13],[47,6,47,14],[49,8,49,14],[51,3,51,4],[51,6,51,7],[51,8,51,9],[51,10,51,11],[51,12,51,13]]}
["（第二面）"]
["別紙　設計者追加様式"]
["【３．設計者】"]
[null,"（","その他の設計者）"]
[null,"【","イ．","資格","】",null,"（",null,"）","建築士","（",null,"）","登録　　第",null,"号"]
[null,"【","ロ．","氏名","】"]
[null,"【","ハ．","建築士事務所名","】",null,"（",null,"）","建築士事務所","（",null,"）","知事登録　第",null,"号"]
[]
[null,"【","二．","郵便番号","】",null,"〒",null,"-"]
[null,"【","ホ．","所在地","】"]
[null,"【","へ．","電話番号","】",null,null,null,"-",null,"-"]
[null,"【","ト．","作成又は確認した設計図書",null,"】"]
[]
[]
[null,"【","イ．","資格","】",null,"（",null,"）","建築士","（",null,"）","登録　　第",null,"号"]
[null,"【","ロ．","氏名","】"]
[null,"【","ハ．","建築士事務所名","】",null,"（",null,"）","建築士事務所","（",null,"）","知事登録　第",null,"号"]
[]
[null,"【","二．","郵便番号","】",null,"〒",null,"-"]
[null,"【","ホ．","所在地","】"]
[null,"【","へ．","電話番号","】",null,null,null,"-",null,"-"]
[null,"【","ト．","作成又は確認した設計図書",null,"】"]
[]
[]
[null,"【","イ．","資格","】",null,"（",null,"）","建築士","（",null,"）","登録　　第",null,"号"]
[null,"【","ロ．","氏名","】"]
[null,"【","ハ．","建築士事務所名","】",null,"（",null,"）","建築士事務所","（",null,"）","知事登録　第",null,"号"]
[]
[null,"【","二．","郵便番号","】",null,"〒",null,"-"]
[null,"【","ホ．","所在地","】"]
[null,"【","へ．","電話番号","】",null,null,null,"-",null,"-"]
[null,"【","ト．","作成又は確認した設計図書",null,"】"]
[]
[]
[null,"【","イ．","資格","】",null,"（",null,"）","建築士","（",null,"）","登録　　第",null,"号"]
[null,"【","ロ．","氏名","】"]
[null,"【","ハ．","建築士事務所名","】",null,"（",null,"）","建築士事務所","（",null,"）","知事登録　第",null,"号"]
[]
[null,"【","二．","郵便番号","】",null,"〒",null,"-"]
[null,"【","ホ．","所在地","】"]
[null,"【","へ．","電話番号","】",null,null,null,"-",null,"-"]
[null,"【","ト．","作成又は確認した設計図書",null,"】"]
[]
[]
[null,"【","イ．","資格","】",null,"（",null,"）","建築士","（",null,"）","登録　　第",null,"号"]
[null,"【","ロ．","氏名","】"]
[null,"【","ハ．","建築士事務所名","】",null,"（",null,"）","建築士事務所","（",null,"）","知事登録　第",null,"号"]
[]
[null,"【","二．","郵便番号","】",null,"〒",null,"-"]
[null,"【","ホ．","所在地","】"]
[null,"【","へ．","電話番号","】",null,null,null,"-",null,"-"]
[null,"【","ト．","作成又は確認した設計図書",null,"】"]

{"sheet":"第二面 別紙設計者追加様式 (印刷用)","index":8,"n_rows":52,"n_cols":16,"rows_kept":52,"cut":false,"hidden":true,"merged":[[47,6,47,14],[51,3,51,4],[51,6,51,7],[51,8,51,9],[51,10,51,11],[51,12,51,13],[48,7,48,9],[49,7,49,14],[50,7,50,11],[43,2,43,3],[45,6,45,14],[41,6,41,7],[37,6,37,14],[41,8,41,9],[38,7,38,9],[39,7,39,14],[40,7,40,11],[41,3,41,4],[41,10,41,11],[41,12,41,13],[11,3,11,4],[11,12,11,13],[11,8,11,9],[33,2,33,3],[31,12,31,13],[31,6,31,7],[31,3,31,4],[31,10,31,11],[23,2,23,3],[21,3,21,4],[13,2,13,3],[21,12,21,13],[15,6,15,14],[19,7,19,14],[20,7,20,11],[21,8,21,9],[11,6,11,7],[8,7,8,9],[35,6,35,14],[25,6,25,14],[21,6,21,7],[10,7,10,11],[18,7,18,9],[17,6,17,14],[21,10,21,11],[11,10,11,11],[27,6,27,14],[28,7,28,9],[29,7,29,14],[30,7,30,11],[31,8,31,9],[0,0,0,16],[1,0,1,3],[2,0,2,3],[9,7,9,14],[3,2,3,3],[5,6,5,14],[7,6,7,14]]}
["（第二面）"]
["別紙　設計者追加様式"]
["【３．設計者】"]
[null,"（","その他の設計者）"]
[null,"【","イ．","資格","】",null,"（",null,"）","建築士","（",{"$f":"IF('設計者追加用(申)'!L5=\"\",\"\",'設計者追加用(申)'!L5)","v":""},"）","登録　　第",{"$f":"IF('設計者追加用(申)'!O5=\"\",\"\",'設計者追加用(申)'!O5)","v":""},"号"]
[null,"【","ロ．","氏名","】",null,{"$f":"IF('設計者追加用(申)'!G6=\"\",\"\",'設計者追加用(申)'!G6)","v":""}]
[null,"【","ハ．","建築士事務所名","】",null,"（",{"$f":"IF('設計者追加用(申)'!H7=\"\",\"\",'設計者追加用(申)'!H7)","v":""},"）","建築士事務所","（",{"$f":"IF('設計者追加用(申)'!L7=\"\",\"\",'設計者追加用(申)'!L7)","v":""},"）","知事登録　第",{"$f":"IF('設計者追加用(申)'!O7=\"\",\"\",'設計者追加用(申)'!O7)","v":""},"号"]
[null,null,null,null,null,null,{"$f":"IF('設計者追加用(申)'!G8=\"\",\"\",'設計者追加用(申)'!G8)","v":""}]
[null,"【","二．","郵便番号","】",null,"〒",{"$f":"IF(AND('設計者追加用(申)'!H9<>\"\",'設計者追加用(申)'!J9<>\"\"),'設計者追加用(申)'!H9&\"-\"&'設計者追加用(申)'!J9,\"\")","v":""}]
[null,"【","ホ．","所在地","】",null,null,{"$f":"IF('設計者追加用(申)'!H10=\"\",\"\",'設計者追加用(申)'!H10&'設計者追加用(申)'!I10)","v":""}]
[null,"【","へ．","電話番号","】",null,null,{"$f":"IF('設計者追加用(申)'!H11=\"\",\"\",'設計者追加用(申)'!H11&\"-\"&'設計者追加用(申)'!J11&\"-\"&'設計者追加用(申)'!L11)","v":""}]
[null,"【","ト．","作成又は確認した設計図書",null,"】",{"$f":"IF('設計者追加用(申)'!G12=\"\",\"\",'設計者追加用(申)'!G12)","v":""},null,{"$f":"IF('設計者追加用(申)'!I12=\"\",\"\",'設計者追加用(申)'!I12)","v":""},null,{"$f":"IF('設計者追加用(申)'!K12=\"\",\"\",'設計者追加用(申)'!K12)","v":""},null,{"$f":"IF('設計者追加用(申)'!M12=\"\",\"\",'設計者追加用(申)'!M12)","v":""}]
[]
[null,"（","その他の設計者）"]
[null,"【","イ．","資格","】",null,"（",{"$f":"IF('設計者追加用(申)'!H15=\"\",\"\",'設計者追加用(申)'!H15)","v":""},"）","建築士","（",{"$f":"IF('設計者追加用(申)'!L15=\"\",\"\",'設計者追加用(申)'!L15)","v":""},"）","登録　　第",{"$f":"IF('設計者追加用(申)'!O15=\"\",\"\",'設計者追加用(申)'!O15)","v":""},"号"]
[null,"【","ロ．","氏名","】",null,{"$f":"IF('設計者追加用(申)'!G16=\"\",\"\",'設計者追加用(申)'!G16)","v":""}]
[null,"【","ハ．","建築士事務所名","】",null,"（",{"$f":"IF('設計者追加用(申)'!H17=\"\",\"\",'設計者追加用(申)'!H17)","v":""},"）","建築士事務所","（",{"$f":"IF('設計者追加用(申)'!L17=\"\",\"\",'設計者追加用(申)'!L17)","v":""},"）","知事登録　第",{"$f":"IF('設計者追加用(申)'!O17=\"\",\"\",'設計者追加用(申)'!O17)","v":""},"号"]
[null,null,null,null,null,null,{"$f":"IF('設計者追加用(申)'!G18=\"\",\"\",'設計者追加用(申)'!G18)","v":""}]
[null,"【","二．","郵便番号","】",null,"〒",{"$f":"IF(AND('設計者追加用(申)'!H19<>\"\",'設計者追加用(申)'!J19<>\"\"),'設計者追加用(申)'!H19&\"-\"&'設計者追加用(申)'!J19,\"\")","v":""}]
[null,"【","ホ．","所在地","】",null,null,{"$f":"IF('設計者追加用(申)'!H20=\"\",\"\",'設計者追加用(申)'!H20&'設計者追加用(申)'!I20)","v":""}]
[null,"【","へ．","電話番号","】",null,null,{"$f":"IF('設計者追加用(申)'!H21=\"\",\"\",'設計者追加用(申)'!H21&\"-\"&'設計者追加用(申)'!J21&\"-\"&'設計者追加用(申)'!L21)","v":""}]
[null,"【","ト．","作成又は確認した設計図書",null,"】",{"$f":"IF('設計者追加用(申)'!G22=\"\",\"\",'設計者追加用(申)'!G22)","v":""},null,{"$f":"IF('設計者追加用(申)'!I22=\"\",\"\",'設計者追加用(申)'!I22)","v":""},null,{"$f":"IF('設計者追加用(申)'!K22=\"\",\"\",'設計者追加用(申)'!K22)","v":""},null,{"$f":"IF('設計者追加用(申)'!M22=\"\",\"\",'設計者追加用(申)'!M22)","v":""}]
[]
[null,"（","その他の設計者）"]
[null,"【","イ．","資格","】",null,"（",{"$f":"IF('設計者追加用(申)'!H25=\"\",\"\",'設計者追加用(申)'!H25)","v":""},"）","建築士","（",{"$f":"IF('設計者追加用(申)'!L25=\"\",\"\",'設計者追加用(申)'!L25)","v":""},"）","登録　　第",{"$f":"IF('設計者追加用(申)'!O25=\"\",\"\",'設計者追加用(申)'!O25)","v":""},"号"]
[null,"【","ロ．","氏名","】",null,{"$f":"IF('設計者追加用(申)'!G26=\"\",\"\",'設計者追加用(申)'!G26)","v":""}]
[null,"【","ハ．","建築士事務所名","】",null,"（",{"$f":"IF('設計者追加用(申)'!H27=\"\",\"\",'設計者追加用(申)'!H27)","v":""},"）","建築士事務所","（",{"$f":"IF('設計者追加用(申)'!L27=\"\",\"\",'設計者追加用(申)'!L27)","v":""},"）","知事登録　第",{"$f":"IF('設計者追加用(申)'!O27=\"\",\"\",'設計者追加用(申)'!O27)","v":""},"号"]
[null,null,null,null,null,null,{"$f":"IF('設計者追加用(申)'!G28=\"\",\"\",'設計者追加用(申)'!G28)","v":""}]
[null,"【","二．","郵便番号","】",null,"〒",{"$f":"IF(AND('設計者追加用(申)'!H29<>\"\",'設計者追加用(申)'!J29<>\"\"),'設計者追加用(申)'!H29&\"-\"&'設計者追加用(申)'!J29,\"\")","v":""}]
[null,"【","ホ．","所在地","】",null,null,{"$f":"IF('設計者追加用(申)'!H30=\"\",\"\",'設計者追加用(申)'!H30&'設計者追加用(申)'!I30)","v":""}]
[null,"【","へ．","電話番号","】",null,null,{"$f":"IF('設計者追加用(申)'!H31=\"\",\"\",'設計者追加用(申)'!H31&\"-\"&'設計者追加用(申)'!J31&\"-\"&'設計者追加用(申)'!L31)","v":""}]
[null,"【","ト．","作成又は確認した設計図書",null,"】",{"$f":"IF('設計者追加用(申)'!G32=\"\",\"\",'設計者追加用(申)'!G32)","v":""},null,{"$f":"IF('設計者追加用(申)'!I32=\"\",\"\",'設計者追加用(申)'!I32)","v":""},null,{"$f":"IF('設計者追加用(申)'!K32=\"\",\"\",'設計者追加用(申)'!K32)","v":""},null,{"$f":"IF('設計者追加用(申)'!M32=\"\",\"\",'設計者追加用(申)'!M32)","v":""}]
[]
[null,"（","その他の設計者）"]
[null,"【","イ．","資格","】",null,"（",{"$f":"IF('設計者追加用(申)'!H35=\"\",\"\",'設計者追加用(申)'!H35)","v":""},"）","建築士","（",{"$f":"IF('設計者追加用(申)'!L35=\"\",\"\",'設計者追加用(申)'!L35)","v":""},"）","登録　　第",{"$f":"IF('設計者追加用(申)'!O35=\"\",\"\",'設計者追加用(申)'!O35)","v":""},"号"]
[null,"【","ロ．","氏名","】",null,{"$f":"IF('設計者追加用(申)'!G36=\"\",\"\",'設計者追加用(申)'!G36)","v":""}]
[null,"【","ハ．","建築士事務所名","】",null,"（",{"$f":"IF('設計者追加用(申)'!H37=\"\",\"\",'設計者追加用(申)'!H37)","v":""},"）","建築士事務所","（",{"$f":"IF('設計者追加用(申)'!L37=\"\",\"\",'設計者追加用(申)'!L37)","v":""},"）","知事登録　第",{"$f":"IF('設計者追加用(申)'!O37=\"\",\"\",'設計者追加用(申)'!O37)","v":""},"号"]
[null,null,null,null,null,null,{"$f":"IF('設計者追加用(申)'!G38=\"\",\"\",'設計者追加用(申)'!G38)","v":""}]
[null,"【","二．","郵便番号","】",null,"〒",{"$f":"IF(AND('設計者追加用(申)'!H39<>\"\",'設計者追加用(申)'!J39<>\"\"),'設計者追加用(申)'!H39&\"-\"&'設計者追加用(申)'!J39,\"\")","v":""}]
[null,"【","ホ．","所在地","】",null,null,{"$f":"IF('設計者追加用(申)'!H40=\"\",\"\",'設計者追加用(申)'!H40&'設計者追加用(申)'!I40)","v":""}]
[null,"【","へ．","電話番号","】",null,null,{"$f":"IF('設計者追加用(申)'!H41=\"\",\"\",'設計者追加用(申)'!H41&\"-\"&'設計者追加用(申)'!J41&\"-\"&'設計者追加用(申)'!L41)","v":""}]
[null,"【","ト．","作成又は確認した設計図書",null,"】",{"$f":"IF('設計者追加用(申)'!G42=\"\",\"\",'設計者追加用(申)'!G42)","v":""},null,{"$f":"IF('設計者追加用(申)'!I42=\"\",\"\",'設計者追加用(申)'!I42)","v":""},null,{"$f":"IF('設計者追加用(申)'!K42=\"\",\"\",'設計者追加用(申)'!K42)","v":""},null,{"$f":"IF('設計者追加用(申)'!M42=\"\",\"\",'設計者追加用(申)'!M42)","v":""}]
[]
[null,"（","その他の設計者）"]
[null,"【","イ．","資格","】",null,"（",{"$f":"IF('設計者追加用(申)'!H45=\"\",\"\",'設計者追加用(申)'!H45)","v":""},"）","建築士","（",{"$f":"IF('設計者追加用(申)'!L45=\"\",\"\",'設計者追加用(申)'!L45)","v":""},"）","登録　　第",{"$f":"IF('設計者追加用(申)'!O45=\"\",\"\",'設計者追加用(申)'!O45)","v":""},"号"]
[null,"【","ロ．","氏名","】",null,{"$f":"IF('設計者追加用(申)'!G46=\"\",\"\",'設計者追加用(申)'!G46)","v":""}]
[null,"【","ハ．","建築士事務所名","】",null,"（",{"$f":"IF('設計者追加用(申)'!H47=\"\",\"\",'設計者追加用(申)'!H47)","v":""},"）","建築士事務所","（",{"$f":"IF('設計者追加用(申)'!L47=\"\",\"\",'設計者追加用(申)'!L47)","v":""},"）","知事登録　第",{"$f":"IF('設計者追加用(申)'!O47=\"\",\"\",'設計者追加用(申)'!O47)","v":""},"号"]
[null,null,null,null,null,null,{"$f":"IF('設計者追加用(申)'!G48=\"\",\"\",'設計者追加用(申)'!G48)","v":""}]
[null,"【","二．","郵便番号","】",null,"〒",{"$f":"IF(AND('設計者追加用(申)'!H49<>\"\",'設計者追加用(申)'!J49<>\"\"),'設計者追加用(申)'!H49&\"-\"&'設計者追加用(申)'!J49,\"\")","v":""}]
[null,"【","ホ．","所在地","】",null,null,{"$f":"IF('設計者追加用(申)'!H50=\"\",\"\",'設計者追加用(申)'!H50&'設計者追加用(申)'!I50)","v":""}]
[null,"【","へ．","電話番号","】",null,null,{"$f":"IF('設計者追加用(申)'!H51=\"\",\"\",'設計者追加用(申)'!H51&\"-\"&'設計者追加用(申)'!J51&\"-\"&'設計者追加用(申)'!L51)","v":""}]
[null,"【","ト．","作成又は確認した設計図書",null,"】",{"$f":"IF('設計者追加用(申)'!G52=\"\",\"\",'設計者追加用(申)'!G52)","v":""},null,{"$f":"IF('設計者追加用(申)'!I52=\"\",\"\",'設計者追加用(申)'!I52)","v":""},null,{"$f":"IF('設計者追加用(申)'!K52=\"\",\"\",'設計者追加用(申)'!K52)","v":""},null,{"$f":"IF('設計者追加用(申)'!M52=\"\",\"\",'設計者追加用(申)'!M52)","v":""}]

{"sheet":"第二面 別紙工事監理者追加様式 (印刷用)","index":9,"n_rows":52,"n_cols":16,"rows_kept":52,"cut":false,"hidden":true,"merged":[[0,0,0,16],[1,0,1,3],[21,12,21,13],[5,6,5,14],[11,6,11,7],[13,2,13,4],[2,0,2,3],[21,8,21,9],[21,6,21,7],[19,7,19,14],[17,6,17,14],[11,10,11,11],[15,6,15,14],[8,7,8,9],[11,12,11,13],[3,2,3,4],[43,2,43,4],[25,6,25,14],[49,7,49,14],[51,12,51,13],[38,7,38,9],[39,7,39,14],[40,7,40,11],[45,6,45,14],[41,10,41,11],[41,12,41,13],[41,6,41,7],[41,8,41,9],[48,7,48,9],[29,7,29,14],[31,12,31,13],[51,6,51,7],[51,8,51,9],[51,10,51,11],[30,7,30,11],[50,7,50,11],[47,6,47,14],[35,6,35,14],[37,6,37,14],[33,2,33,4],[31,8,31,9],[21,10,21,11],[27,6,27,14],[31,6,31,7],[28,7,28,9],[31,10,31,11],[23,2,23,4],[20,7,20,11],[7,6,7,14],[9,7,9,14],[10,7,10,11],[18,7,18,9],[11,8,11,9]]}
["（第二面）"]
["別紙　工事監理者追加様式"]
["【５．工事監理者】"]
[null,"（","その他の工事監理者）"]
[null,"【","イ．","資格","】",null,"（",{"$f":"IF('工事監理者追加用(申)'!H5=\"\",\"\",'工事監理者追加用(申)'!H5)","v":""},"）","建築士","（",{"$f":"IF('工事監理者追加用(申)'!L5=\"\",\"\",'工事監理者追加用(申)'!L5)","v":""},"）","登録　　第",{"$f":"IF('工事監理者追加用(申)'!O5=\"\",\"\",'工事監理者追加用(申)'!O5)","v":""},"号"]
[null,"【","ロ．","氏名","】",null,{"$f":"IF('工事監理者追加用(申)'!G6=\"\",\"\",'工事監理者追加用(申)'!G6)","v":""}]
[null,"【","ハ．","建築士事務所名","】",null,"（",{"$f":"IF('工事監理者追加用(申)'!H7=\"\",\"\",'工事監理者追加用(申)'!H7)","v":""},"）","建築士事務所","（",{"$f":"IF('工事監理者追加用(申)'!L7=\"\",\"\",'工事監理者追加用(申)'!L7)","v":""},"）","知事登録　第",{"$f":"IF('工事監理者追加用(申)'!O7=\"\",\"\",'工事監理者追加用(申)'!O7)","v":""},"号"]
[null,null,null,null,null,null,{"$f":"IF('工事監理者追加用(申)'!G8=\"\",\"\",'工事監理者追加用(申)'!G8:O8)","v":""}]
[null,"【","二．","郵便番号","】",null,"〒",{"$f":"IF(AND('工事監理者追加用(申)'!H9<>\"\",'工事監理者追加用(申)'!J9<>\"\"),'工事監理者追加用(申)'!H9&\"-\"&'工事監理者追加用(申)'!J9,\"\")","v":""}]
[null,"【","ホ．","所在地","】",null,null,{"$f":"IF('工事監理者追加用(申)'!H10=\"\",\"\",'工事監理者追加用(申)'!H10&'工事監理者追加用(申)'!I10)","v":""}]
[null,"【","へ．","電話番号","】",null,null,{"$f":"IF('工事監理者追加用(申)'!H11=\"\",\"\",'工事監理者追加用(申)'!H11&\"-\"&'工事監理者追加用(申)'!J11&\"-\"&'工事監理者追加用(申)'!L11)","v":""}]
[null,"【","ト．","工事と照合する設計図書","】",null,{"$f":"IF('工事監理者追加用(申)'!G12=\"\",\"\",'工事監理者追加用(申)'!G12)","v":""},null,{"$f":"IF('工事監理者追加用(申)'!I12=\"\",\"\",'工事監理者追加用(申)'!I12)","v":""},null,{"$f":"IF('工事監理者追加用(申)'!K12=\"\",\"\",'工事監理者追加用(申)'!K12)","v":""},null,{"$f":"IF('工事監理者追加用(申)'!M12=\"\",\"\",'工事監理者追加用(申)'!M12)","v":""}]
[]
[null,"（","その他の工事監理者）"]
[null,"【","イ．","資格","】",null,"（",{"$f":"IF('工事監理者追加用(申)'!H15=\"\",\"\",'工事監理者追加用(申)'!H15)","v":""},"）","建築士","（",{"$f":"IF('工事監理者追加用(申)'!L15=\"\",\"\",'工事監理者追加用(申)'!L15)","v":""},"）","登録　　第",{"$f":"IF('工事監理者追加用(申)'!O15=\"\",\"\",'工事監理者追加用(申)'!O15)","v":""},"号"]
[null,"【","ロ．","氏名","】",null,{"$f":"IF('工事監理者追加用(申)'!G16=\"\",\"\",'工事監理者追加用(申)'!G16)","v":""}]
[null,"【","ハ．","建築士事務所名","】",null,"（",{"$f":"IF('工事監理者追加用(申)'!H17=\"\",\"\",'工事監理者追加用(申)'!H17)","v":""},"）","建築士事務所","（",{"$f":"IF('工事監理者追加用(申)'!L17=\"\",\"\",'工事監理者追加用(申)'!L17)","v":""},"）","知事登録　第",{"$f":"IF('工事監理者追加用(申)'!O17=\"\",\"\",'工事監理者追加用(申)'!O17)","v":""},"号"]
[null,null,null,null,null,null,{"$f":"IF('工事監理者追加用(申)'!G18=\"\",\"\",'工事監理者追加用(申)'!G18:O18)","v":""}]
[null,"【","二．","郵便番号","】",null,"〒",{"$f":"IF(AND('工事監理者追加用(申)'!H19<>\"\",'工事監理者追加用(申)'!J19<>\"\"),'工事監理者追加用(申)'!H19&\"-\"&'工事監理者追加用(申)'!J19,\"\")","v":""}]
[null,"【","ホ．","所在地","】",null,null,{"$f":"IF('工事監理者追加用(申)'!H20=\"\",\"\",'工事監理者追加用(申)'!H20&'工事監理者追加用(申)'!I20)","v":""}]
[null,"【","へ．","電話番号","】",null,null,{"$f":"IF('工事監理者追加用(申)'!H21=\"\",\"\",'工事監理者追加用(申)'!H21&\"-\"&'工事監理者追加用(申)'!J21&\"-\"&'工事監理者追加用(申)'!L21)","v":""}]
[null,"【","ト．","工事と照合する設計図書","】",null,{"$f":"IF('工事監理者追加用(申)'!G22=\"\",\"\",'工事監理者追加用(申)'!G22)","v":""},null,{"$f":"IF('工事監理者追加用(申)'!I22=\"\",\"\",'工事監理者追加用(申)'!I22)","v":""},null,{"$f":"IF('工事監理者追加用(申)'!K22=\"\",\"\",'工事監理者追加用(申)'!K22)","v":""},null,{"$f":"IF('工事監理者追加用(申)'!M22=\"\",\"\",'工事監理者追加用(申)'!M22)","v":""}]
[]
[null,"（","その他の工事監理者）"]
[null,"【","イ．","資格","】",null,"（",{"$f":"IF('工事監理者追加用(申)'!H25=\"\",\"\",'工事監理者追加用(申)'!H25)","v":""},"）","建築士","（",{"$f":"IF('工事監理者追加用(申)'!L25=\"\",\"\",'工事監理者追加用(申)'!L25)","v":""},"）","登録　　第",{"$f":"IF('工事監理者追加用(申)'!O25=\"\",\"\",'工事監理者追加用(申)'!O25)","v":""},"号"]
[null,"【","ロ．","氏名","】",null,{"$f":"IF('工事監理者追加用(申)'!G26=\"\",\"\",'工事監理者追加用(申)'!G26)","v":""}]
[null,"【","ハ．","建築士事務所名","】",null,"（",{"$f":"IF('工事監理者追加用(申)'!H27=\"\",\"\",'工事監理者追加用(申)'!H27)","v":""},"）","建築士事務所","（",{"$f":"IF('工事監理者追加用(申)'!L27=\"\",\"\",'工事監理者追加用(申)'!L27)","v":""},"）","知事登録　第",{"$f":"IF('工事監理者追加用(申)'!O27=\"\",\"\",'工事監理者追加用(申)'!O27)","v":""},"号"]
[null,null,null,null,null,null,{"$f":"IF('工事監理者追加用(申)'!G28=\"\",\"\",'工事監理者追加用(申)'!G28:O28)","v":""}]
[null,"【","二．","郵便番号","】",null,"〒",{"$f":"IF(AND('工事監理者追加用(申)'!H29<>\"\",'工事監理者追加用(申)'!J29<>\"\"),'工事監理者追加用(申)'!H29&\"-\"&'工事監理者追加用(申)'!J29,\"\")","v":""}]
[null,"【","ホ．","所在地","】",null,null,{"$f":"IF('工事監理者追加用(申)'!H30=\"\",\"\",'工事監理者追加用(申)'!H30&'工事監理者追加用(申)'!I30)","v":""}]
[null,"【","へ．","電話番号","】",null,null,{"$f":"IF('工事監理者追加用(申)'!H31=\"\",\"\",'工事監理者追加用(申)'!H31&\"-\"&'工事監理者追加用(申)'!J31&\"-\"&'工事監理者追加用(申)'!L31)","v":""}]
[null,"【","ト．","工事と照合する設計図書","】",null,{"$f":"IF('工事監理者追加用(申)'!G32=\"\",\"\",'工事監理者追加用(申)'!G32)","v":""},null,{"$f":"IF('工事監理者追加用(申)'!I32=\"\",\"\",'工事監理者追加用(申)'!I32)","v":""},null,{"$f":"IF('工事監理者追加用(申)'!K32=\"\",\"\",'工事監理者追加用(申)'!K32)","v":""},null,{"$f":"IF('工事監理者追加用(申)'!M32=\"\",\"\",'工事監理者追加用(申)'!M32)","v":""}]
[]
[null,"（","その他の工事監理者）"]
[null,"【","イ．","資格","】",null,"（",{"$f":"IF('工事監理者追加用(申)'!H35=\"\",\"\",'工事監理者追加用(申)'!H35)","v":""},"）","建築士","（",{"$f":"IF('工事監理者追加用(申)'!L35=\"\",\"\",'工事監理者追加用(申)'!L35)","v":""},"）","登録　　第",{"$f":"IF('工事監理者追加用(申)'!O35=\"\",\"\",'工事監理者追加用(申)'!O35)","v":""},"号"]
[null,"【","ロ．","氏名","】",null,{"$f":"IF('工事監理者追加用(申)'!G36=\"\",\"\",'工事監理者追加用(申)'!G36)","v":""}]
[null,"【","ハ．","建築士事務所名","】",null,"（",{"$f":"IF('工事監理者追加用(申)'!H37=\"\",\"\",'工事監理者追加用(申)'!H37)","v":""},"）","建築士事務所","（",{"$f":"IF('工事監理者追加用(申)'!L37=\"\",\"\",'工事監理者追加用(申)'!L37)","v":""},"）","知事登録　第",{"$f":"IF('工事監理者追加用(申)'!O37=\"\",\"\",'工事監理者追加用(申)'!O37)","v":""},"号"]
[null,null,null,null,null,null,{"$f":"IF('工事監理者追加用(申)'!G38=\"\",\"\",'工事監理者追加用(申)'!G38:O38)","v":""}]
[null,"【","二．","郵便番号","】",null,"〒",{"$f":"IF(AND('工事監理者追加用(申)'!H39<>\"\",'工事監理者追加用(申)'!J39<>\"\"),'工事監理者追加用(申)'!H39&\"-\"&'工事監理者追加用(申)'!J39,\"\")","v":""}]
[null,"【","ホ．","所在地","】",null,null,{"$f":"IF('工事監理者追加用(申)'!H40=\"\",\"\",'工事監理者追加用(申)'!H40&'工事監理者追加用(申)'!I40)","v":""}]
[null,"【","へ．","電話番号","】",null,null,{"$f":"IF('工事監理者追加用(申)'!H41=\"\",\"\",'工事監理者追加用(申)'!H41&\"-\"&'工事監理者追加用(申)'!J41&\"-\"&'工事監理者追加用(申)'!L41)","v":""}]
[null,"【","ト．","工事と照合する設計図書","】",null,{"$f":"IF('工事監理者追加用(申)'!G42=\"\",\"\",'工事監理者追加用(申)'!G42)","v":""},null,{"$f":"IF('工事監理者追加用(申)'!I42=\"\",\"\",'工事監理者追加用(申)'!I42)","v":""},null,{"$f":"IF('工事監理者追加用(申)'!K42=\"\",\"\",'工事監理者追加用(申)'!K42)","v":""},null,{"$f":"IF('工事監理者追加用(申)'!M42=\"\",\"\",'工事監理者追加用(申)'!M42)","v":""}]
[]
[null,"（","その他の工事監理者）"]
[null,"【","イ．","資格","】",null,"（",{"$f":"IF('工事監理者追加用(申)'!H45=\"\",\"\",'工事監理者追加用(申)'!H45)","v":""},"）","建築士","（",{"$f":"IF('工事監理者追加用(申)'!L45=\"\",\"\",'工事監理者追加用(申)'!L45)","v":""},"）","登録　　第",{"$f":"IF('工事監理者追加用(申)'!O45=\"\",\"\",'工事監理者追加用(申)'!O45)","v":""},"号"]
[null,"【","ロ．","氏名","】",null,{"$f":"IF('工事監理者追加用(申)'!G46=\"\",\"\",'工事監理者追加用(申)'!G46)","v":""}]
[null,"【","ハ．","建築士事務所名","】",null,"（",{"$f":"IF('工事監理者追加用(申)'!H47=\"\",\"\",'工事監理者追加用(申)'!H47)","v":""},"）","建築士事務所","（",{"$f":"IF('工事監理者追加用(申)'!L47=\"\",\"\",'工事監理者追加用(申)'!L47)","v":""},"）","知事登録　第",{"$f":"IF('工事監理者追加用(申)'!O47=\"\",\"\",'工事監理者追加用(申)'!O47)","v":""},"号"]
[null,null,null,null,null,null,{"$f":"IF('工事監理者追加用(申)'!G48=\"\",\"\",'工事監理者追加用(申)'!G48:O48)","v":""}]
[null,"【","二．","郵便番号","】",null,"〒",{"$f":"IF(AND('工事監理者追加用(申)'!H49<>\"\",'工事監理者追加用(申)'!J49<>\"\"),'工事監理者追加用(申)'!H49&\"-\"&'工事監理者追加用(申)'!J49,\"\")","v":""}]
[null,"【","ホ．","所在地","】",null,null,{"$f":"IF('工事監理者追加用(申)'!H50=\"\",\"\",'工事監理者追加用(申)'!H50&'工事監理者追加用(申)'!I50)","v":""}]
[null,"【","へ．","電話番号","】",null,null,{"$f":"IF('工事監理者追加用(申)'!H51=\"\",\"\",'工事監理者追加用(申)'!H51&\"-\"&'工事監理者追加用(申)'!J51&\"-\"&'工事監理者追加用(申)'!L51)","v":""}]
[null,"【","ト．","工事と照合する設計図書","】",null,{"$f":"IF('工事監理者追加用(申)'!G52=\"\",\"\",'工事監理者追加用(申)'!G52)","v":""},null,{"$f":"IF('工事監理者追加用(申)'!I52=\"\",\"\",'工事監理者追加用(申)'!I52)","v":""},null,{"$f":"IF('工事監理者追加用(申)'!K52=\"\",\"\",'工事監理者追加用(申)'!K52)","v":""},null,{"$f":"IF('工事監理者追加用(申)'!M52=\"\",\"\",'工事監理者追加用(申)'!M52)","v":""}]

{"sheet":"工事監理者追加用(申)","index":10,"n_rows":52,"n_cols":16,"rows_kept":52,"cut":false,"hidden":false,"merged":[[9,8,9,14],[5,6,5,14],[11,8,11,9],[49,8,49,14],[11,10,11,11],[15,6,15,14],[11,12,11,13],[47,6,47,14],[31,10,31,11],[41,6,41,7],[41,10,41,11],[31,12,31,13],[31,6,31,7],[19,8,19,14],[21,8,21,9],[29,8,29,14],[39,8,39,14],[35,6,35,14],[21,10,21,11],[21,6,21,7],[51,6,51,7],[51,8,51,9],[51,10,51,11],[51,12,51,13],[27,6,27,14],[45,6,45,14],[41,12,41,13],[43,2,43,4],[0,0,0,16],[1,0,1,3],[21,12,21,13],[23,2,23,4],[33,2,33,4],[31,8,31,9],[37,6,37,14],[41,8,41,9],[11,6,11,7],[2,0,2,3],[25,6,25,14],[13,2,13,4],[3,2,3,4],[7,6,7,14],[17,6,17,14]]}
["（第二面）"]
["別紙　工事監理者追加様式"]
["【５．工事監理者】"]
[null,"（","その他の工事監理者）"]
[null,"【","イ．","資格","】",null,"（",null,"）","建築士","（",null,"）","登録　　第",null,"号"]
[null,"【","ロ．","氏名","】"]
[null,"【","ハ．","建築士事務所名","】",null,"（",null,"）","建築士事務所","（",null,"）","知事登録　第",null,"号"]
[]
[null,"【","二．","郵便番号","】",null,"〒",null,"-"]
[null,"【","ホ．","所在地","】"]
[null,"【","へ．","電話番号","】",null,null,null,"-",null,"-"]
[null,"【","ト．","工事と照合する設計図書","】"]
[]
[]
[null,"【","イ．","資格","】",null,"（",null,"）","建築士","（",null,"）","登録　　第",null,"号"]
[null,"【","ロ．","氏名","】"]
[null,"【","ハ．","建築士事務所名","】",null,"（",null,"）","建築士事務所","（",null,"）","知事登録　第",null,"号"]
[]
[null,"【","二．","郵便番号","】",null,"〒",null,"-"]
[null,"【","ホ．","所在地","】"]
[null,"【","へ．","電話番号","】",null,null,null,"-",null,"-"]
[null,"【","ト．","工事と照合する設計図書","】"]
[]
[]
[null,"【","イ．","資格","】",null,"（",null,"）","建築士","（",null,"）","登録　　第",null,"号"]
[null,"【","ロ．","氏名","】"]
[null,"【","ハ．","建築士事務所名","】",null,"（",null,"）","建築士事務所","（",null,"）","知事登録　第",null,"号"]
[]
[null,"【","二．","郵便番号","】",null,"〒",null,"-"]
[null,"【","ホ．","所在地","】"]
[null,"【","へ．","電話番号","】",null,null,null,"-",null,"-"]
[null,"【","ト．","工事と照合する設計図書","】"]
[]
[]
[null,"【","イ．","資格","】",null,"（",null,"）","建築士","（",null,"）","登録　　第",null,"号"]
[null,"【","ロ．","氏名","】"]
[null,"【","ハ．","建築士事務所名","】",null,"（",null,"）","建築士事務所","（",null,"）","知事登録　第",null,"号"]
[]
[null,"【","二．","郵便番号","】",null,"〒",null,"-"]
[null,"【","ホ．","所在地","】"]
[null,"【","へ．","電話番号","】",null,null,null,"-",null,"-"]
[null,"【","ト．","工事と照合する設計図書","】"]
[]
[]
[null,"【","イ．","資格","】",null,"（",null,"）","建築士","（",null,"）","登録　　第",null,"号"]
[null,"【","ロ．","氏名","】"]
[null,"【","ハ．","建築士事務所名","】",null,"（",null,"）","建築士事務所","（",null,"）","知事登録　第",null,"号"]
[]
[null,"【","二．","郵便番号","】",null,"〒",null,"-"]
[null,"【","ホ．","所在地","】"]
[null,"【","へ．","電話番号","】",null,null,null,"-",null,"-"]
[null,"【","ト．","工事と照合する設計図書","】"]

{"sheet":"第三面","index":11,"n_rows":81,"n_cols":36,"rows_kept":81,"cut":false,"hidden":false,"merged":[[11,8,11,26],[12,8,12,26],[52,21,52,25],[49,21,49,25],[50,14,50,18],[50,21,50,25],[49,3,49,4],[49,7,49,11],[47,14,47,18],[48,21,48,25],[45,21,45,25],[46,7,46,11],[46,14,46,18],[47,7,47,11],[47,21,47,25],[48,7,48,11],[48,3,48,4],[46,3,46,4],[52,7,52,11],[51,3,51,4],[51,7,51,11],[51,14,51,18],[51,21,51,25],[33,21,33,25],[29,0,29,2],[29,6,29,13],[30,6,30,13],[30,4,30,5],[31,16,31,17],[39,3,39,24],[29,15,29,16],[30,17,30,25],[43,14,43,18],[43,7,43,11],[41,14,41,18],[31,4,31,5],[41,7,41,11],[40,21,40,25],[38,21,38,25],[32,14,32,18],[37,14,37,18],[31,23,31,26],[33,14,33,18],[37,21,37,25],[31,7,31,8],[31,10,31,11],[42,3,42,24],[31,19,31,21],[46,21,46,25],[40,14,40,18],[18,17,18,19],[23,17,23,19],[23,22,23,24],[29,17,29,25],[18,22,18,24],[19,22,19,24],[43,21,43,25],[45,14,45,18],[41,21,41,25],[44,21,44,25],[35,14,35,18],[35,21,35,25],[28,7,28,11],[28,12,28,16],[28,17,28,21],[28,22,28,26],[21,22,21,24],[25,7,25,9],[27,3,27,10],[26,12,26,14],[26,3,26,10],[24,7,24,9],[27,12,27,14],[8,9,8,11],[23,7,23,9],[20,3,20,12],[14,7,14,11],[16,0,16,3],[21,12,21,14],[8,0,8,3],[17,7,17,9],[19,7,19,9],[18,7,18,9],[19,12,19,14],[21,7,21,9],[17,12,17,14],[22,3,22,11],[18,12,18,14],[23,12,23,14],[14,13,14,17],[15,13,15,17],[9,12,9,15],[13,0,13,3],[17,17,17,19],[21,17,21,19],[19,17,19,19],[10,8,10,26],[0,0,0,26],[1,0,1,7],[2,0,2,3],[6,11,6,13],[5,0,5,10],[31,0,31,2],[2,7,3,25],[4,0,4,3],[2,4,2,6],[4,4,4,6],[4,7,4,25],[7,5,7,8],[7,11,7,18],[6,20,6,23],[6,5,6,8],[6,15,6,18],[17,22,17,24],[15,3,15,5],[8,13,8,15],[9,0,9,7],[9,16,9,19],[15,7,15,11],[9,8,9,11],[8,5,8,7],[60,0,60,3],[64,14,64,18],[65,3,65,11],[66,15,66,19],[62,14,62,18],[61,14,61,18],[64,5,64,10],[67,4,67,25],[70,5,70,6],[69,4,69,25],[70,0,70,4],[63,7,63,11],[60,14,60,18],[67,0,67,3],[60,7,60,11],[61,7,61,11],[32,7,32,11],[37,0,37,3],[33,7,33,11],[36,7,36,11],[41,3,41,4],[57,0,57,3],[55,7,55,11],[52,14,52,18],[48,14,48,18],[49,14,49,18],[38,7,38,11],[45,3,45,4],[40,7,40,11],[50,3,50,4],[52,3,52,4],[54,3,54,4],[55,3,55,4],[38,3,38,4],[43,3,43,4],[44,7,44,11],[44,14,44,18],[34,3,34,7],[34,9,34,26],[35,7,35,11],[29,28,29,35],[30,28,30,34],[66,3,66,5],[66,8,66,12],[66,22,66,26],[53,3,53,4],[59,8,59,11],[53,21,53,25],[53,7,53,11],[53,14,53,18],[29,4,29,5],[31,13,31,14],[30,15,30,16],[50,7,50,11],[38,14,38,18],[37,7,37,11],[32,21,32,25],[62,7,62,11],[64,12,64,13],[47,3,47,4],[59,3,59,5],[58,8,58,11],[32,0,32,3],[45,7,45,11],[82,4,82,25],[68,4,68,25],[54,7,54,11],[63,14,63,18],[58,3,58,5],[81,4,81,25],[78,4,78,25],[79,4,79,25],[80,0,80,3],[80,4,80,25],[75,5,75,6],[75,14,75,25],[74,5,74,6],[77,0,77,3],[77,4,77,16],[76,0,76,3],[76,4,76,16],[72,0,72,7],[72,13,72,26],[71,0,71,4],[71,5,71,6],[74,14,74,25],[73,5,73,6],[73,14,73,25]]}
["（第三面）"]
["建築物及びその敷地に関する事項"]
["【１．地名地番】"]
[]
["【２．住居表示】"]
["【３．都市計画区域及び準都市計画区域の内外の別等】"]
[null,null,null,null,"□","都市計画区域内",null,null,null,"（","□","市街化区域",null,null,"□","市街化調整区域",null,null,null,"□","区域区分非設定",null,null,null,"）"]
[null,null,null,null,"□","準都市計画区域内",null,null,null,null,"□","都市計画区域及び準都市計画区域外"]
["【４．防火地域】",null,null,null,"□","防火地域",null,null,"□","準防火地域",null,null,"□","指定なし"]
["【５．その他の区域、地域、地区又は街区】"]
[]
[]
[]
["【６．道路】"]
[null,"【","イ．","幅員","】",null,null,null,null,null,null,null,"m"]
[null,"【","ロ．","敷地と接している部分の長さ",null,null,"】",null,null,null,null,null,"m"]
["【７．敷地面積】",null,null,null,null,null,null,null,null,null,null,null,null,null,null,null,null,null,null,null,null,null,null,null,null,null,null,null,null,1,2,3,4]
[null,"【","イ．","敷地面積","】","（1）","（",null,null,null,"㎡）","（",null,null,null,"㎡）","（",null,null,null,"㎡）","（",null,null,null,"㎡）",null,null,null,{"$f":"H18*(H22/100)","v":0},{"$f":"M18*(M22/100)","v":0},{"$f":"R18*(R22/100)","v":0},{"$f":"W18*(W22/100)","v":0}]
[null,null,null,null,null,"（2）","（",null,null,null,"㎡）","（",null,null,null,"㎡）","（",null,null,null,"㎡）","（",null,null,null,"㎡）",null,null,null,{"$f":"H18*H24/100","v":0},{"$f":"M18*(M24/100)","v":0},{"$f":"R18*(R24/100)","v":0},{"$f":"W18*(W24/100)","v":0}]
[null,"【","ロ．","用途地域等","】",null,"（",null,null,null,"）","（",null,null,null,"）","（",null,null,null,"）","（",null,null,null,"）"]
[null,"【","ハ．","建築基準法第52条第1項及び第2項の規定による建築物の容積率",null,null,null,null,null,null,null,null,null,"】"]
[null,null,null,null,null,null,"（",null,null,null,"%）","（",null,null,null,"%）","（",null,null,null,"%）","（",null,null,null,"%）"]
[null,"【","二．","建築基準法第53条第1項の規定による建築物の建蔽率",null,null,null,null,null,null,null,null,"】"]
[null,null,null,null,null,null,"（",null,null,null,"%）","（",null,null,null,"%）","（",null,null,null,"%）","（",null,null,null,"%）"]
[null,"【","ホ．","敷地面積の合計","】","（1）",null,{"$f":"SUM(H18,M18,R18,W18)","v":0}]
[null,null,null,null,null,"（2）",null,{"$f":"SUM(H19,M19,R19,W19)","v":0}]
[null,"【","ヘ．","敷地に建築可能な延べ面積を敷地面積で除した数値",null,null,null,null,null,null,null,"】",null,null,null,"%"]
[null,"【","ト．","敷地に建築可能な建築面積を敷地面積で除した数値",null,null,null,null,null,null,null,"】",null,null,null,"%"]
[null,"【","チ．","備考","】"]
["【８．主要用途】",null,null,"（区分",{"$f":"IF(G30=\"\",\"\",VLOOKUP(G30,マスタシート!O6:'マスタシート'!P140,2,0))","v":""},null,null,null,null,null,null,null,null,null,"）（",{"$f":"IF(R30=\"\",\"\",VLOOKUP(R30,マスタシート!O6:'マスタシート'!P140,2,0))","v":""},null,null,null,null,null,null,null,null,null,null,"）",null,"用途区分逆検索"]
[null,null,null,"（区分",{"$f":"IF(G31=\"\",\"\",VLOOKUP(G31,マスタシート!O6:'マスタシート'!P140,2,0))","v":""},null,null,null,null,null,null,null,null,null,"）（",{"$f":"IF(R31=\"\",\"\",VLOOKUP(R31,マスタシート!O6:'マスタシート'!P140,2,0))","v":""},null,null,null,null,null,null,null,null,null,null,"）",null,"一戸建ての住宅",null,null,null,null,null,null,{"$f":"IF(AC31=\"\",\"\",VLOOKUP(AC31,マスタシート!O6:'マスタシート'!P140,2,0))","v":"08010"}]
["【９．工事種別】",null,null,"□","新築",null,"□","増築",null,"□","改築",null,"□","移転",null,"□","用途変更",null,"□","大規模の修繕",null,null,"□","大規模の模様替"]
["【１０．建築面積】",null,null,null,null,null,"（","申請部分",null,null,null,null,"）","（","申請以外の部分",null,null,null,null,"）","（","合計",null,null,null,null,"）"]
[null,"【","イ．","建築物全体","】",null,"（",null,null,null,null,null,"）","（",null,null,null,null,null,"）","（",{"$f":"SUM(H34,O34)","v":0},null,null,null,null,"）"]
[null,"【","ロ．","建蔽率の算定の基礎となる建築面積",null,null,null,null,"】"]
[null,null,null,null,null,null,"（",null,null,null,null,null,"）","（",null,null,null,null,null,"）","（",{"$f":"SUM(H36,O36)","v":0},null,null,null,null,"）"]
[null,"【","ハ．","建蔽率","】",null,null,{"$f":"IF(マスタシート!U5=\"\",\"\",ROUNDUP(マスタシート!U5,4))","v":""}]
["【１１．延べ面積】",null,null,null,null,null,"（","申請部分",null,null,null,null,"）","（","申請以外の部分",null,null,null,null,"）","（","合計",null,null,null,null,"）"]
[null,"【","イ．","建築物全体",null,"】","（",null,null,null,null,null,"㎡）","（",null,null,null,null,null,"㎡）","（",{"$f":"SUM(H39,O39)","v":0},null,null,null,null,"）"]
[null,"【","ロ．","地階の住宅又は老人ホーム等の部分　　】"]
[null,null,null,null,null,null,"（",null,null,null,null,null,"㎡）","（",null,null,null,null,null,"㎡）","（",{"$f":"SUM(H41,O41)","v":0},null,null,null,null,"）"]
[null,"【","ハ．","エレベーターの昇降路の部分",null,"】","（",null,null,null,null,null,"㎡）","（",null,null,null,null,null,"㎡）","（",0,null,null,null,null,"）"]
[null,"【","ニ．","共同住宅又は老人ホーム等の共用の廊下等の部分　　】"]
[null,null,null,null,null,null,"（",null,null,null,null,null,"㎡）","（",null,null,null,null,null,"㎡）","（",{"$f":"SUM(H44,O44)","v":0},null,null,null,null,"）"]
[null,"【","ホ．","認定機械室等の部分",null,"】","（",null,null,null,null,null,"）","（",null,null,null,null,null,"㎡）","（",{"$f":"SUM(H45,O45)","v":0},null,null,null,null,"）"]
[null,"【","ヘ．","自動車車庫等の部分　　",null,"】","（",null,null,null,null,null,"㎡）","（",null,null,null,null,null,"㎡）","（",0,null,null,null,null,"）"]
[null,"【","ト．","備蓄倉庫の部分",null,"】","（",null,null,null,null,null,"㎡）","（",null,null,null,null,null,"㎡）","（",0,null,null,null,null,"）"]
[null,"【","チ．","蓄電池の設置部分",null,"】","（",null,null,null,null,null,"㎡）","（",null,null,null,null,null,"㎡）","（",0,null,null,null,null,"）"]
[null,"【","リ．","自家発電設備の設置部分",null,"】","（",null,null,null,null,null,"㎡）","（",null,null,null,null,null,"㎡）","（",0,null,null,null,null,"）"]
[null,"【","ヌ．","貯水槽の設置部分",null,"】","（",null,null,null,null,null,"㎡）","（",null,null,null,null,null,"㎡）","（",0,null,null,null,null,"）"]
[null,"【","ル．","宅配ボックスの設置部分",null,"】","（",null,null,null,null,null,"㎡）","（",null,null,null,null,null,"㎡）","（",0,null,null,null,null,"）"]
[null,"【","ヲ．","その他の不算入部分",null,"】","（",null,null,null,null,null,"）","（",null,null,null,null,null,"㎡）","（",{"$f":"SUM(H52,O52)","v":0},null,null,null,null,"）"]
[null,"【","ワ．","住宅の部分",null,"】","（",null,null,null,null,null,"㎡）","（",null,null,null,null,null,"㎡）","（",0,null,null,null,null,"）"]
[null,"【","カ．","老人ホーム等の部分",null,"】","（",null,null,null,null,null,"㎡）","（",null,null,null,null,null,"㎡）","（",0,null,null,null,null,"）"]
[null,"【","ヨ．","延べ面積",null,"】",null,{"$f":"V39-V41-V42-V44-マスタシート!U22","v":0}]
[null,"【","タ．","容積率",null,"】",null,{"$f":"IF(マスタシート!U25=\"\",\"\",ROUNDUP(マスタシート!U25,4))","v":""}]
[]
["【１２．建築物の数】"]
[null,"【","イ．","申請に係る建築物の数",null,null,"】"]
[null,"【","ロ．","同一敷地内の他の建築物の数",null,null,"】",null,"0"]
["【１３．建築物の高さ等】",null,null,null,null,null,"（","申請に係る建築物",null,null,null,null,"）","（","他の建築物",null,null,null,null,"）"]
[null,"【","イ．","最高の高さ","】",null,"（",null,null,null,null,null,"m）","（",null,null,null,null,null,"m）"]
[null,"【","ロ．","階数","】","地上","（",null,null,null,null,null,"階）","（",null,null,null,null,null,"階）"]
[null,null,null,null,null,"地下","（","0",null,null,null,null,"階）","（",null,null,null,null,null,"階）"]
[null,"【","ハ．","構造","】",null,null,null,null,null,null,"造","一部",null,null,null,null,null,null,"造"]
[null,"【","二．","建築基準法第56条第7項の規定による特例の適用の有無",null,null,null,null,null,null,null,null,"】",null,"□","有",null,"□","無"]
[null,"【","ホ．","適用があるときは、特例の区分",null,null,"】","□","道路高さ制限不適用",null,null,null,null,null,"□","隣地高さ制限不適用",null,null,null,null,null,"□","北側高さ制限不適用"]
["【１４．許可・認定等】"]
[]
[]
["【１５．工事着手予定年月日】",null,null,null,null,"令和",null,null,"年",null,"月",null,"日"]
["【１６．工事完了予定年月日】",null,null,null,null,"令和",null,null,"年",null,"月",null,"日"]
["【１７．特定工程工事終了予定年月日】",null,null,null,null,null,null,null,null,null,null,null,null,"（特定工程）"]
[null,null,"（第",null,"回）","令和",null,null,"年",null,"月",null,"日","（",null,null,null,null,null,null,null,null,null,null,null,null,"）"]
[null,null,"（第",null,"回）","令和",null,null,"年",null,"月",null,"日","（",null,null,null,null,null,null,null,null,null,null,null,null,"）"]
[null,null,"（第",null,"回）","令和",null,null,"年",null,"月",null,"日","（",null,null,null,null,null,null,null,null,null,null,null,null,"）"]
["【１８．その他必要な事項】",null,null,null,"【建築基準法第12条第１項の規定による調査の要否】",null,null,null,null,null,null,null,null,null,null,null,null,null,"□","要","□","否"]
[null,null,null,null,"【建築基準法第12条第3項の規定による検査を要する防火設備の有無】",null,null,null,null,null,null,null,null,null,null,null,null,null,"□","有","□","無"]
[]
[]
["【１９．備考】"]

{"sheet":"第四面 ","index":12,"n_rows":60,"n_cols":30,"rows_kept":60,"cut":false,"hidden":false,"merged":[[60,5,60,25],[57,0,57,3],[57,5,57,7],[57,8,57,26],[58,0,58,4],[58,5,58,25],[59,0,59,3],[59,5,59,25],[54,0,54,3],[54,5,54,25],[55,0,55,3],[55,5,55,25],[56,0,56,4],[56,5,56,7],[52,9,52,12],[52,15,52,18],[52,20,52,21],[52,22,52,25],[53,0,53,3],[53,5,53,25],[50,9,50,12],[50,15,50,18],[50,20,50,21],[50,22,50,25],[51,9,51,12],[51,15,51,18],[51,20,51,21],[51,22,51,25],[48,9,48,12],[48,15,48,18],[48,20,48,21],[48,22,48,25],[49,9,49,12],[49,15,49,18],[49,20,49,21],[49,22,49,25],[46,9,46,12],[46,15,46,18],[46,20,46,21],[46,22,46,25],[47,9,47,12],[47,15,47,18],[47,20,47,21],[47,22,47,25],[41,3,41,7],[42,3,42,17],[43,3,43,17],[44,3,44,7],[44,19,44,24],[45,0,45,3],[45,9,45,12],[45,15,45,18],[45,20,45,21],[45,22,45,25],[36,0,36,3],[37,3,37,17],[38,3,38,17],[39,3,39,11],[39,20,39,23],[40,3,40,7],[40,20,40,23],[31,3,31,4],[31,6,31,11],[32,0,32,3],[33,6,33,11],[34,6,34,11],[35,0,35,3],[35,6,35,25],[26,3,26,5],[27,0,27,3],[28,6,28,11],[29,6,29,11],[30,3,30,4],[30,6,30,11],[17,0,17,13],[18,3,18,26],[19,3,19,26],[23,3,23,26],[24,0,24,13],[25,3,25,5],[22,3,22,26],[25,8,25,13],[25,15,25,26],[26,8,26,13],[26,15,26,26],[21,3,21,26],[20,3,20,26],[0,0,0,26],[1,0,1,3],[2,0,2,3],[2,6,2,21],[8,0,8,3],[9,4,9,5],[9,7,9,8],[9,10,9,11],[9,13,9,14],[9,16,9,17],[6,4,6,5],[6,6,6,8],[6,9,6,21],[7,4,7,5],[7,6,7,8],[7,9,7,21],[9,19,9,21],[9,23,9,26],[2,28,2,29],[3,0,3,3],[3,4,3,5],[3,6,3,8],[3,9,3,21],[4,4,4,5],[4,6,4,8],[4,9,4,21],[5,4,5,5],[5,6,5,8],[5,9,5,21],[16,8,16,26],[11,7,11,11],[11,13,11,26],[15,4,15,6],[10,0,10,3],[10,4,10,9],[10,11,10,12],[10,13,10,18],[10,20,10,25],[11,0,11,3],[15,8,15,26],[12,3,12,26],[13,3,13,26],[14,3,14,26]]}
["（第四面）"]
["建築物別概要"]
["【１．番号】",null,null,null,null,null,null,null,null,null,null,null,null,null,null,null,null,null,null,null,null,null,null,null,null,null,null,null,"用途区分逆検索"]
["【２．用途】",null,null,null,"（区分",null,null,null,null,null,null,null,null,null,null,null,null,null,null,null,null,null,"）",null,null,null,null,null,null,{"$f":"IF(AC4=\"\",\"\",VLOOKUP(AC4,マスタシート!O6:P140,2,0))","v":""}]
[null,null,null,null,"（区分",null,null,null,null,null,null,null,null,null,null,null,null,null,null,null,null,null,"）"]
[null,null,null,null,"（区分",null,null,null,null,null,null,null,null,null,null,null,null,null,null,null,null,null,"）"]
[null,null,null,null,"（区分",null,null,null,null,null,null,null,null,null,null,null,null,null,null,null,null,null,"）"]
[null,null,null,null,"（区分",null,null,null,null,null,null,null,null,null,null,null,null,null,null,null,null,null,"）"]
["【３．工事種別】"]
[null,null,null,"□","新築",null,"□","増築",null,"□","改築",null,"□","移転",null,"□","用途変更",null,"□","大規模の修繕",null,null,"□","大規模の模様替"]
["【４．構造】",null,null,null,null,null,null,null,null,null,"造","一部",null,null,null,null,null,null,null,"造"]
["【５．主要構造部】"]
[null,null,"□","耐火構造 (防火上及び避難上支障がない主要構造部を有しない場合）"]
[null,null,"□","耐火構造 (防火上及び避難上支障がない主要構造部を有する場合）"]
[null,null,"□","建築基準法施行令第108条の4第1項第1号ｲ及びﾛに掲げる基準に適合する構造"]
[null,null,"□","準耐火構造",null,null,null,"□","準耐火構造と同等の準耐火性能を有する構造(ロ－１)"]
[null,null,"□","その他",null,null,null,"□","準耐火構造と同等の準耐火性能を有する構造(ロ－２)"]
["【６．建築基準法第21条及び第27条の規定の適用】"]
[null,null,"□","建築基準法施行令第109条の5第1号に掲げる基準に適合する構造"]
[null,null,"□","建築基準法第21条第1項ただし書きに該当する建築物"]
[null,null,"□","建築基準法施行令第109条の7第1項第1号に掲げる基準に適合する構造"]
[null,null,"□","建築基準法施行令第110条第1号に掲げる基準に適合する構造"]
[null,null,"□","その他"]
[null,null,"□","建築基準法第21条又は第27条の規定の適用を受けない"]
["【７．建築基準法第61条の規定の適用】"]
[null,null,"□","耐火建築物",null,null,null,"□","延焼防止建築物",null,null,null,null,null,"□","その他"]
[null,null,"□","準耐火建築物",null,null,null,"□","準延焼防止建築物",null,null,null,null,null,"□","建築基準法第61条の規定の適用を受けない"]
["【８．階数】"]
[null,"【","イ．","地階を除く階数","】"]
[null,"【","ロ．","地階の階数","】"]
[null,"【","ハ．","昇降機塔等の階の数",null,"】"]
[null,"【","二．","地階の倉庫等の階の数",null,"】"]
["【９．高さ】"]
[null,"【","イ．","最高の高さ","】"]
[null,"【","ロ．","最高の軒の高さ","】"]
["【１０．建築設備の種類】"]
["【１１．確認の特例】"]
[null,"【","イ．","建築基準法第６条の３第１項ただし書又は法第18条第４項ただし書の規定による審査の特例の適用の有無",null,null,null,null,null,null,null,null,null,null,null,null,null,null,"】","□","有","□","無"]
[null,"【","ロ．","建築基準法第６条の４第１項の規定による確認の特例の適用の有無",null,null,null,null,null,null,null,null,null,null,null,null,null,null,"】","□","有","□","無"]
[null,"【","ハ．","建築基準法施行令第10条各号に掲げる建築物の区分",null,null,null,null,null,null,null,null,"】",null,null,null,null,null,null,"第",null,null,null,null,"号"]
[null,"【","ニ．","認定型式の認定番号",null,null,null,null,"】",null,null,null,null,null,null,null,null,null,null,"第",null,null,null,null,"号"]
[null,"【","ホ．","適合する一連の規定の区分",null,null,null,null,"】"]
[null,null,"□","建築基準法施行令第136条の2の11第１号イ"]
[null,null,"□","建築基準法施行令第136条の2の11第１号ロ"]
[null,"【","ヘ．","認証型式部材等の認証番号",null,null,null,null,"】"]
["【１２．床面積】",null,null,null,null,null,null,null,"（","申請部分",null,null,null,"）","（","申請以外の部分",null,null,null,"）","（",null,"合計",null,null,null,"）"]
[null,"【","イ．","階別","】","（",null,"階）","（",null,null,null,null,"）","（",null,null,null,null,"）","（",null,{"$f":"SUM(J47,P47)","v":0},null,null,null,"）"]
[null,null,null,null,null,"（",null,"階）","（",null,null,null,null,"）","（",null,null,null,null,"）","（",null,0,null,null,null,"）"]
[null,null,null,null,null,"（",null,"階）","（",null,null,null,null,"）","（",0,null,null,null,"）","（",null,0,null,null,null,"）"]
[null,null,null,null,null,"（",null,"階）","（",null,null,null,null,"）","（",0,null,null,null,"）","（",null,0,null,null,null,"）"]
[null,null,null,null,null,"（",null,"階）","（",null,null,null,null,"）","（",0,null,null,null,"）","（",null,0,null,null,null,"）"]
[null,null,null,null,null,"（",null,"階）","（",null,null,null,null,"）","（",0,null,null,null,"）","（",null,0,null,null,null,"）"]
[null,"【","ロ．","合計","】",null,null,null,"（",{"$f":"SUM(J47:M52)","v":0},null,null,null,"）","（",{"$f":"SUM(P47:S52)","v":0},null,null,null,"）","（",null,{"$f":"SUM(W47:Z52)","v":0},null,null,null,"）"]
["【１３．屋根】"]
["【１４．外壁】"]
["【１５．軒裏】"]
["【１６．居室の床の高さ】"]
["【１７．便所の種類】"]
["【１８．その他必要な事項】"]
["【１９．備考】"]

{"sheet":"第四面 (別紙)","index":13,"n_rows":25,"n_cols":27,"rows_kept":25,"cut":false,"hidden":false,"merged":[[24,9,24,12],[24,15,24,18],[24,20,24,21],[22,9,22,12],[22,22,22,25],[23,9,23,12],[24,22,24,25],[23,15,23,18],[23,20,23,21],[23,22,23,25],[22,15,22,18],[22,20,22,21],[21,9,21,12],[21,15,21,18],[21,20,21,21],[20,9,20,12],[0,0,0,26],[1,0,1,3],[2,0,2,3],[2,9,2,12],[2,15,2,18],[2,20,2,21],[4,9,4,12],[5,9,5,12],[19,9,19,12],[19,22,19,25],[20,15,20,18],[20,20,20,21],[20,22,20,25],[21,22,21,25],[19,15,19,18],[19,20,19,21],[7,20,7,21],[7,22,7,25],[6,9,6,12],[6,15,6,18],[2,22,2,25],[4,20,4,21],[4,22,4,25],[3,22,3,25],[3,20,3,21],[3,9,3,12],[3,15,3,18],[4,15,4,18],[5,22,5,25],[5,20,5,21],[5,15,5,18],[6,20,6,21],[6,22,6,25],[8,9,8,12],[8,15,8,18],[8,20,8,21],[8,22,8,25],[7,9,7,12],[7,15,7,18],[9,9,9,12],[9,15,9,18],[9,20,9,21],[9,22,9,25],[10,9,10,12],[10,15,10,18],[10,20,10,21],[10,22,10,25],[11,9,11,12],[11,15,11,18],[11,20,11,21],[11,22,11,25],[12,9,12,12],[12,15,12,18],[12,20,12,21],[12,22,12,25],[13,9,13,12],[13,15,13,18],[13,20,13,21],[13,22,13,25],[14,9,14,12],[14,15,14,18],[14,20,14,21],[14,22,14,25],[15,9,15,12],[15,15,15,18],[15,20,15,21],[15,22,15,25],[16,9,16,12],[16,15,16,18],[16,20,16,21],[16,22,16,25],[17,9,17,12],[17,15,17,18],[17,20,17,21],[17,22,17,25],[18,9,18,12],[18,15,18,18],[18,20,18,21],[18,22,18,25]]}
["（第四面）"]
["建築物別概要　　　別紙"]
["【１２．床面積】",null,null,null,null,null,null,null,"（","申請部分",null,null,null,"）","（","申請以外の部分",null,null,null,"）","（",null,"合計",null,null,null,"）"]
[null,"【","イ．","階別","】","（",null,"階）","（",null,null,null,null,"）","（",null,null,null,null,"）","（",null,{"$f":"SUM(J4,P4)","v":0},null,null,null,"）"]
[null,null,null,null,null,"（",null,"階）","（",null,null,null,null,"）","（",null,null,null,null,"）","（",null,{"$f":"SUM(J5,P5)","v":0},null,null,null,"）"]
[null,null,null,null,null,"（",null,"階）","（",null,null,null,null,"）","（",null,null,null,null,"）","（",null,0,null,null,null,"）"]
[null,null,null,null,null,"（",null,"階）","（",null,null,null,null,"）","（",null,null,null,null,"）","（",null,0,null,null,null,"）"]
[null,null,null,null,null,"（",null,"階）","（",null,null,null,null,"）","（",null,null,null,null,"）","（",null,0,null,null,null,"）"]
[null,null,null,null,null,"（",null,"階）","（",null,null,null,null,"）","（",null,null,null,null,"）","（",null,0,null,null,null,"）"]
[null,null,null,null,null,"（",null,"階）","（",null,null,null,null,"）","（",null,null,null,null,"）","（",null,0,null,null,null,"）"]
[null,null,null,null,null,"（",null,"階）","（",null,null,null,null,"）","（",null,null,null,null,"）","（",null,0,null,null,null,"）"]
[null,null,null,null,null,"（",null,"階）","（",null,null,null,null,"）","（",null,null,null,null,"）","（",null,0,null,null,null,"）"]
[null,null,null,null,null,"（",null,"階）","（",null,null,null,null,"）","（",null,null,null,null,"）","（",null,0,null,null,null,"）"]
[null,null,null,null,null,"（",null,"階）","（",null,null,null,null,"）","（",null,null,null,null,"）","（",null,0,null,null,null,"）"]
[null,null,null,null,null,"（",null,"階）","（",null,null,null,null,"）","（",null,null,null,null,"）","（",null,0,null,null,null,"）"]
[null,null,null,null,null,"（",null,"階）","（",null,null,null,null,"）","（",null,null,null,null,"）","（",null,0,null,null,null,"）"]
[null,null,null,null,null,"（",null,"階）","（",null,null,null,null,"）","（",null,null,null,null,"）","（",null,0,null,null,null,"）"]
[null,null,null,null,null,"（",null,"階）","（",null,null,null,null,"）","（",null,null,null,null,"）","（",null,0,null,null,null,"）"]
[null,null,null,null,null,"（",null,"階）","（",null,null,null,null,"）","（",null,null,null,null,"）","（",null,0,null,null,null,"）"]
[null,null,null,null,null,"（",null,"階）","（",null,null,null,null,"）","（",null,null,null,null,"）","（",null,0,null,null,null,"）"]
[null,null,null,null,null,"（",null,"階）","（",null,null,null,null,"）","（",null,null,null,null,"）","（",null,0,null,null,null,"）"]
[null,null,null,null,null,"（",null,"階）","（",null,null,null,null,"）","（",null,null,null,null,"）","（",null,0,null,null,null,"）"]
[null,null,null,null,null,"（",null,"階）","（",null,null,null,null,"）","（",null,null,null,null,"）","（",null,0,null,null,null,"）"]
[null,null,null,null,null,"（",null,"階）","（",null,null,null,null,"）","（",null,null,null,null,"）","（",null,0,null,null,null,"）"]
[null,"【","ロ．","合計","】",null,null,null,"（",{"$f":"SUM(J4:M24)","v":0},null,null,null,"）","（",{"$f":"SUM(P4:S24)","v":0},null,null,null,"）","（",null,{"$f":"SUM(W4:Z24)","v":0},null,null,null,"）"]

{"sheet":"第五面","index":14,"n_rows":52,"n_cols":32,"rows_kept":52,"cut":false,"hidden":false,"merged":[[41,29,41,31],[42,29,42,30],[12,29,12,30],[11,29,11,31],[43,6,43,8],[42,22,42,26],[40,22,40,26],[40,11,40,19],[41,11,41,19],[41,22,41,26],[38,4,38,7],[38,11,38,13],[39,4,39,10],[37,0,37,4],[40,0,40,4],[40,6,40,8],[45,11,45,19],[47,0,47,4],[47,6,47,26],[42,11,42,19],[44,6,44,8],[45,22,45,26],[45,6,45,8],[44,11,44,19],[44,22,44,26],[43,11,43,19],[43,22,43,26],[42,6,42,8],[54,6,54,26],[46,6,46,8],[46,11,46,19],[46,22,46,26],[50,6,50,26],[51,6,51,26],[53,6,53,26],[52,6,52,26],[48,6,48,26],[49,6,49,26],[41,6,41,8],[35,0,35,4],[36,6,36,8],[33,0,33,4],[35,6,35,8],[34,6,34,9],[36,0,36,4],[33,6,33,8],[0,0,0,27],[1,0,1,8],[2,0,2,4],[2,6,2,8],[17,0,17,4],[16,11,16,19],[14,22,14,26],[15,11,15,19],[14,6,14,8],[15,22,15,26],[13,11,13,19],[7,0,7,4],[8,4,8,7],[8,11,8,13],[9,4,9,10],[6,0,6,4],[30,0,30,27],[34,0,34,4],[24,6,24,26],[10,0,10,4],[16,22,16,26],[13,6,13,8],[22,6,22,26],[18,6,18,26],[19,6,19,26],[31,0,31,8],[32,0,32,4],[32,6,32,8],[11,6,11,8],[10,6,10,8],[12,6,12,8],[12,11,12,19],[25,0,29,27],[11,11,11,19],[11,22,11,26],[13,22,13,26],[20,6,20,26],[23,6,23,26],[21,6,21,26],[14,11,14,19],[16,6,16,8],[6,6,6,8],[10,11,10,19],[17,6,17,26],[15,6,15,8],[12,22,12,26],[10,22,10,26],[3,6,3,8],[4,6,4,9],[5,0,5,4],[5,6,5,8],[4,0,4,4],[3,0,3,4]]}
["（第五面）"]
["建築物の階別概要"]
["【１．番号】"]
["【２．階】"]
["【３．柱の小径】"]
["【４．横架材間の垂直距離】",null,null,null,null,null,0]
["【５．階の高さ】"]
["【６．天井】"]
[null,null,"【","イ．","居室の天井の高さ",null,null,null,"】"]
[null,null,"【","ロ．","令第39条第3項に規定する特定天井",null,null,null,null,null,null,"】","□","有","□","無"]
["【７．用途別床面積】",null,null,null,null,"（","用途の区分",null,null,"）","（","　具体的な用途の名称",null,null,null,null,null,null,null,null,"）","（","床面積",null,null,null,null,"）"]
[null,null,"【","イ．","】","（",{"$f":"IF(L12=\"\",\"\",VLOOKUP(L12,マスタシート!O6:'マスタシート'!P140,2,0))","v":""},null,null,"）","（",null,null,null,null,null,null,null,null,null,"）","（",null,null,null,null,null,"）",null,"用途区分逆検索"]
[null,null,"【","ロ．","】","（",{"$f":"IF(L13=\"\",\"\",VLOOKUP(L13,マスタシート!O6:'マスタシート'!P140,2,0))","v":""},null,null,"）","（",null,null,null,null,null,null,null,null,null,"）","（",null,null,null,null,null,"）",null,"一戸建ての住宅",null,{"$f":"IF(AD13=\"\",\"\",VLOOKUP(AD13,マスタシート!O6:'マスタシート'!P140,2,0))","v":"08010"}]
[null,null,"【","ハ．","】","（",{"$f":"IF(L14=\"\",\"\",VLOOKUP(L14,マスタシート!O6:'マスタシート'!P140,2,0))","v":""},null,null,"）","（",null,null,null,null,null,null,null,null,null,"）","（",null,null,null,null,null,"）"]
[null,null,"【","二．","】","（",{"$f":"IF(L15=\"\",\"\",VLOOKUP(L15,マスタシート!O6:'マスタシート'!P140,2,0))","v":""},null,null,"）","（",null,null,null,null,null,null,null,null,null,"）","（",null,null,null,null,null,"）"]
[null,null,"【","ホ．","】","（",{"$f":"IF(L16=\"\",\"\",VLOOKUP(L16,マスタシート!O6:'マスタシート'!P140,2,0))","v":""},null,null,"）","（",null,null,null,null,null,null,null,null,null,"）","（",null,null,null,null,null,"）"]
[null,null,"【","ヘ．","】","（",{"$f":"IF(L17=\"\",\"\",VLOOKUP(L17,マスタシート!O6:'マスタシート'!P140,2,0))","v":""},null,null,"）","（",null,null,null,null,null,null,null,null,null,"）","（",null,null,null,null,null,"）"]
["【８．その他必要な事項】"]
[]
[]
[]
["【９．備考】"]
[]
[]
[]
[]
[]
[]
[]
[]
[]
["建築物の階別概要"]
["【１．番号】"]
["【２．階】"]
["【３．柱の小径】"]
["【４．横架材間の垂直距離】",null,null,null,null,null,0]
["【５．階の高さ】"]
["【６．天井】"]
[null,null,"【","イ．","居室の天井の高さ",null,null,null,"】"]
[null,null,"【","ロ．","令第39条第3項に規定する特定天井",null,null,null,null,null,null,"】","□","有","□","無"]
["【７．用途別床面積】",null,null,null,null,"（","用途の区分",null,null,"）","（","　具体的な用途の名称",null,null,null,null,null,null,null,null,"）","（","床面積",null,null,null,null,"）"]
[null,null,"【","イ．","】","（",{"$f":"IF(L42=\"\",\"\",VLOOKUP(L42,マスタシート!O6:'マスタシート'!P140,2,0))","v":""},null,null,"）","（",null,null,null,null,null,null,null,null,null,"）","（",null,null,null,null,null,"）",null,"用途区分逆検索"]
[null,null,"【","ロ．","】","（",{"$f":"IF(L43=\"\",\"\",VLOOKUP(L43,マスタシート!O6:'マスタシート'!P140,2,0))","v":""},null,null,"）","（",null,null,null,null,null,null,null,null,null,"）","（",null,null,null,null,null,"）",null,"一戸建ての住宅",null,{"$f":"IF(AD43=\"\",\"\",VLOOKUP(AD43,マスタシート!O6:'マスタシート'!P140,2,0))","v":"08010"}]
[null,null,"【","ハ．","】","（",{"$f":"IF(L44=\"\",\"\",VLOOKUP(L44,マスタシート!O6:'マスタシート'!P140,2,0))","v":""},null,null,"）","（",null,null,null,null,null,null,null,null,null,"）","（",null,null,null,null,null,"）"]
[null,null,"【","二．","】","（",{"$f":"IF(L45=\"\",\"\",VLOOKUP(L45,マスタシート!O6:'マスタシート'!P140,2,0))","v":""},null,null,"）","（",null,null,null,null,null,null,null,null,null,"）","（",null,null,null,null,null,"）"]
[null,null,"【","ホ．","】","（",{"$f":"IF(L46=\"\",\"\",VLOOKUP(L46,マスタシート!O6:'マスタシート'!P140,2,0))","v":""},null,null,"）","（",null,null,null,null,null,null,null,null,null,"）","（",null,null,null,null,null,"）"]
[null,null,"【","ヘ．","】","（",{"$f":"IF(L47=\"\",\"\",VLOOKUP(L47,マスタシート!O6:'マスタシート'!P140,2,0))","v":""},null,null,"）","（",null,null,null,null,null,null,null,null,null,"）","（",null,null,null,null,null,"）"]
["【８．その他必要な事項】"]
[]
[]
[]
["【９．備考】"]

{"sheet":"第五面 (2)","index":15,"n_rows":52,"n_cols":32,"rows_kept":52,"cut":false,"hidden":false,"merged":[[41,29,41,31],[42,29,42,30],[24,6,24,26],[36,6,36,8],[40,11,40,19],[42,22,42,26],[41,11,41,19],[41,6,41,8],[30,0,30,27],[34,0,34,4],[40,22,40,26],[35,6,35,8],[32,0,32,4],[33,0,33,4],[35,0,35,4],[4,6,4,9],[3,6,3,8],[4,0,4,4],[11,29,11,31],[12,29,12,30],[11,6,11,8],[7,0,7,4],[8,4,8,7],[11,22,11,26],[8,11,8,13],[9,4,9,10],[12,6,12,8],[10,22,10,26],[12,22,12,26],[10,0,10,4],[0,0,0,27],[1,0,1,8],[2,0,2,4],[2,6,2,8],[3,0,3,4],[23,6,23,26],[15,22,15,26],[11,11,11,19],[10,11,10,19],[14,6,14,8],[21,6,21,26],[18,6,18,26],[22,6,22,26],[19,6,19,26],[20,6,20,26],[13,22,13,26],[13,6,13,8],[13,11,13,19],[15,11,15,19],[16,6,16,8],[16,11,16,19],[17,0,17,4],[14,22,14,26],[14,11,14,19],[16,22,16,26],[12,11,12,19],[15,6,15,8],[54,6,54,26],[46,6,46,8],[46,11,46,19],[46,22,46,26],[50,6,50,26],[52,6,52,26],[47,6,47,26],[53,6,53,26],[51,6,51,26],[49,6,49,26],[47,0,47,4],[5,0,5,4],[5,6,5,8],[6,0,6,4],[6,6,6,8],[10,6,10,8],[40,0,40,4],[40,6,40,8],[45,6,45,8],[17,6,17,26],[38,11,38,13],[39,4,39,10],[32,6,32,8],[36,0,36,4],[33,6,33,8],[34,6,34,9],[45,11,45,19],[41,22,41,26],[31,0,31,8],[25,0,29,27],[48,6,48,26],[42,11,42,19],[43,22,43,26],[43,6,43,8],[43,11,43,19],[44,6,44,8],[45,22,45,26],[44,22,44,26],[44,11,44,19],[42,6,42,8],[37,0,37,4],[38,4,38,7]]}
["（第五面）"]
["建築物の階別概要"]
["【１．番号】"]
["【２．階】"]
["【３．柱の小径】"]
["【４．横架材間の垂直距離】",null,null,null,null,null,0]
["【５．階の高さ】"]
["【６．天井】"]
[null,null,"【","イ．","居室の天井の高さ",null,null,null,"】"]
[null,null,"【","ロ．","令第39条第3項に規定する特定天井",null,null,null,null,null,null,"】","□","有","□","無"]
["【７．用途別床面積】",null,null,null,null,"（","用途の区分",null,null,"）","（","　具体的な用途の名称",null,null,null,null,null,null,null,null,"）","（","床面積",null,null,null,null,"）"]
[null,null,"【","イ．","】","（",{"$f":"IF(L12=\"\",\"\",VLOOKUP(L12,マスタシート!O6:'マスタシート'!P140,2,0))","v":""},null,null,"）","（",null,null,null,null,null,null,null,null,null,"）","（",null,null,null,null,null,"）",null,"用途区分逆検索"]
[null,null,"【","ロ．","】","（",{"$f":"IF(L13=\"\",\"\",VLOOKUP(L13,マスタシート!O6:'マスタシート'!P140,2,0))","v":""},null,null,"）","（",null,null,null,null,null,null,null,null,null,"）","（",null,null,null,null,null,"）",null,"一戸建ての住宅",null,{"$f":"IF(AD13=\"\",\"\",VLOOKUP(AD13,マスタシート!O6:'マスタシート'!P140,2,0))","v":"08010"}]
[null,null,"【","ハ．","】","（",{"$f":"IF(L14=\"\",\"\",VLOOKUP(L14,マスタシート!O6:'マスタシート'!P140,2,0))","v":""},null,null,"）","（",null,null,null,null,null,null,null,null,null,"）","（",null,null,null,null,null,"）"]
[null,null,"【","二．","】","（",{"$f":"IF(L15=\"\",\"\",VLOOKUP(L15,マスタシート!O6:'マスタシート'!P140,2,0))","v":""},null,null,"）","（",null,null,null,null,null,null,null,null,null,"）","（",null,null,null,null,null,"）"]
[null,null,"【","ホ．","】","（",{"$f":"IF(L16=\"\",\"\",VLOOKUP(L16,マスタシート!O6:'マスタシート'!P140,2,0))","v":""},null,null,"）","（",null,null,null,null,null,null,null,null,null,"）","（",null,null,null,null,null,"）"]
[null,null,"【","ヘ．","】","（",{"$f":"IF(L17=\"\",\"\",VLOOKUP(L17,マスタシート!O6:'マスタシート'!P140,2,0))","v":""},null,null,"）","（",null,null,null,null,null,null,null,null,null,"）","（",null,null,null,null,null,"）"]
["【８．その他必要な事項】"]
[]
[]
[]
["【９．備考】"]
[]
[]
[]
[]
[]
[]
[]
[]
[]
["建築物の階別概要"]
["【１．番号】"]
["【２．階】"]
["【３．柱の小径】"]
["【４．横架材間の垂直距離】",null,null,null,null,null,0]
["【５．階の高さ】"]
["【６．天井】"]
[null,null,"【","イ．","居室の天井の高さ",null,null,null,"】"]
[null,null,"【","ロ．","令第39条第3項に規定する特定天井",null,null,null,null,null,null,"】","□","有","□","無"]
["【７．用途別床面積】",null,null,null,null,"（","用途の区分",null,null,"）","（","　具体的な用途の名称",null,null,null,null,null,null,null,null,"）","（","床面積",null,null,null,null,"）"]
[null,null,"【","イ．","】","（",{"$f":"IF(L42=\"\",\"\",VLOOKUP(L42,マスタシート!O6:'マスタシート'!P140,2,0))","v":""},null,null,"）","（",null,null,null,null,null,null,null,null,null,"）","（",null,null,null,null,null,"）",null,"用途区分逆検索"]
[null,null,"【","ロ．","】","（",{"$f":"IF(L43=\"\",\"\",VLOOKUP(L43,マスタシート!O6:'マスタシート'!P140,2,0))","v":""},null,null,"）","（",null,null,null,null,null,null,null,null,null,"）","（",null,null,null,null,null,"）",null,"一戸建ての住宅",null,{"$f":"IF(AD43=\"\",\"\",VLOOKUP(AD43,マスタシート!O6:'マスタシート'!P140,2,0))","v":"08010"}]
[null,null,"【","ハ．","】","（",{"$f":"IF(L44=\"\",\"\",VLOOKUP(L44,マスタシート!O6:'マスタシート'!P140,2,0))","v":""},null,null,"）","（",null,null,null,null,null,null,null,null,null,"）","（",null,null,null,null,null,"）"]
[null,null,"【","二．","】","（",{"$f":"IF(L45=\"\",\"\",VLOOKUP(L45,マスタシート!O6:'マスタシート'!P140,2,0))","v":""},null,null,"）","（",null,null,null,null,null,null,null,null,null,"）","（",null,null,null,null,null,"）"]
[null,null,"【","ホ．","】","（",{"$f":"IF(L46=\"\",\"\",VLOOKUP(L46,マスタシート!O6:'マスタシート'!P140,2,0))","v":""},null,null,"）","（",null,null,null,null,null,null,null,null,null,"）","（",null,null,null,null,null,"）"]
[null,null,"【","ヘ．","】","（",{"$f":"IF(L47=\"\",\"\",VLOOKUP(L47,マスタシート!O6:'マスタシート'!P140,2,0))","v":""},null,null,"）","（",null,null,null,null,null,null,null,null,null,"）","（",null,null,null,null,null,"）"]
["【８．その他必要な事項】"]
[]
[]
[]
["【９．備考】"]

{"sheet":"第五面 (3)","index":16,"n_rows":52,"n_cols":32,"rows_kept":52,"cut":false,"hidden":false,"merged":[[11,29,11,31],[12,29,12,30],[41,29,41,31],[42,29,42,30],[24,6,24,26],[36,6,36,8],[40,11,40,19],[42,22,42,26],[13,22,13,26],[13,6,13,8],[41,22,41,26],[41,11,41,19],[42,11,42,19],[40,22,40,26],[38,11,38,13],[42,6,42,8],[41,6,41,8],[0,0,0,27],[1,0,1,8],[2,0,2,4],[2,6,2,8],[3,0,3,4],[3,6,3,8],[11,11,11,19],[10,11,10,19],[4,0,4,4],[10,0,10,4],[11,6,11,8],[7,0,7,4],[30,0,30,27],[12,22,12,26],[20,6,20,26],[18,6,18,26],[22,6,22,26],[19,6,19,26],[21,6,21,26],[4,6,4,9],[8,4,8,7],[8,11,8,13],[10,22,10,26],[17,0,17,4],[14,22,14,26],[14,11,14,19],[16,22,16,26],[12,11,12,19],[14,6,14,8],[16,6,16,8],[16,11,16,19],[17,6,17,26],[12,6,12,8],[54,6,54,26],[46,6,46,8],[46,11,46,19],[46,22,46,26],[50,6,50,26],[52,6,52,26],[47,6,47,26],[53,6,53,26],[51,6,51,26],[49,6,49,26],[48,6,48,26],[43,22,43,26],[43,6,43,8],[43,11,43,19],[47,0,47,4],[5,0,5,4],[5,6,5,8],[6,0,6,4],[6,6,6,8],[10,6,10,8],[40,0,40,4],[15,6,15,8],[23,6,23,26],[15,22,15,26],[9,4,9,10],[13,11,13,19],[15,11,15,19],[31,0,31,8],[25,0,29,27],[11,22,11,26],[44,6,44,8],[45,22,45,26],[45,6,45,8],[45,11,45,19],[44,22,44,26],[44,11,44,19],[36,0,36,4],[40,6,40,8],[32,0,32,4],[33,0,33,4],[35,0,35,4],[32,6,32,8],[33,6,33,8],[34,6,34,9],[35,6,35,8],[37,0,37,4],[38,4,38,7],[39,4,39,10],[34,0,34,4]]}
["（第五面）"]
["建築物の階別概要"]
["【１．番号】"]
["【２．階】"]
["【３．柱の小径】"]
["【４．横架材間の垂直距離】",null,null,null,null,null,0]
["【５．階の高さ】"]
["【６．天井】"]
[null,null,"【","イ．","居室の天井の高さ",null,null,null,"】"]
[null,null,"【","ロ．","令第39条第3項に規定する特定天井",null,null,null,null,null,null,"】","□","有","□","無"]
["【７．用途別床面積】",null,null,null,null,"（","用途の区分",null,null,"）","（","　具体的な用途の名称",null,null,null,null,null,null,null,null,"）","（","床面積",null,null,null,null,"）"]
[null,null,"【","イ．","】","（",{"$f":"IF(L12=\"\",\"\",VLOOKUP(L12,マスタシート!O6:'マスタシート'!P140,2,0))","v":""},null,null,"）","（",null,null,null,null,null,null,null,null,null,"）","（",null,null,null,null,null,"）",null,"用途区分逆検索"]
[null,null,"【","ロ．","】","（",{"$f":"IF(L13=\"\",\"\",VLOOKUP(L13,マスタシート!O6:'マスタシート'!P140,2,0))","v":""},null,null,"）","（",null,null,null,null,null,null,null,null,null,"）","（",null,null,null,null,null,"）",null,"一戸建ての住宅",null,{"$f":"IF(AD13=\"\",\"\",VLOOKUP(AD13,マスタシート!O6:'マスタシート'!P140,2,0))","v":"08010"}]
[null,null,"【","ハ．","】","（",{"$f":"IF(L14=\"\",\"\",VLOOKUP(L14,マスタシート!O6:'マスタシート'!P140,2,0))","v":""},null,null,"）","（",null,null,null,null,null,null,null,null,null,"）","（",null,null,null,null,null,"）"]
[null,null,"【","二．","】","（",{"$f":"IF(L15=\"\",\"\",VLOOKUP(L15,マスタシート!O6:'マスタシート'!P140,2,0))","v":""},null,null,"）","（",null,null,null,null,null,null,null,null,null,"）","（",null,null,null,null,null,"）"]
[null,null,"【","ホ．","】","（",{"$f":"IF(L16=\"\",\"\",VLOOKUP(L16,マスタシート!O6:'マスタシート'!P140,2,0))","v":""},null,null,"）","（",null,null,null,null,null,null,null,null,null,"）","（",null,null,null,null,null,"）"]
[null,null,"【","ヘ．","】","（",{"$f":"IF(L17=\"\",\"\",VLOOKUP(L17,マスタシート!O6:'マスタシート'!P140,2,0))","v":""},null,null,"）","（",null,null,null,null,null,null,null,null,null,"）","（",null,null,null,null,null,"）"]
["【８．その他必要な事項】"]
[]
[]
[]
["【９．備考】"]
[]
[]
[]
[]
[]
[]
[]
[]
[]
["建築物の階別概要"]
["【１．番号】"]
["【２．階】"]
["【３．柱の小径】"]
["【４．横架材間の垂直距離】",null,null,null,null,null,0]
["【５．階の高さ】"]
["【６．天井】"]
[null,null,"【","イ．","居室の天井の高さ",null,null,null,"】"]
[null,null,"【","ロ．","令第39条第3項に規定する特定天井",null,null,null,null,null,null,"】","□","有","□","無"]
["【７．用途別床面積】",null,null,null,null,"（","用途の区分",null,null,"）","（","　具体的な用途の名称",null,null,null,null,null,null,null,null,"）","（","床面積",null,null,null,null,"）"]
[null,null,"【","イ．","】","（",{"$f":"IF(L42=\"\",\"\",VLOOKUP(L42,マスタシート!O6:'マスタシート'!P140,2,0))","v":""},null,null,"）","（",null,null,null,null,null,null,null,null,null,"）","（",null,null,null,null,null,"）",null,"用途区分逆検索"]
[null,null,"【","ロ．","】","（",{"$f":"IF(L43=\"\",\"\",VLOOKUP(L43,マスタシート!O6:'マスタシート'!P140,2,0))","v":""},null,null,"）","（",null,null,null,null,null,null,null,null,null,"）","（",null,null,null,null,null,"）",null,"一戸建ての住宅",null,{"$f":"IF(AD43=\"\",\"\",VLOOKUP(AD43,マスタシート!O6:'マスタシート'!P140,2,0))","v":"08010"}]
[null,null,"【","ハ．","】","（",{"$f":"IF(L44=\"\",\"\",VLOOKUP(L44,マスタシート!O6:'マスタシート'!P140,2,0))","v":""},null,null,"）","（",null,null,null,null,null,null,null,null,null,"）","（",null,null,null,null,null,"）"]
[null,null,"【","二．","】","（",{"$f":"IF(L45=\"\",\"\",VLOOKUP(L45,マスタシート!O6:'マスタシート'!P140,2,0))","v":""},null,null,"）","（",null,null,null,null,null,null,null,null,null,"）","（",null,null,null,null,null,"）"]
[null,null,"【","ホ．","】","（",{"$f":"IF(L46=\"\",\"\",VLOOKUP(L46,マスタシート!O6:'マスタシート'!P140,2,0))","v":""},null,null,"）","（",null,null,null,null,null,null,null,null,null,"）","（",null,null,null,null,null,"）"]
[null,null,"【","ヘ．","】","（",{"$f":"IF(L47=\"\",\"\",VLOOKUP(L47,マスタシート!O6:'マスタシート'!P140,2,0))","v":""},null,null,"）","（",null,null,null,null,null,null,null,null,null,"）","（",null,null,null,null,null,"）"]
["【８．その他必要な事項】"]
[]
[]
[]
["【９．備考】"]

{"sheet":"第五面 (4)","index":17,"n_rows":52,"n_cols":32,"rows_kept":52,"cut":false,"hidden":false,"merged":[[11,29,11,31],[12,29,12,30],[41,29,41,31],[42,29,42,30],[24,6,24,26],[36,6,36,8],[40,11,40,19],[42,22,42,26],[13,22,13,26],[13,6,13,8],[41,22,41,26],[41,11,41,19],[42,11,42,19],[40,22,40,26],[38,11,38,13],[42,6,42,8],[41,6,41,8],[0,0,0,27],[1,0,1,8],[2,0,2,4],[2,6,2,8],[3,0,3,4],[3,6,3,8],[11,11,11,19],[10,11,10,19],[4,0,4,4],[10,0,10,4],[11,6,11,8],[7,0,7,4],[30,0,30,27],[12,22,12,26],[20,6,20,26],[18,6,18,26],[22,6,22,26],[19,6,19,26],[21,6,21,26],[4,6,4,9],[8,4,8,7],[8,11,8,13],[10,22,10,26],[17,0,17,4],[14,22,14,26],[14,11,14,19],[16,22,16,26],[12,11,12,19],[14,6,14,8],[16,6,16,8],[16,11,16,19],[17,6,17,26],[12,6,12,8],[54,6,54,26],[46,6,46,8],[46,11,46,19],[46,22,46,26],[50,6,50,26],[52,6,52,26],[47,6,47,26],[53,6,53,26],[51,6,51,26],[49,6,49,26],[48,6,48,26],[43,22,43,26],[43,6,43,8],[43,11,43,19],[47,0,47,4],[5,0,5,4],[5,6,5,8],[6,0,6,4],[6,6,6,8],[10,6,10,8],[40,0,40,4],[15,6,15,8],[23,6,23,26],[15,22,15,26],[9,4,9,10],[13,11,13,19],[15,11,15,19],[31,0,31,8],[25,0,29,27],[11,22,11,26],[44,6,44,8],[45,22,45,26],[45,6,45,8],[45,11,45,19],[44,22,44,26],[44,11,44,19],[36,0,36,4],[40,6,40,8],[32,0,32,4],[33,0,33,4],[35,0,35,4],[32,6,32,8],[33,6,33,8],[34,6,34,9],[35,6,35,8],[37,0,37,4],[38,4,38,7],[39,4,39,10],[34,0,34,4]]}
["（第五面）"]
["建築物の階別概要"]
["【１．番号】"]
["【２．階】"]
["【３．柱の小径】"]
["【４．横架材間の垂直距離】",null,null,null,null,null,0]
["【５．階の高さ】"]
["【６．天井】"]
[null,null,"【","イ．","居室の天井の高さ",null,null,null,"】"]
[null,null,"【","ロ．","令第39条第3項に規定する特定天井",null,null,null,null,null,null,"】","□","有","□","無"]
["【７．用途別床面積】",null,null,null,null,"（","用途の区分",null,null,"）","（","　具体的な用途の名称",null,null,null,null,null,null,null,null,"）","（","床面積",null,null,null,null,"）"]
[null,null,"【","イ．","】","（",{"$f":"IF(L12=\"\",\"\",VLOOKUP(L12,マスタシート!O6:'マスタシート'!P140,2,0))","v":""},null,null,"）","（",null,null,null,null,null,null,null,null,null,"）","（",null,null,null,null,null,"）",null,"用途区分逆検索"]
[null,null,"【","ロ．","】","（",{"$f":"IF(L13=\"\",\"\",VLOOKUP(L13,マスタシート!O6:'マスタシート'!P140,2,0))","v":""},null,null,"）","（",null,null,null,null,null,null,null,null,null,"）","（",null,null,null,null,null,"）",null,"一戸建ての住宅",null,{"$f":"IF(AD13=\"\",\"\",VLOOKUP(AD13,マスタシート!O6:'マスタシート'!P140,2,0))","v":"08010"}]
[null,null,"【","ハ．","】","（",{"$f":"IF(L14=\"\",\"\",VLOOKUP(L14,マスタシート!O6:'マスタシート'!P140,2,0))","v":""},null,null,"）","（",null,null,null,null,null,null,null,null,null,"）","（",null,null,null,null,null,"）"]
[null,null,"【","二．","】","（",{"$f":"IF(L15=\"\",\"\",VLOOKUP(L15,マスタシート!O6:'マスタシート'!P140,2,0))","v":""},null,null,"）","（",null,null,null,null,null,null,null,null,null,"）","（",null,null,null,null,null,"）"]
[null,null,"【","ホ．","】","（",{"$f":"IF(L16=\"\",\"\",VLOOKUP(L16,マスタシート!O6:'マスタシート'!P140,2,0))","v":""},null,null,"）","（",null,null,null,null,null,null,null,null,null,"）","（",null,null,null,null,null,"）"]
[null,null,"【","ヘ．","】","（",{"$f":"IF(L17=\"\",\"\",VLOOKUP(L17,マスタシート!O6:'マスタシート'!P140,2,0))","v":""},null,null,"）","（",null,null,null,null,null,null,null,null,null,"）","（",null,null,null,null,null,"）"]
["【８．その他必要な事項】"]
[]
[]
[]
["【９．備考】"]
[]
[]
[]
[]
[]
[]
[]
[]
[]
["建築物の階別概要"]
["【１．番号】"]
["【２．階】"]
["【３．柱の小径】"]
["【４．横架材間の垂直距離】",null,null,null,null,null,0]
["【５．階の高さ】"]
["【６．天井】"]
[null,null,"【","イ．","居室の天井の高さ",null,null,null,"】"]
[null,null,"【","ロ．","令第39条第3項に規定する特定天井",null,null,null,null,null,null,"】","□","有","□","無"]
["【７．用途別床面積】",null,null,null,null,"（","用途の区分",null,null,"）","（","　具体的な用途の名称",null,null,null,null,null,null,null,null,"）","（","床面積",null,null,null,null,"）"]
[null,null,"【","イ．","】","（",{"$f":"IF(L42=\"\",\"\",VLOOKUP(L42,マスタシート!O6:'マスタシート'!P140,2,0))","v":""},null,null,"）","（",null,null,null,null,null,null,null,null,null,"）","（",null,null,null,null,null,"）",null,"用途区分逆検索"]
[null,null,"【","ロ．","】","（",{"$f":"IF(L43=\"\",\"\",VLOOKUP(L43,マスタシート!O6:'マスタシート'!P140,2,0))","v":""},null,null,"）","（",null,null,null,null,null,null,null,null,null,"）","（",null,null,null,null,null,"）",null,"一戸建ての住宅",null,{"$f":"IF(AD43=\"\",\"\",VLOOKUP(AD43,マスタシート!O6:'マスタシート'!P140,2,0))","v":"08010"}]
[null,null,"【","ハ．","】","（",{"$f":"IF(L44=\"\",\"\",VLOOKUP(L44,マスタシート!O6:'マスタシート'!P140,2,0))","v":""},null,null,"）","（",null,null,null,null,null,null,null,null,null,"）","（",null,null,null,null,null,"）"]
[null,null,"【","二．","】","（",{"$f":"IF(L45=\"\",\"\",VLOOKUP(L45,マスタシート!O6:'マスタシート'!P140,2,0))","v":""},null,null,"）","（",null,null,null,null,null,null,null,null,null,"）","（",null,null,null,null,null,"）"]
[null,null,"【","ホ．","】","（",{"$f":"IF(L46=\"\",\"\",VLOOKUP(L46,マスタシート!O6:'マスタシート'!P140,2,0))","v":""},null,null,"）","（",null,null,null,null,null,null,null,null,null,"）","（",null,null,null,null,null,"）"]
[null,null,"【","ヘ．","】","（",{"$f":"IF(L47=\"\",\"\",VLOOKUP(L47,マスタシート!O6:'マスタシート'!P140,2,0))","v":""},null,null,"）","（",null,null,null,null,null,null,null,null,null,"）","（",null,null,null,null,null,"）"]
["【８．その他必要な事項】"]
[]
[]
[]
["【９．備考】"]

{"sheet":"第六面","index":18,"n_rows":30,"n_cols":37,"rows_kept":30,"cut":false,"hidden":false,"merged":[[27,6,27,26],[28,6,28,26],[29,6,29,26],[30,6,30,26],[22,29,22,30],[23,3,23,20],[23,29,23,30],[24,0,24,8],[25,6,25,11],[26,6,26,26],[20,6,20,11],[20,14,20,18],[21,3,21,20],[22,3,22,5],[22,6,22,11],[17,3,17,20],[18,0,18,3],[18,7,18,11],[18,14,18,18],[19,6,19,11],[19,14,19,18],[12,29,12,30],[13,3,13,20],[14,3,14,20],[15,3,15,20],[16,3,16,20],[11,3,11,10],[12,0,12,4],[12,6,12,8],[12,11,12,19],[12,22,12,26],[8,5,8,10],[8,12,8,13],[8,14,8,18],[9,0,9,10],[10,3,10,10],[6,3,6,5],[6,8,6,11],[6,14,6,18],[7,7,7,9],[7,11,7,12],[7,14,7,16],[4,0,4,3],[4,7,4,11],[4,14,4,18],[5,3,5,5],[5,8,5,11],[5,14,5,18],[0,0,0,27],[1,0,1,8],[2,0,2,4],[2,6,2,8],[3,0,3,4],[3,6,3,8]]}
["（第六面）",null,null,null,null,null,null,null,null,null,null,null,null,null,null,null,null,null,null,null,null,null,null,null,null,null,null,null,null,null,null,null,null,null,null,null,"木（軸組）"]
["建築物独立部分別概要",null,null,null,null,null,null,null,null,null,null,null,null,null,null,null,null,null,null,null,null,null,null,null,null,null,null,null,null,null,null,null,null,null,null,null,"木（枠組壁工法）"]
["【１．番号】",null,null,null,null,null,null,null,null,null,null,null,null,null,null,null,null,null,null,null,null,null,null,null,null,null,null,null,null,null,null,null,null,null,null,null,"鉄筋コンクリート"]
["【２．延べ面積】",null,null,null,null,null,null,null,null,null,null,null,null,null,null,null,null,null,null,null,null,null,null,null,null,null,null,null,null,null,null,null,null,null,null,null,"鉄骨"]
["【３．建築物の高さ等】",null,null,null,null,null,null,null,null,null,null,null,null,null,null,null,null,null,null,null,null,null,null,null,null,null,null,null,null,null,null,null,null,null,null,null,"鉄骨鉄筋コンクリート"]
[null,"【","イ．","最高の高さ",null,null,"】","（",null,null,null,null,"）"]
[null,"【","ロ．","最高の軒の高さ",null,null,"】","（",null,null,null,null,"）"]
[null,"【","ハ．","階数","】","地上","（",null,null,null,"）","地下",null,"（",0,null,null,"）"]
[null,"【","ニ．","構造","】",null,null,null,null,null,null,"造","一部",null,null,null,null,null,null,"造"]
["【４．特定構造計算基準又は特定増改築構造計算基準の別】"]
[null,null,"□","特定構造計算基準"]
[null,null,"□","特定増改築構造計算基準"]
["【５．構造計算の区分】"]
[null,null,"□","建築基準法施行令第８１条第１項各号に掲げる基準に従った構造計算"]
[null,null,"□","建築基準法施行令第８１条第２項第１号イに掲げる構造計算"]
[null,null,"□","建築基準法施行令第８１条第２項第１号ロに掲げる構造計算"]
[null,null,"□","建築基準法施行令第８１条第２項第２号イに掲げる構造計算"]
[null,null,"□","建築基準法施行令第８１条第３項に掲げる構造計算"]
["【６．構造計算に用いたプログラム】"]
[null,"【","イ．","名称","】","（",null,null,null,null,null,null,"）"]
[null,"【","ロ．","区分","】"]
[null,null,"□","建築基準法第２０条第１項第２号イ又は第３号イの認定を受けたプログラム"]
[null,null,null,"（大臣認定番号",null,null,null,null,null,null,null,null,"）"]
[null,null,"□","その他のプログラム"]
["【７．建築基準法施行令第１３７条の２各号に定める基準の区分】"]
[null,null,null,null,null,"（",null,null,null,null,null,null,"）"]
["【８．備考】"]
[]
[null,null,null,null,null,null,null,null,null,null,null,null,null,null,null,null,null,null,null,null,null,null,null,null,null,null,null,null,null,null,null,null,null,null,null,null,"□"]
[null,null,null,null,null,null,null,null,null,null,null,null,null,null,null,null,null,null,null,null,null,null,null,null,null,null,null,null,null,null,null,null,null,null,null,null,"■"]

{"sheet":"委任状","index":19,"n_rows":33,"n_cols":17,"rows_kept":33,"cut":false,"hidden":false,"merged":[[12,2,12,15],[8,3,8,5],[2,3,2,12],[16,0,16,16],[13,2,13,4],[7,0,7,16],[14,0,14,16],[15,2,15,4],[15,5,15,15],[0,0,0,5],[0,6,0,16],[5,0,5,16],[4,0,4,16],[3,8,3,16],[3,1,3,7],[1,0,1,16],[2,13,2,15],[32,0,32,6],[32,8,32,15],[19,0,19,6],[20,0,20,6],[19,8,19,15],[29,0,29,16],[26,0,26,9],[24,0,24,6],[24,8,24,15],[25,0,25,16],[20,8,20,15],[27,0,27,6],[27,8,27,16],[23,0,23,6],[23,8,23,16],[21,0,21,16],[28,0,28,6],[28,8,28,15],[30,0,30,9],[17,0,17,9],[31,0,31,6],[31,8,31,16],[22,0,22,9],[18,0,18,6],[18,8,18,16]]}
["別記good・eyes第29号様式"]
["委　　任　　状"]
[null,"　私は、",null,{"$f":"第二面!G13","v":0},null,null,null,null,null,null,null,null,null,"を代理人と定め"]
[null,"下記に関する権限を委任します。"]
[]
["記"]
[null,"１．","□","　建築確認　・　軽微な変更の説明　・　計画変更"]
[]
[null,null,"□","　中間検査",null,null,null,null,"□","　完了検査"]
[]
[null,null,"□","　住宅金融支援機構の証券化支援事業（フラット35）又は融資に係る物件検査"]
[]
[null,"２．","上記１．の業務に関する手続き、確認申請関係図書の訂正及び指定確認検査機関から交付される"]
[null,null,"文書の受領"]
[]
[null,"３．","敷地の地名地番",null,null,{"$f":"第三面!E3&第三面!H3","v":""}]
[]
[null,null,null,null,null,null,null,null,null,null,"令和",null,"年",null,"月",null,"日"]
["住所",null,null,null,null,null,null,null,{"$f":"第二面!H9&第二面!I9","v":""}]
["氏名",null,null,null,null,null,null,null,{"$f":"第二面!G5","v":0},null,null,null,null,null,null,null,"印"]
[]
[]
[null,null,null,null,null,null,null,null,null,null,"令和",null,"年",null,"月",null,"日"]
["住所",null,null,null,null,null,null,null,{"$f":"'建築主追加用(申)'!H9&'建築主追加用(申)'!I9","v":""}]
["氏名",null,null,null,null,null,null,null,{"$f":"'建築主追加用(申)'!G5","v":0},null,null,null,null,null,null,null,"印"]
[]
[null,null,null,null,null,null,null,null,null,null,"令和",null,"年",null,"月",null,"日"]
["住所",null,null,null,null,null,null,null,{"$f":"'建築主追加用(申)'!H19&'建築主追加用(申)'!I19","v":""}]
["氏名",null,null,null,null,null,null,null,{"$f":"'建築主追加用(申)'!G15","v":0},null,null,null,null,null,null,null,"印"]
[]
[null,null,null,null,null,null,null,null,null,null,"令和",null,"年",null,"月",null,"日"]
["住所",null,null,null,null,null,null,null,{"$f":"'建築主追加用(申)'!H29&'建築主追加用(申)'!I29:O29","v":""}]
["氏名",null,null,null,null,null,null,null,{"$f":"'建築主追加用(申)'!G25:O25","v":0},null,null,null,null,null,null,null,"印"]

{"sheet":"工事届第一面","index":20,"n_rows":40,"n_cols":19,"rows_kept":40,"cut":false,"hidden":true,"merged":[[22,0,22,2],[41,1,47,6],[41,8,47,15],[19,4,19,7],[17,3,17,16],[31,1,31,2],[32,1,32,2],[20,3,20,16],[21,3,21,7],[39,0,39,1],[32,3,32,16],[33,0,33,1],[34,3,34,11],[35,3,35,15],[36,4,36,7],[38,3,38,8],[0,0,0,16],[16,3,16,16],[15,0,15,2],[1,0,1,16],[2,0,2,16],[3,0,3,16],[7,0,7,6],[10,3,11,9],[12,4,12,9],[13,3,13,9],[14,3,14,9],[10,10,11,16],[12,11,12,16],[13,10,13,16],[14,10,14,16],[37,3,37,15],[28,3,28,7],[30,4,30,10],[23,3,23,16],[24,3,24,16],[26,4,26,7],[27,3,27,16]]}
["第四十号様式(第八条関係)　(A4)",null,null,null,null,null,null,null,null,null,null,null,null,null,null,null,null,null,210101]
["建築基準法第１５条第１項の規程による"]
["建　築　工　事　届"]
["（第一面）"]
[]
[null,null,null,null,null,null,null,null,null,null,"令和",null,"年",null,"月",null,"日"]
[]
[null,null,null,null,null,null,null,"様"]
[]
["建築主"]
[null,"氏名",null,{"$f":"第二面!G5","v":0},null,null,null,null,null,null,{"$f":"'建築主追加用(申)'!G5","v":0}]
[]
[null,"郵便番号",null,"〒",{"$f":"IF(第二面!H8=\"\",\"\",第二面!H8&\"-\"&第二面!J8)","v":""},null,null,null,null,null,"〒",{"$f":"IF('建築主追加用(申)'!H8=\"\",\"\",'建築主追加用(申)'!H8&\"-\"&'建築主追加用(申)'!J8)","v":""}]
[null,"住所",null,{"$f":"第二面!H9&第二面!I9","v":""},null,null,null,null,null,null,{"$f":"'建築主追加用(申)'!H9&'建築主追加用(申)'!I9","v":""}]
[null,"電話番号",null,{"$f":"IF(第二面!H10=\"\",\"\",第二面!H10&\"-\"&第二面!J10&\"-\"&第二面!L10)","v":""},null,null,null,null,null,null,{"$f":"IF('建築主追加用(申)'!H10=\"\",\"\",'建築主追加用(申)'!H10&\"-\"&'建築主追加用(申)'!J10&\"-\"&'建築主追加用(申)'!L10)","v":""}]
["工事施工者（設計者又は代理者）"]
[null,"氏名",null,{"$f":"第二面!G164","v":0}]
[null,"営業所名",null,{"$f":"第二面!G166","v":0}]
[null,"(建築士事務所名)"]
[null,"郵便番号",null,"〒",{"$f":"IF(第二面!H167=\"\",\"\",第二面!H167&\"-\"&第二面!J167)","v":""}]
[null,"所在地",null,{"$f":"第二面!H168&第二面!I168","v":""}]
[null,"電話番号",null,{"$f":"IF(第二面!H169=\"\",\"\",第二面!H169&\"-\"&第二面!J169&\"-\"&第二面!L169)","v":""}]
["工事監理者"]
[null,"氏名",null,{"$f":"第二面!G127","v":0}]
[null,"営業所名",null,{"$f":"第二面!G129","v":0}]
[null,"(建築士事務所名)"]
[null,"郵便番号",null,"〒",{"$f":"IF(第二面!H130=\"\",\"\",第二面!H130&\"-\"&第二面!J130)","v":""}]
[null,"所在地",null,{"$f":"第二面!H131&第二面!I131","v":""}]
[null,"電話番号",null,{"$f":"IF(第二面!H132=\"\",\"\",第二面!H132&\"-\"&第二面!J132&\"-\"&第二面!L132)","v":""}]
["建築確認"]
[null,"確認済証番号",null,"第",null,null,null,null,null,null,null,"号"]
[null,"確認済証交付年月日",null,"令和",null,"年",null,"月",null,"日"]
[null,"確認済証交付者",null,"指定確認検査機関　株式会社　グッド・アイズ建築検査機構"]
["除却工事施工者"]
[null,"氏名"]
[null,"営業所名"]
[null,"郵便番号",null,"〒"]
[null,"所在地"]
[null,"電話番号"]
["※受付経由機関記載欄"]

{"sheet":"工事届第二面","index":21,"n_rows":97,"n_cols":21,"rows_kept":97,"cut":false,"hidden":true,"merged":[[0,0,0,20],[1,0,1,4],[2,2,2,3],[3,2,3,3],[4,0,4,2],[5,6,5,8],[5,11,5,15],[5,18,5,20],[6,6,6,8],[6,11,6,15],[6,18,6,20],[7,2,7,5],[7,6,7,8],[7,11,7,15],[7,18,7,20],[8,6,8,8],[8,11,8,14],[8,17,8,20],[9,6,9,8],[9,11,9,12],[9,15,9,20],[10,0,10,2],[11,5,11,20],[12,6,12,7],[12,10,12,12],[12,15,12,20],[13,6,13,8],[13,11,13,15],[13,16,13,20],[14,0,14,2],[14,16,14,20],[15,0,15,2],[15,6,15,8],[15,10,15,12],[16,0,16,3],[16,6,16,8],[16,10,16,12],[17,0,17,3],[17,6,17,8],[17,10,17,12],[18,0,18,4],[18,5,18,20],[19,5,19,7],[19,11,19,13],[19,17,19,19],[20,6,20,8],[20,12,20,14],[20,18,20,20],[21,6,21,8],[21,12,21,14],[21,18,21,20],[22,6,22,8],[22,12,22,14],[22,18,22,20],[23,6,23,8],[23,12,23,14],[23,18,23,20],[24,6,24,8],[24,12,24,14],[24,18,24,20],[25,6,25,8],[25,12,25,14],[25,18,25,20],[26,6,26,8],[26,12,26,14],[26,18,26,20],[27,6,27,8],[27,12,27,14],[27,18,27,20],[28,2,28,3],[28,6,28,8],[28,12,28,14],[28,18,28,20],[29,6,29,8],[29,12,29,14],[29,18,29,20],[30,6,30,8],[30,12,30,14],[30,18,30,20],[31,6,31,8],[31,12,31,14],[31,18,31,20],[32,6,32,8],[32,12,32,14],[32,18,32,20],[33,6,33,8],[33,12,33,14],[33,18,33,20],[34,2,34,3],[34,5,34,6],[34,11,34,12],[34,17,34,18],[35,2,35,5],[35,6,35,20],[36,0,36,3],[36,5,36,6],[36,11,36,12],[36,17,36,18],[41,5,41,6],[41,11,41,12],[41,17,41,18],[42,0,42,6],[42,11,42,14],[37,2,37,3],[37,5,37,6],[37,11,37,12],[37,17,37,18],[38,2,38,7],[39,5,39,6],[39,11,39,12],[39,17,39,18],[40,2,40,7]]}
["（第二面）"]
["【１．着工及び工事完了の予定期日】"]
[null,"【イ．","着工予定期日",null,"】","令和",{"$f":"第三面!H71","v":0},"年",{"$f":"第三面!J71","v":0},"月",{"$f":"第三面!L71","v":0},"日"]
[null,"【ロ．","工事完了予定期日",null,"】","令和",{"$f":"第三面!H72","v":0},"年",{"$f":"第三面!J72","v":0},"月",{"$f":"第三面!L72","v":0},"日"]
["【２．建築主】"]
[null,"【イ．","建築主の種別","】",null,"（1）","国",null,null,null,"（2）","都道府県",null,null,null,null,null,"（3）","市区町村"]
[null,null,null,null,null,"（4）","会社",null,null,null,"（5）","会社でない団体",null,null,null,null,null,"（6）","個人"]
[null,"【ロ．","資本の額又は出資の総額】"]
[null,null,null,null,null,"（1）","1,000万円以下",null,null,null,"（2）","1,000万円超～3,000万円以下",null,null,null,null,"（3）","3,000万円超～1億円以下"]
[null,null,null,null,null,"（4）","1億円超～10億円以下",null,null,null,"（5）","10億円超"]
["【３．敷地の位置】"]
[null,"【イ．","地名地番","】",null,{"$f":"第三面!E3&第三面!H3","v":""}]
[null,"【ロ．","都市計画","】",{"$f":"IF(第三面!K7=\"■\",\"※\",\"\")","v":""},"（1）","市街化区域",null,{"$f":"IF(第三面!O7=\"■\",\"※\",\"\")","v":""},"（2）","市街化調整区域",null,null,{"$f":"IF(第三面!T7=\"■\",\"※\",\"\")","v":""},"（3）","区域区分非設定都市計画区域"]
[null,null,null,null,{"$f":"IF(第三面!E8=\"■\",\"※\",\"\")","v":""},"（4）","準都市計画区域",null,null,{"$f":"IF(第三面!K8=\"■\",\"※\",\"\")","v":""},"（5）","都市計画区域及び準都市計画区域外"]
["【４．工事種別】",null,null,null,{"$f":"IF(第三面!D32=\"■\",\"※\",\"\")","v":""},"（1）","新築",{"$f":"IF(第三面!G32=\"■\",\"※\",\"\")","v":""},"（2）","増築",{"$f":"IF(第三面!J32=\"■\",\"※\",\"\")","v":""},"（3）","改築",{"$f":"IF(第三面!M32=\"■\",\"※\",\"\")","v":""},"（4）","移転"]
["【５．主要用途】",null,null,null,null,"（1）","居住専用建築物",null,null,"（",null,null,null,"）"]
[null,null,null,null,null,"（2）","居住産業併用建築物",null,null,"（",null,null,null,"）"]
[null,null,null,null,null,"（3）","産業専用建築物",null,null,"（",null,null,null,"）"]
["【６．一の建築物ごとの内容】"]
[null,"【イ．","番号","】","（",null,null,null,"）",null,"（",null,null,null,"）",null,"（",null,null,null,"）"]
[null,"【ロ．","用途","】",null,"（1）","事務所等",null,null,null,null,"（1）","事務所等",null,null,null,null,"（1）","事務所等"]
[null,null,null,null,null,"（2）","物品販売業を営む店舗等",null,null,null,null,"（2）","物品販売業を営む店舗等",null,null,null,null,"（2）","物品販売業を営む店舗等"]
[null,null,null,null,null,"（3）","工場、作業場",null,null,null,null,"（3）","工場、作業場",null,null,null,null,"（3）","工場、作業場"]
[null,null,null,null,null,"（4）","倉庫",null,null,null,null,"（4）","倉庫",null,null,null,null,"（4）","倉庫"]
[null,null,null,null,null,"（5）","学校",null,null,null,null,"（5）","学校",null,null,null,null,"（5）","学校"]
[null,null,null,null,null,"（6）","病院、診療所",null,null,null,null,"（6）","病院、診療所",null,null,null,null,"（6）","病院、診療所"]
[null,null,null,null,null,"（9）","その他",null,null,null,null,"（9）","その他",null,null,null,null,"（9）","その他"]
[null,null,null,null,null,null,"多用途",null,null,null,null,null,"多用途",null,null,null,null,null,"多用途"]
[null,"【ハ．","工事部分の構造】",null,null,"（1）","木造",null,null,null,null,"（1）","木造",null,null,null,null,"（1）","木造"]
[null,null,null,null,null,"（2）","鉄骨鉄筋コンクリート造",null,null,null,null,"（2）","鉄骨鉄筋コンクリート造",null,null,null,null,"（2）","鉄骨鉄筋コンクリート造"]
[null,null,null,null,null,"（3）","鉄筋コンクリート造",null,null,null,null,"（3）","鉄筋コンクリート造",null,null,null,null,"（3）","鉄筋コンクリート造"]
[null,null,null,null,null,"（4）","鉄骨造",null,null,null,null,"（4）","鉄骨造",null,null,null,null,"（4）","鉄骨造"]
[null,null,null,null,null,"（5）","コンクリートブロック造",null,null,null,null,"（5）","コンクリートブロック造",null,null,null,null,"（5）","コンクリートブロック造"]
[null,null,null,null,null,"（6）","その他",null,null,null,null,"（6）","その他",null,null,null,null,"（6）","その他"]
[null,"【ニ．","工事の予定期間】",null,"（",null,null,"月間","）",null,"（",null,null,"月間","）",null,"（",null,null,"月間","）"]
[null,"【ホ．","工事部分の床面積の合計】"]
[null,null,null,null,"（",null,null,"㎡","）",null,"（",null,null,"㎡","）",null,"（",null,null,"㎡","）"]
[null,"【ヘ．","建築工事費予定額】",null,"（",null,null,"万円","）",null,"（",null,null,"万円","）",null,"（",null,null,"万円","）"]
[null,"【ト．","新築工事の場合における地上の階数】"]
[null,null,null,null,"（",null,null,null,"）",null,"（",null,null,null,"）",null,"（",null,null,null,"）"]
[null,"【チ．","新築工事の場合における地下の階数】"]
[null,null,null,null,"（",null,null,null,"）",null,"（",null,null,null,"）",null,"（",null,null,null,"）"]
["【７．新築工事の場合における敷地面積】",null,null,null,null,null,null,null,null,null,null,{"$f":"第三面!H25","v":0},null,null,null,"㎡"]
[]
[]
[]
[]
["元",1,null,"01"]
["02",2,"※","02"]
["03",3,null,"03"]
["04",4,null,"04"]
["05",5,null,"05"]
["06",6]
["07",7]
["08",8]
["09",9]
["10",10]
["11",11,null,"11"]
["12",12,null,"12"]
["13",13,null,"13"]
["14",14,null,"14"]
["15",15,null,"15"]
["16",16,null,"16"]
["17",17,null,"17"]
["18",18,null,"18"]
["19",19,null,"19"]
["20",20,null,"20"]
["21",21,null,"21"]
["22",22,null,"22"]
["23",23,null,"23"]
["24",24,null,"24"]
["25",25,null,"25"]
["26",26,null,"26"]
["27",27,null,"27"]
["28",28,null,"28"]
["29",29,null,"29"]
["30",30,null,"30"]
["31",31,null,"31"]
["32",32,null,"32"]
["33",33,null,"33"]
["34",34,null,"34"]
["35",35,null,"35"]
["36",36,null,"36"]
["37",37,null,"37"]
["38",38,null,"38"]
["39",39,null,"39"]
["40",40,null,"40"]
["41",41,null,"41"]
["42",42,null,"42"]
["43",43,null,"43"]
["44",44,null,"44"]
["45",45,null,"45"]
["46",46,null,"46"]
["47",47,null,99]
["48",48]
["49",49]
["50",50]

{"sheet":"工事届第三面","index":22,"n_rows":26,"n_cols":32,"rows_kept":26,"cut":false,"hidden":true,"merged":[[0,0,0,28],[1,0,1,6],[2,2,2,5],[2,8,2,10],[3,2,3,6],[3,9,3,10],[3,15,3,16],[3,20,3,21],[3,25,3,26],[6,9,6,14],[6,15,6,16],[6,20,6,21],[4,25,4,26],[7,2,7,5],[7,9,7,12],[7,15,7,17],[7,20,7,22],[7,25,7,28],[5,2,5,5],[5,9,5,11],[5,15,5,17],[5,20,5,28],[4,9,4,10],[4,20,4,21],[8,2,8,5],[8,9,8,12],[8,15,8,17],[8,20,8,22],[9,2,9,5],[9,9,9,12],[9,15,9,17],[9,20,9,22],[10,2,10,5],[10,9,10,12],[10,15,10,17],[10,20,10,22],[10,25,10,27],[11,2,11,5],[11,9,11,10],[11,15,11,16],[11,20,11,21],[11,25,11,26],[12,2,12,6],[12,9,12,10],[12,15,12,16],[12,20,12,21],[12,25,12,26],[25,8,25,10],[13,0,13,28],[16,15,16,20],[17,15,17,20],[18,15,18,20],[24,8,24,10],[14,0,14,28],[15,0,15,28],[21,9,21,10],[22,9,22,10]]}
["（第三面）",null,null,null,null,null,null,null,null,null,null,null,null,null,null,null,null,null,null,null,null,null,null,null,null,null,null,null,null,null,1,"※"]
["【１．住宅部分の概要】",null,null,null,null,null,null,null,null,null,null,null,null,null,null,null,null,null,null,null,null,null,null,null,null,null,null,null,null,null,2]
[null,"【イ．","番号】",null,null,null,null,null,null,null,null,null,null,null,null,null,null,null,null,null,null,null,null,null,null,null,null,null,null,null,3]
[null,"【ロ．","新設又はその他の別】",null,null,null,null,null,"（1）","新設",null,null,"〔",null,"（1）","新築",null,null,null,"（2）","増築",null,null,null,"（3）","改築",null,"〕",null,null,4]
[null,null,null,null,null,null,null,null,"（2）","その他",null,null,"〔",null,null,null,null,null,null,"（2）","増築",null,null,null,"（3）","改築",null,"〕",null,null,5]
[null,"【ハ．","新設住宅の資金】",null,null,null,null,null,"（1）","民間資金住宅",null,null,null,null,"（2）","公営住宅",null,null,null,"（3）","住宅金融支援機構住宅"]
[null,null,null,null,null,null,null,null,"（4）","都市再生機構住宅",null,null,null,null,null,null,null,null,null,"（5）","その他"]
[null,"【二．","住宅の建築工法】",null,null,null,null,null,"（1）","在来工法",null,null,null,null,"（2）","プレハブ工法",null,null,null,"（3）","枠組壁工法"]
[null,"【ホ．","住宅の種類】",null,null,null,null,null,"（1）","専用住宅",null,null,null,null,"（2）","併用住宅",null,null,null,"（3）","その他の住宅"]
[null,"【ヘ．","住宅の建て方】",null,null,null,null,null,"（1）","一戸建住宅",null,null,null,null,"（2）","長屋建住宅",null,null,null,"（3）","共同住宅"]
[null,"【ト．","利用関係】",null,null,null,null,null,"（1）","持家",null,null,null,null,"（2）","貸家",null,null,null,"（3）","給与住宅",null,null,null,"（4）","分譲住宅"]
[null,"【チ．","住宅の戸数】",null,null,null,null,null,"（",null,null,"戸）",null,null,"（",null,null,"戸）",null,"（",null,null,"戸）",null,"（",null,null,"戸）"]
[null,"【リ．","工事部分の床面積の合計】",null,null,null,null,null,"（",null,null,"㎡）",null,null,"（",null,null,"㎡）",null,"（",null,null,"㎡）",null,"（",null,null,"㎡）"]
[]
["（第四面）"]
[]
["【１．","主要用途】",null,null,null,null,null,null,"（１）","居住専用建築物",null,null,null,null,"（",null,null,null,null,null,null,"）"]
[null,null,null,null,null,null,null,null,"（２）","居住産業併用建築物",null,null,null,null,"（",null,null,null,null,null,null,"）"]
[null,null,null,null,null,null,null,null,"（３）","産業専用建築物",null,null,null,null,"（",null,null,null,null,null,null,"）"]
["【２．","除却要因】",null,null,null,null,null,null,"（１）","老朽して危険があるため",null,null,null,null,null,"（２）","その他"]
["【３．","構造】",null,null,null,null,null,null,"（１）","木造",null,null,null,null,null,"（２）","その他"]
["【４．","建築物の数】",null,null,null,null,null,null,null,null,null,"棟"]
["【５．","住宅の戸数】",null,null,null,null,null,null,null,null,null,"戸"]
["【６．","住宅の利用関係】",null,null,null,null,null,null,"（１）","持家",null,null,"（２）","貸家",null,null,"（３）","給与住宅"]
["【７．","建築物の床面積の合計】",null,null,null,null,null,null,null,null,null,"㎡"]
["【８．","建築物の評価額】",null,null,null,null,null,null,null,null,null,"千円"]

{"sheet":"関係企業等確認書","index":23,"n_rows":53,"n_cols":35,"rows_kept":53,"cut":false,"hidden":true,"merged":[[37,23,37,34],[38,23,52,34],[21,1,22,3],[23,1,24,3],[30,4,30,34],[35,4,35,34],[21,5,22,34],[23,5,24,34],[27,1,30,3],[31,1,35,3],[14,34,15,34],[18,0,18,35],[14,15,15,16],[14,18,14,32],[15,18,15,32],[3,0,5,35],[6,0,6,35],[12,32,12,34],[12,28,12,30],[12,24,12,26],[12,20,12,22],[12,16,12,18]]}
[]
[]
[]
["関係企業等確認書"]
[]
[]
["（当該建築計画に係る制限業種に係る業務を行う企業等一覧等）　"]
[]
[null,"指定確認検査機関"]
[null,"株式会社グッド・アイズ建築検査機構　 様"]
[]
[]
[null,null,null,null,null,null,null,null,null,null,null,null,null,null,null,"□","建築主",null,null,"□","代理者",null,null,"□","設計者",null,null,"□","監理者",null,null,"□","施工者"]
[]
[null,null,null,null,null,null,null,null,null,null,null,null,null,null,null,"氏名",null,null,null,null,null,null,null,null,null,null,null,null,null,null,null,null,null,null,"印"]
[]
[]
[]
["本計画における関係企業等は、記載された事項に相違ありません。"]
[]
[]
[null,"物件名",null,null,null,{"$f":"IF(第二面!G179=\"\",\"\",第二面!G179&第二面!N179)","v":""}]
[]
[null,"申請地",null,null,null,{"$f":"IF(第三面!H3=\"\",\"\",第三面!E3&第三面!H3)","v":""}]
[]
[]
[]
[null,1,null,null," 建築主、代理者、設計者、工事監理者、建築設備の設計及び工事監理に関し意見を聞いた者"]
[null,null,null,null,"□","各申請書（確認申請書、計画変更申請書、中間検査申請書、完了検査申請書）"]
[null,null,null,null,null,"による他、別紙による。"]
[null,null,null,null," ※ 別紙は、必要に応じて添付してください。施工体系図、現場連絡網、協力業者一覧等に代えることもできます。 "]
[null,2,null,null," 工事施工者"]
[null,null,null,null,{"$f":"IF(第二面!I168=\"\",\"□\",\"■\")","v":"□"},"各申請書（確認申請書、計画変更申請書、中間検査申請書、完了検査申請書）"]
[null,null,null,null,null,"による他、別紙による。"]
[null,null,null,null,"□","未定"]
[null,null,null,null," ※ 別紙は、必ず添付してください。施工体系図、現場連絡網、協力業者一覧等に代えることもできます。"]
[]
[null,null,null,null,null,null,null,null,null,null,null,null,null,null,null,null,null,null,null,null,null,null,null,"※受付欄"]
[null,"1.グッド・アイズ社員が所属する企業、団体等（過去二年間所属していた企業、団体等を含む。）"]
[null,"2.グッド・アイズ社員の親族（二親等）が役員である企業、団体等（過去二年間に役員であった企業、団体等を含む。）"]
[null,"上記1、2が建築主又は設計・工事監理業、建設業等、不動産業等その他「制限業種」に係る業務を行う建築物について、"]
[null,"確認検査業務に従事してはなりません。"]
[]
[null,"制限業種"]
[null,"1.設計・工事監理業（工事請負契約事務、工事の指導監督、手続きの代理等の業務及びコンサルタント業務を含む。　　　　　　　　　"]
[null,"  ただし、建築物に関する調査、鑑定業務は除く。）"]
[null,"2.建設業（しゅんせつ工事業、造園工事業、さく井工事業等建築物又はその敷地に係るものではない業務を除く。）"]
[null,"3.不動産業（土地・建物売買業、不動産代理・仲介業、不動産賃貸業及び不動産管理業を含む。）"]
[null,"4.建築設備の製造、供給及び流通業　"]
[]
[null,"親族"]
[null,"配偶者並びに二親等以内の血族及び姻族をいう。（本人の祖父母・兄弟の配偶者・孫の配偶者と配偶者の祖父母・いわ"]
[null,"ゆる義理の兄弟まで含む。）偶者と配偶者の祖父母・いわゆる義理の兄弟まで含む。）"]

{"sheet":"建築計画概要書第一面","index":24,"n_rows":179,"n_cols":24,"rows_kept":179,"cut":false,"hidden":false,"merged":[[50,3,50,4],[40,6,40,20],[41,12,41,14],[45,10,45,12],[50,6,50,8],[46,6,46,20],[43,10,43,12],[50,15,50,17],[45,14,45,15],[44,6,44,20],[45,7,45,8],[47,7,47,20],[49,6,49,20],[48,6,48,7],[50,12,50,14],[48,8,48,20],[171,4,171,10],[172,4,172,10],[173,4,173,10],[171,12,171,13],[171,14,171,21],[172,12,172,13],[172,14,172,21],[173,12,173,13],[173,14,173,21],[170,0,170,3],[7,6,8,20],[45,17,45,18],[39,8,39,20],[35,6,35,20],[31,9,31,11],[31,18,31,20],[36,17,36,18],[17,6,17,20],[26,7,26,8],[125,2,125,3],[116,6,116,19],[111,6,111,19],[113,6,113,19],[119,6,119,19],[120,6,120,19],[115,6,115,19],[112,6,112,19],[117,7,117,20],[41,3,41,4],[41,6,41,8],[16,7,16,8],[30,6,30,20],[38,7,38,20],[19,8,19,20],[22,0,22,5],[24,14,24,15],[24,7,24,8],[24,10,24,12],[26,19,26,20],[27,6,27,20],[28,7,28,20],[24,17,24,18],[14,10,14,12],[14,14,14,15],[14,17,14,18],[14,19,14,20],[14,7,14,8],[15,6,15,20],[18,7,18,20],[16,10,16,12],[16,14,16,15],[31,12,31,14],[31,15,31,17],[34,10,34,12],[26,17,26,18],[26,10,26,12],[41,15,41,17],[43,17,43,18],[16,17,16,18],[20,6,20,20],[24,19,24,20],[19,6,19,7],[25,6,25,20],[21,0,21,21],[31,3,31,4],[43,7,43,8],[43,14,43,15],[41,9,41,11],[41,18,41,20],[36,10,36,12],[26,14,26,15],[34,14,34,15],[37,6,37,20],[43,19,43,20],[31,6,31,8],[52,7,52,8],[52,10,52,12],[2,0,2,21],[4,0,4,21],[5,0,5,6],[6,6,6,20],[5,18,5,20],[13,0,13,6],[9,7,9,20],[29,8,29,20],[36,14,36,15],[36,19,36,20],[34,7,34,8],[29,6,29,7],[36,7,36,8],[34,17,34,18],[33,2,33,3],[16,19,16,20],[23,2,23,3],[12,6,12,20],[10,8,10,20],[45,19,45,20],[10,6,10,7],[34,19,34,20],[52,14,52,15],[52,17,52,18],[52,19,52,20],[50,18,50,20],[66,10,66,11],[59,15,59,17],[81,6,81,20],[75,6,75,20],[76,10,76,11],[77,6,77,20],[59,12,59,14],[70,10,70,11],[58,6,58,20],[57,8,57,20],[57,6,57,7],[55,6,55,20],[54,19,54,20],[54,14,54,15],[50,9,50,11],[56,7,56,20],[54,7,54,8],[54,10,54,12],[54,17,54,18],[53,6,53,20],[98,2,98,8],[104,6,104,19],[99,6,99,19],[100,6,100,19],[93,8,93,20],[94,6,94,19],[59,9,59,11],[59,3,59,4],[88,0,88,6],[89,2,89,8],[86,10,86,11],[69,6,69,20],[59,18,59,20],[78,10,78,11],[73,6,73,20],[59,6,59,8],[74,10,74,11],[65,6,65,20],[96,6,96,19],[85,6,85,20],[83,6,83,20],[84,10,84,11],[82,10,82,11],[108,6,108,19],[102,6,102,7],[101,7,101,20],[107,6,107,19],[105,6,105,19],[118,8,118,20],[110,6,110,7],[110,8,110,20],[103,6,103,19],[102,8,102,20],[109,7,109,20],[118,6,118,7],[135,2,135,3],[127,6,127,20],[131,6,131,7],[128,7,128,8],[128,10,128,12],[132,6,132,20],[133,15,133,17],[133,18,133,20],[131,8,131,20],[154,19,154,20],[152,12,152,14],[126,19,126,20],[126,10,126,12],[126,14,126,15],[128,14,128,15],[128,17,128,18],[130,7,130,20],[126,17,126,18],[129,6,129,20],[126,7,126,8],[147,10,147,12],[145,10,145,12],[146,6,146,20],[147,17,147,18],[133,9,133,11],[133,12,133,14],[136,19,136,20],[136,14,136,15],[128,19,128,20],[141,8,141,20],[145,7,145,8],[154,17,154,18],[138,7,138,8],[161,15,161,17],[161,6,161,8],[124,0,124,5],[121,6,121,19],[174,0,174,3],[163,0,163,3],[167,7,167,20],[165,15,165,16],[174,6,174,14],[154,10,154,12],[154,14,154,15],[156,10,156,12],[137,6,137,20],[138,19,138,20],[143,15,143,17],[152,9,152,11],[145,17,145,18],[142,6,142,20],[138,10,138,12],[152,6,152,8],[150,8,150,20],[150,6,150,7],[160,6,160,20],[159,6,159,7],[166,6,166,20],[152,15,152,17],[148,6,148,20],[179,4,179,11],[179,12,179,18],[39,6,39,7],[92,7,92,20],[91,6,91,19],[178,4,178,11],[178,12,178,18],[156,14,156,15],[158,7,158,20],[156,17,156,18],[176,12,176,18],[168,8,168,20],[175,4,175,11],[175,12,175,18],[169,6,169,20],[159,8,159,20],[168,6,168,7],[161,9,161,11],[161,12,161,14],[164,6,164,20],[136,17,136,18],[177,4,177,11],[177,12,177,18],[95,6,95,19],[90,6,90,19],[93,6,93,7],[165,6,165,8],[165,10,165,12],[161,18,161,20],[147,19,147,20],[157,6,157,20],[154,7,154,8],[138,17,138,18],[152,18,152,20],[151,6,151,20],[155,6,155,20],[156,19,156,20],[156,7,156,8],[147,14,147,15],[138,14,138,15],[176,4,176,11],[145,14,145,15],[136,10,136,12],[145,19,145,20],[174,15,174,20],[143,6,143,8],[143,9,143,11],[143,12,143,14],[149,7,149,20],[133,6,133,8],[143,18,143,20],[140,7,140,20],[139,6,139,20],[141,6,141,7],[147,7,147,8],[136,7,136,8]]}
["第三号様式（第一条の三、第三条、第三条の三、第三条の四、第三条の七、第三条の十、第六条の三、第十一条の三関係）（A4)"]
[]
["建築計画概要書（第一面）"]
[]
["建築主等の概要"]
["【１．建築主】",null,null,null,null,null,null,null,null,null,null,null,null,null,null,null,null,null,{"$f":"IF(第二面!O7=\"\",\"\",第二面!O7)","v":""}]
[null,"【","イ．","氏名のフリガナ","】",null,{"$f":"IF(第二面!G4=\"\",\"\",第二面!G4)","v":""}]
[null,"【","ロ．","氏名","】",null,{"$f":"IF(第二面!G5=\"\",\"\",第二面!G5)","v":""}]
[]
[null,"【","ハ．","郵便番号","】",null,"〒",{"$f":"IF(AND(第二面!H8<>\"\",第二面!J8<>\"\"),第二面!H8&\"-\"&第二面!J8,\"\")","v":""}]
[null,"【","二．","住所","】",null,{"$f":"IF(第二面!H9=\"\",\"\",第二面!H9)","v":""},null,{"$f":"IF(第二面!I9=\"\",\"\",第二面!I9)","v":""}]
[]
[null,"【","ホ．","電話番号","】",null,{"$f":"IF(第二面!H10=\"\",\"\",第二面!H10&\"-\"&第二面!J10&\"-\"&第二面!L10)","v":""}]
["【２．代理者】"]
[null,"【","イ．","資格","】",null,"（",{"$f":"IF(第二面!H12=\"\",\"\",第二面!H12)","v":""},null,"）","建築士",null,null,"（",{"$f":"IF(第二面!L12=\"\",\"\",第二面!L12)","v":""},null,"）","登録　第",null,{"$f":"IF(第二面!O12=\"\",\"\",第二面!O12)","v":""},null,"号"]
[null,"【","ロ．","氏名","】",null,{"$f":"IF(第二面!G13=\"\",\"\",第二面!G13)","v":""}]
[null,"【","ハ．","建築士事務所名","】",null,"（",{"$f":"IF(第二面!H14=\"\",\"\",第二面!H14)","v":""},null,"）","建築士事務所",null,null,"（",{"$f":"IF(第二面!L14=\"\",\"\",第二面!L14)","v":""},null,"）","知事登録　第",null,{"$f":"IF(第二面!O14=\"\",\"\",第二面!O14)","v":""},null,"号"]
[null,null,null,null,null,null,{"$f":"IF(第二面!G15=\"\",\"\",第二面!G15)","v":""}]
[null,"【","二．","郵便番号","】",null,"〒",{"$f":"IF(AND(第二面!H16<>\"\",第二面!J16<>\"\"),第二面!H16&\"-\"&第二面!J16,\"\")","v":""}]
[null,"【","ホ．","所在地","】",null,{"$f":"IF(第二面!H17=\"\",\"\",第二面!H17)","v":""},null,{"$f":"IF(第二面!I17=\"\",\"\",第二面!I17)","v":""}]
[null,"【","へ．","電話番号","】",null,{"$f":"IF(第二面!H18=\"\",\"\",第二面!H18&\"-\"&第二面!J18&\"-\"&第二面!L18)","v":""}]
[]
["【３．設計者】"]
[null,"（","代表となる設計者）"]
[null,"【","イ．","資格","】",null,"（",{"$f":"IF(第二面!H22=\"\",\"\",第二面!H22)","v":""},null,"）","建築士",null,null,"（",{"$f":"IF(第二面!L22=\"\",\"\",第二面!L22)","v":""},null,"）","登録　第",null,{"$f":"IF(第二面!O22=\"\",\"\",第二面!O22)","v":""},null,"号"]
[null,"【","ロ．","氏名","】",null,{"$f":"IF(第二面!G23=\"\",\"\",第二面!G23)","v":""}]
[null,"【","ハ．","建築士事務所名","】",null,"（",{"$f":"IF(第二面!H24=\"\",\"\",第二面!H24)","v":""},null,"）","建築士事務所",null,null,"（",{"$f":"IF(第二面!L24=\"\",\"\",第二面!L24)","v":""},null,"）","知事登録　第",null,{"$f":"IF(第二面!O24=\"\",\"\",第二面!O24)","v":""},null,"号"]
[null,null,null,null,null,null,{"$f":"IF(第二面!G25=\"\",\"\",第二面!G25)","v":""}]
[null,"【","二．","郵便番号","】",null,"〒",{"$f":"IF(AND(第二面!H26<>\"\",第二面!J26<>\"\"),第二面!H26&\"-\"&第二面!J26,\"\")","v":""}]
[null,"【","ホ．","所在地","】",null,{"$f":"IF(第二面!H27=\"\",\"\",第二面!H27)","v":""},null,{"$f":"IF(第二面!I27=\"\",\"\",第二面!I27)","v":""}]
[null,"【","へ．","電話番号","】",null,{"$f":"IF(第二面!H28=\"\",\"\",第二面!H28&\"-\"&第二面!J28&\"-\"&第二面!L28)","v":""}]
[null,"【","ト．","作成又は確認した設計図書",null,"】",{"$f":"IF(第二面!G29=\"\",\"\",第二面!G29)","v":""},null,null,{"$f":"IF(第二面!I29=\"\",\"\",第二面!I29)","v":""},null,null,{"$f":"IF(第二面!K29=\"\",\"\",第二面!K29)","v":""},null,null,{"$f":"IF(第二面!M29=\"\",\"\",第二面!M29)","v":""}]
[]
[null,"（","その他の設計者）"]
[null,"【","イ．","資格","】",null,"（",{"$f":"IF(第二面!H32=\"\",\"\",第二面!H32)","v":""},null,"）","建築士",null,null,"（",{"$f":"IF(第二面!L32=\"\",\"\",第二面!L32)","v":""},null,"）","登録　第",null,{"$f":"IF(第二面!O32=\"\",\"\",第二面!O32)","v":""},null,"号"]
[null,"【","ロ．","氏名","】",null,{"$f":"IF(第二面!G33=\"\",\"\",第二面!G33)","v":""}]
[null,"【","ハ．","建築士事務所名","】",null,"（",{"$f":"IF(第二面!H34=\"\",\"\",第二面!H34)","v":""},null,"）","建築士事務所",null,null,"（",{"$f":"IF(第二面!L34=\"\",\"\",第二面!L34)","v":""},null,"）","知事登録　第",null,{"$f":"IF(第二面!O34=\"\",\"\",第二面!O34)","v":""},null,"号"]
[null,null,null,null,null,null,{"$f":"IF(第二面!G35=\"\",\"\",第二面!G35)","v":""}]
[null,"【","二．","郵便番号","】",null,"〒",{"$f":"IF(AND(第二面!H36<>\"\",第二面!J36<>\"\"),第二面!H36&\"-\"&第二面!J36,\"\")","v":""}]
[null,"【","ホ．","所在地","】",null,{"$f":"IF(第二面!H37=\"\",\"\",第二面!H37)","v":""},null,{"$f":"IF(第二面!I37=\"\",\"\",第二面!I37)","v":""}]
[null,"【","へ．","電話番号","】",null,{"$f":"IF(第二面!H38=\"\",\"\",第二面!H38&\"-\"&第二面!J38&\"-\"&第二面!L38)","v":""}]
[null,"【","ト．","作成又は確認した設計図書",null,"】",{"$f":"IF(第二面!G39=\"\",\"\",第二面!G39)","v":""},null,null,{"$f":"IF(第二面!I39=\"\",\"\",第二面!I39)","v":""},null,null,{"$f":"IF(第二面!K39=\"\",\"\",第二面!K39)","v":""},null,null,{"$f":"IF(第二面!M39=\"\",\"\",第二面!M39)","v":""}]
[]
[null,"【","イ．","資格","】",null,"（",{"$f":"IF(第二面!H41=\"\",\"\",第二面!H41)","v":""},null,"）","建築士",null,null,"（",{"$f":"IF(第二面!L41=\"\",\"\",第二面!L41)","v":""},null,"）","登録　第",null,{"$f":"IF(第二面!O41=\"\",\"\",第二面!O41)","v":""},null,"号"]
[null,"【","ロ．","氏名","】",null,{"$f":"IF(第二面!G42=\"\",\"\",第二面!G42)","v":""}]
[null,"【","ハ．","建築士事務所名","】",null,"（",{"$f":"IF(第二面!H43=\"\",\"\",第二面!H43)","v":""},null,"）","建築士事務所",null,null,"（",{"$f":"IF(第二面!L43=\"\",\"\",第二面!L43)","v":""},null,"）","知事登録　第",null,{"$f":"IF(第二面!O43=\"\",\"\",第二面!O43)","v":""},null,"号"]
[null,null,null,null,null,null,{"$f":"IF(第二面!G44=\"\",\"\",第二面!G44)","v":""}]
[null,"【","二．","郵便番号","】",null,"〒",{"$f":"IF(AND(第二面!H45<>\"\",第二面!J45<>\"\"),第二面!H45&\"-\"&第二面!J45,\"\")","v":""}]
[null,"【","ホ．","所在地","】",null,{"$f":"IF(第二面!H46=\"\",\"\",第二面!H46)","v":""},null,{"$f":"IF(第二面!I46=\"\",\"\",第二面!I46)","v":""}]
[null,"【","へ．","電話番号","】",null,{"$f":"IF(第二面!H47=\"\",\"\",第二面!H47&\"-\"&第二面!J47&\"-\"&第二面!L47)","v":""}]
[null,"【","ト．","作成又は確認した設計図書",null,"】",{"$f":"IF(第二面!G48=\"\",\"\",第二面!G48)","v":""},null,null,{"$f":"IF(第二面!I48=\"\",\"\",第二面!I48)","v":""},null,null,{"$f":"IF(第二面!K48=\"\",\"\",第二面!K48)","v":""},null,null,{"$f":"IF(第二面!M48=\"\",\"\",第二面!M48)","v":""}]
[]
[null,"【","イ．","資格","】",null,"（",{"$f":"IF(第二面!H50=\"\",\"\",第二面!H50)","v":""},null,"）","建築士",null,null,"（",{"$f":"IF(第二面!L50=\"\",\"\",第二面!L50)","v":""},null,"）","登録　第",null,{"$f":"IF(第二面!O50=\"\",\"\",第二面!O50)","v":""},null,"号"]
[null,"【","ロ．","氏名","】",null,{"$f":"IF(第二面!G51=\"\",\"\",第二面!G51)","v":""}]
[null,"【","ハ．","建築士事務所名","】",null,"（",{"$f":"IF(第二面!H52=\"\",\"\",第二面!H52)","v":""},null,"）","建築士事務所",null,null,"（",{"$f":"IF(第二面!L52=\"\",\"\",第二面!L52)","v":""},null,"）","知事登録　第",null,{"$f":"IF(第二面!O52=\"\",\"\",第二面!O52)","v":""},null,"号"]
[null,null,null,null,null,null,{"$f":"IF(第二面!G53=\"\",\"\",第二面!G53)","v":""}]
[null,"【","二．","郵便番号","】",null,"〒",{"$f":"IF(AND(第二面!H54<>\"\",第二面!J54<>\"\"),第二面!H54&\"-\"&第二面!J54,\"\")","v":""}]
[null,"【","ホ．","所在地","】",null,{"$f":"IF(第二面!H55=\"\",\"\",第二面!H55)","v":""},null,{"$f":"IF(第二面!I55=\"\",\"\",第二面!I55)","v":""}]
[null,"【","へ．","電話番号","】",null,{"$f":"IF(第二面!H56=\"\",\"\",第二面!H56&\"-\"&第二面!J56&\"-\"&第二面!L56)","v":""}]
[null,"【","ト．","作成又は確認した設計図書",null,"】",{"$f":"IF(第二面!G57=\"\",\"\",第二面!G57)","v":""},null,null,{"$f":"IF(第二面!I57=\"\",\"\",第二面!I57)","v":""},null,null,{"$f":"IF(第二面!K57=\"\",\"\",第二面!K57)","v":""},null,null,{"$f":"IF(第二面!M57=\"\",\"\",第二面!M57)","v":""}]
[]
[]
[null,"（","構造設計一級建築士又は設備設計一級建築士である旨の表示をした者）"]
[null,null,"上記の設計者のうち、"]
[null,null,{"$f":"第二面!C64","v":"□"},"建築士法第20条の２第１項の表示をした者"]
[null,"【","イ．","氏名","】",null,{"$f":"IF(第二面!G65=\"\",\"\",第二面!G65)","v":""}]
[null,"【","ロ．","資格","】",null,"構造設計一級建築士交付第",null,null,null,{"$f":"IF(第二面!J66=\"\",\"\",第二面!J66)","v":""},null,"号"]
[]
[null,null,{"$f":"第二面!C68","v":"□"},"建築士法第20条の２第３項の表示をした者"]
[null,"【","イ．","氏名","】",null,{"$f":"IF(第二面!G69=\"\",\"\",第二面!G69)","v":""}]
[null,"【","ロ．","資格","】",null,"構造設計一級建築士交付第",null,null,null,{"$f":"IF(第二面!J70=\"\",\"\",第二面!J70)","v":""},null,"号"]
[]
[null,null,{"$f":"第二面!C72","v":"□"},"建築士法第20条の３第１項の表示をした者"]
[null,"【","イ．","氏名","】",null,{"$f":"IF(第二面!G73=\"\",\"\",第二面!G73)","v":""}]
[null,"【","ロ．","資格","】",null,"設備設計一級建築士交付第",null,null,null,{"$f":"IF(第二面!J74=\"\",\"\",第二面!J74)","v":""},null,"号"]
[null,"【","イ．","氏名","】",null,{"$f":"IF(第二面!G75=\"\",\"\",第二面!G75)","v":""}]
[null,"【","ロ．","資格","】",null,"設備設計一級建築士交付第",null,null,null,{"$f":"IF(第二面!J76=\"\",\"\",第二面!J76)","v":""},null,"号"]
[null,"【","イ．","氏名","】",null,{"$f":"IF(第二面!G77=\"\",\"\",第二面!G77)","v":""}]
[null,"【","ロ．","資格","】",null,"設備設計一級建築士交付第",null,null,null,{"$f":"IF(第二面!J78=\"\",\"\",第二面!J78)","v":""},null,"号"]
[]
[null,null,{"$f":"第二面!C80","v":"□"},"建築士法第20条の３第３項の表示をした者"]
[null,"【","イ．","氏名","】",null,{"$f":"IF(第二面!G81=\"\",\"\",第二面!G81)","v":""}]
[null,"【","ロ．","資格","】",null,"設備設計一級建築士交付第",null,null,null,{"$f":"IF(第二面!J82=\"\",\"\",第二面!J82)","v":""},null,"号"]
[null,"【","イ．","氏名","】",null,{"$f":"IF(第二面!G83=\"\",\"\",第二面!G83)","v":""}]
[null,"【","ロ．","資格","】",null,"設備設計一級建築士交付第",null,null,null,{"$f":"IF(第二面!J84=\"\",\"\",第二面!J84)","v":""},null,"号"]
[null,"【","イ．","氏名","】",null,{"$f":"IF(第二面!G85=\"\",\"\",第二面!G85)","v":""}]
[null,"【","ロ．","資格","】",null,"設備設計一級建築士交付第",null,null,null,{"$f":"IF(第二面!J86=\"\",\"\",第二面!J86)","v":""},null,"号"]
[]
["【４．建築設備の設計に関し意見を聴いた者】"]
[null,"（","代表となる建築設備の設計に関し意見を聴いた者）"]
[null,"【","イ．","氏名","】",null,{"$f":"IF(第二面!G90=\"\",\"\",第二面!G90)","v":""}]
[null,"【","ロ．","勤務先","】",null,{"$f":"IF(第二面!G91=\"\",\"\",第二面!G91)","v":""}]
[null,"【","ハ．","郵便番号","】",null,"〒",{"$f":"IF(AND(第二面!H92<>\"\",第二面!J92<>\"\"),第二面!H92&\"-\"&第二面!J92,\"\")","v":""}]
[null,"【","二．","所在地","】",null,{"$f":"IF(第二面!H93=\"\",\"\",第二面!H93)","v":""},null,{"$f":"IF(第二面!I93=\"\",\"\",第二面!I93)","v":""}]
[null,"【","ホ．","電話番号","】",null,{"$f":"IF(第二面!H94=\"\",\"\",第二面!H94&\"-\"&第二面!J94&\"-\"&第二面!L94)","v":""}]
[null,"【","ヘ．","登録番号","】",null,{"$f":"IF(第二面!G95=\"\",\"\",第二面!G95)","v":""}]
[null,"【","ト．","意見を聴いた設計図書","】",null,{"$f":"IF(第二面!G96=\"\",\"\",第二面!G96)","v":""}]
[]
[null,"（","その他の建築設備の設計に関し意見を聴いた者）"]
[null,"【","イ．","氏名","】",null,{"$f":"IF(第二面!G99=\"\",\"\",第二面!G99)","v":""}]
[null,"【","ロ．","勤務先","】",null,{"$f":"IF(第二面!G100=\"\",\"\",第二面!G100)","v":""}]
[null,"【","ハ．","郵便番号","】",null,"〒",{"$f":"IF(AND(第二面!H101<>\"\",第二面!J101<>\"\"),第二面!H101&\"-\"&第二面!J101,\"\")","v":""}]
[null,"【","二．","所在地","】",null,{"$f":"IF(第二面!H102=\"\",\"\",第二面!H102)","v":""},null,{"$f":"IF(第二面!I102=\"\",\"\",第二面!I102)","v":""}]
[null,"【","ホ．","電話番号","】",null,{"$f":"IF(第二面!H103=\"\",\"\",第二面!H103&\"-\"&第二面!J103&\"-\"&第二面!L103)","v":""}]
[null,"【","ヘ．","登録番号","】",null,{"$f":"IF(第二面!G104=\"\",\"\",第二面!G104)","v":""}]
[null,"【","ト．","意見を聴いた設計図書","】",null,{"$f":"IF(第二面!G105=\"\",\"\",第二面!G105)","v":""}]
[]
[null,"【","イ．","氏名","】",null,{"$f":"IF(第二面!G107=\"\",\"\",第二面!G107)","v":""}]
[null,"【","ロ．","勤務先","】",null,{"$f":"IF(第二面!G108=\"\",\"\",第二面!G108)","v":""}]
[null,"【","ハ．","郵便番号","】",null,"〒",{"$f":"IF(AND(第二面!H109<>\"\",第二面!J109<>\"\"),第二面!H109&\"-\"&第二面!J109,\"\")","v":""}]
[null,"【","二．","所在地","】",null,{"$f":"IF(第二面!H110=\"\",\"\",第二面!H110)","v":""},null,{"$f":"IF(第二面!I110=\"\",\"\",第二面!I110)","v":""}]
[null,"【","ホ．","電話番号","】",null,{"$f":"IF(第二面!H111=\"\",\"\",第二面!H111&\"-\"&第二面!J111&\"-\"&第二面!L111)","v":""}]
[null,"【","ヘ．","登録番号","】",null,{"$f":"IF(第二面!G112=\"\",\"\",第二面!G112)","v":""}]
[null,"【","ト．","意見を聴いた設計図書","】",null,{"$f":"IF(第二面!G113=\"\",\"\",第二面!G113)","v":""}]
[]
[null,"【","イ．","氏名","】",null,{"$f":"IF(第二面!G115=\"\",\"\",第二面!G115)","v":""}]
[null,"【","ロ．","勤務先","】",null,{"$f":"IF(第二面!G116=\"\",\"\",第二面!G116)","v":""}]
[null,"【","ハ．","郵便番号","】",null,"〒",{"$f":"IF(AND(第二面!H117<>\"\",第二面!J117<>\"\"),第二面!H117&\"-\"&第二面!J117,\"\")","v":""}]
[null,"【","二．","所在地","】",null,{"$f":"IF(第二面!H118=\"\",\"\",第二面!H118)","v":""},null,{"$f":"IF(第二面!I118=\"\",\"\",第二面!I118)","v":""}]
[null,"【","ホ．","電話番号","】",null,{"$f":"IF(第二面!H119=\"\",\"\",第二面!H119&\"-\"&第二面!J119&\"-\"&第二面!L119)","v":""}]
[null,"【","ヘ．","登録番号","】",null,{"$f":"IF(第二面!G120=\"\",\"\",第二面!G120)","v":""}]
[null,"【","ト．","意見を聴いた設計図書","】",null,{"$f":"IF(第二面!G121=\"\",\"\",第二面!G121)","v":""}]
[]
[]
["【５．工事監理者】"]
[null,"（","代表となる工事監理者）"]
[null,"【","イ．","資格","】",null,"（",{"$f":"IF(第二面!H126=\"\",\"\",第二面!H126)","v":""},null,"）","建築士",null,null,"（",{"$f":"IF(第二面!L126=\"\",\"\",第二面!L126)","v":""},null,"）","登録　第",null,{"$f":"IF(第二面!O126=\"\",\"\",第二面!O126)","v":""},null,"号"]
[null,"【","ロ．","氏名","】",null,{"$f":"IF(第二面!G127=\"\",\"\",第二面!G127)","v":""}]
[null,"【","ハ．","建築士事務所名","】",null,"（",{"$f":"IF(第二面!H128=\"\",\"\",第二面!H128)","v":""},null,"）","建築士事務所",null,null,"（",{"$f":"IF(第二面!L128=\"\",\"\",第二面!L128)","v":""},null,"）","知事登録　第",null,{"$f":"IF(第二面!O128=\"\",\"\",第二面!O128)","v":""},null,"号"]
[null,null,null,null,null,null,{"$f":"IF(第二面!G129=\"\",\"\",第二面!G129)","v":""}]
[null,"【","二．","郵便番号","】",null,"〒",{"$f":"IF(AND(第二面!H130<>\"\",第二面!J130<>\"\"),第二面!H130&\"-\"&第二面!J130,\"\")","v":""}]
[null,"【","ホ．","所在地","】",null,{"$f":"IF(第二面!H131=\"\",\"\",第二面!H131)","v":""},null,{"$f":"IF(第二面!I131=\"\",\"\",第二面!I131)","v":""}]
[null,"【","へ．","電話番号","】",null,{"$f":"IF(第二面!H132=\"\",\"\",第二面!H132&\"-\"&第二面!J132&\"-\"&第二面!L132)","v":""}]
[null,"【","ト．","工事と照合する設計図書","】",null,{"$f":"IF(第二面!G133=\"\",\"\",第二面!G133)","v":""},null,null,{"$f":"IF(第二面!I133=\"\",\"\",第二面!I133)","v":""},null,null,{"$f":"IF(第二面!K133=\"\",\"\",第二面!K133)","v":""},null,null,{"$f":"IF(第二面!M133=\"\",\"\",第二面!M133)","v":""}]
[]
[null,"（","その他の工事監理者）"]
[null,"【","イ．","資格","】",null,"（",{"$f":"IF(第二面!H136=\"\",\"\",第二面!H136)","v":""},null,"）","建築士",null,null,"（",{"$f":"IF(第二面!L136=\"\",\"\",第二面!L136)","v":""},null,"）","登録　第",null,{"$f":"IF(第二面!O136=\"\",\"\",第二面!O136)","v":""},null,"号"]
[null,"【","ロ．","氏名","】",null,{"$f":"IF(第二面!G137=\"\",\"\",第二面!G137)","v":""}]
[null,"【","ハ．","建築士事務所名","】",null,"（",{"$f":"IF(第二面!H138=\"\",\"\",第二面!H138)","v":""},null,"）","建築士事務所",null,null,"（",{"$f":"IF(第二面!L138=\"\",\"\",第二面!L138)","v":""},null,"）","知事登録　第",null,{"$f":"IF(第二面!O138=\"\",\"\",第二面!O138)","v":""},null,"号"]
[null,null,null,null,null,null,{"$f":"IF(第二面!G139=\"\",\"\",第二面!G139)","v":""}]
[null,"【","二．","郵便番号","】",null,"〒",{"$f":"IF(AND(第二面!H140<>\"\",第二面!J140<>\"\"),第二面!H140&\"-\"&第二面!J140,\"\")","v":""}]
[null,"【","ホ．","所在地","】",null,{"$f":"IF(第二面!H141=\"\",\"\",第二面!H141)","v":""},null,{"$f":"IF(第二面!I141=\"\",\"\",第二面!I141)","v":""}]
[null,"【","へ．","電話番号","】",null,{"$f":"IF(第二面!H142=\"\",\"\",第二面!H142&\"-\"&第二面!J142&\"-\"&第二面!L142)","v":""}]
[null,"【","ト．","工事と照合する設計図書","】",null,{"$f":"IF(第二面!G143=\"\",\"\",第二面!G143)","v":""},null,null,{"$f":"IF(第二面!I143=\"\",\"\",第二面!I143)","v":""},null,null,{"$f":"IF(第二面!K143=\"\",\"\",第二面!K143)","v":""},null,null,{"$f":"IF(第二面!M143=\"\",\"\",第二面!M143)","v":""}]
[]
[null,"【","イ．","資格","】",null,"（",{"$f":"IF(第二面!H145=\"\",\"\",第二面!H145)","v":""},null,"）","建築士",null,null,"（",{"$f":"IF(第二面!L145=\"\",\"\",第二面!L145)","v":""},null,"）","登録　第",null,{"$f":"IF(第二面!O145=\"\",\"\",第二面!O145)","v":""},null,"号"]
[null,"【","ロ．","氏名","】",null,{"$f":"IF(第二面!G146=\"\",\"\",第二面!G146)","v":""}]
[null,"【","ハ．","建築士事務所名","】",null,"（",{"$f":"IF(第二面!H147=\"\",\"\",第二面!H147)","v":""},null,"）","建築士事務所",null,null,"（",{"$f":"IF(第二面!L147=\"\",\"\",第二面!L147)","v":""},null,"）","知事登録　第",null,{"$f":"IF(第二面!O147=\"\",\"\",第二面!O147)","v":""},null,"号"]
[null,null,null,null,null,null,{"$f":"IF(第二面!G148=\"\",\"\",第二面!G148)","v":""}]
[null,"【","二．","郵便番号","】",null,"〒",{"$f":"IF(AND(第二面!H149<>\"\",第二面!J149<>\"\"),第二面!H149&\"-\"&第二面!J149,\"\")","v":""}]
[null,"【","ホ．","所在地","】",null,{"$f":"IF(第二面!H150=\"\",\"\",第二面!H150)","v":""},null,{"$f":"IF(第二面!I150=\"\",\"\",第二面!I150)","v":""}]
[null,"【","へ．","電話番号","】",null,{"$f":"IF(第二面!H151=\"\",\"\",第二面!H151&\"-\"&第二面!J151&\"-\"&第二面!L151)","v":""}]
[null,"【","ト．","工事と照合する設計図書","】",null,{"$f":"IF(第二面!G152=\"\",\"\",第二面!G152)","v":""},null,null,{"$f":"IF(第二面!I152=\"\",\"\",第二面!I152)","v":""},null,null,{"$f":"IF(第二面!K152=\"\",\"\",第二面!K152)","v":""},null,null,{"$f":"IF(第二面!M152=\"\",\"\",第二面!M152)","v":""}]
[]
[null,"【","イ．","資格","】",null,"（",{"$f":"IF(第二面!H154=\"\",\"\",第二面!H154)","v":""},null,"）","建築士",null,null,"（",{"$f":"IF(第二面!L154=\"\",\"\",第二面!L154)","v":""},null,"）","登録　第",null,{"$f":"IF(第二面!O154=\"\",\"\",第二面!O154)","v":""},null,"号"]
[null,"【","ロ．","氏名","】",null,{"$f":"IF(第二面!G155=\"\",\"\",第二面!G155)","v":""}]
[null,"【","ハ．","建築士事務所名","】",null,"（",{"$f":"IF(第二面!H156=\"\",\"\",第二面!H156)","v":""},null,"）","建築士事務所",null,null,"（",{"$f":"IF(第二面!L156=\"\",\"\",第二面!L156)","v":""},null,"）","知事登録　第",null,{"$f":"IF(第二面!O156=\"\",\"\",第二面!O156)","v":""},null,"号"]
[null,null,null,null,null,null,{"$f":"IF(第二面!G157=\"\",\"\",第二面!G157)","v":""}]
[null,"【","二．","郵便番号","】",null,"〒",{"$f":"IF(AND(第二面!H158<>\"\",第二面!J158<>\"\"),第二面!H158&\"-\"&第二面!J158,\"\")","v":""}]
[null,"【","ホ．","所在地","】",null,{"$f":"IF(第二面!H159=\"\",\"\",第二面!H159)","v":""},null,{"$f":"IF(第二面!I159=\"\",\"\",第二面!I159)","v":""}]
[null,"【","へ．","電話番号","】",null,{"$f":"IF(第二面!H160=\"\",\"\",第二面!H160&\"-\"&第二面!J160&\"-\"&第二面!L160)","v":""}]
[null,"【","ト．","工事と照合する設計図書","】",null,{"$f":"IF(第二面!G161=\"\",\"\",第二面!G161)","v":""},null,null,{"$f":"IF(第二面!I161=\"\",\"\",第二面!I161)","v":""},null,null,{"$f":"IF(第二面!K161=\"\",\"\",第二面!K161)","v":""},null,null,{"$f":"IF(第二面!M161=\"\",\"\",第二面!M161)","v":""}]
[]
["【６．工事施工者】"]
[null,"【","イ．","氏名","】",null,{"$f":"IF(第二面!G164=\"\",\"\",第二面!G164)","v":""}]
[null,"【","ロ．","営業所名","】",null,"建設業の許可",null,null,"（",{"$f":"IF(第二面!J165=\"\",\"\",第二面!J165)","v":""},null,null,"）","第",{"$f":"IF(第二面!O165=\"\",\"\",第二面!O165)","v":""},null,"号"]
[null,null,null,null,null,null,{"$f":"IF(第二面!G166=\"\",\"\",第二面!G166)","v":""}]
[null,"【","ハ．","郵便番号","】",null,"〒",{"$f":"IF(AND(第二面!H167<>\"\",第二面!J167<>\"\"),第二面!H167&\"-\"&第二面!J167,\"\")","v":""}]
[null,"【","二．","所在地","】",null,{"$f":"IF(第二面!H168=\"\",\"\",第二面!H168)","v":""},null,{"$f":"IF(第二面!I168=\"\",\"\",第二面!I168)","v":""}]
[null,"【","ホ．","電話番号","】",null,{"$f":"IF(第二面!H169=\"\",\"\",第二面!H169&\"-\"&第二面!J169&\"-\"&第二面!L169)","v":""}]
["【７．構造計算適合性判定の申請】"]
[null,null,{"$f":"IF(第二面!G170=\"\",\"\",第二面!G170)","v":"□"},"申請済",{"$f":"IF(第二面!H171=\"\",\"\",第二面!H171)","v":""},null,null,null,null,null,null,null,{"$f":"IF(第二面!L171=\"\",\"\",第二面!L171)","v":""},null,{"$f":"IF(第二面!M171=\"\",\"\",第二面!M171)","v":""},null,null,null,null,null,null,null,null,{"$f":"IF(C172=\"■\",1,IF(C173=\"■\",2,IF(C174=\"■\",3,\"\")))","v":""}]
[null,null,{"$f":"IF(第二面!G172=\"\",\"\",第二面!G172)","v":"□"},"未申請",{"$f":"IF(第二面!H173=\"\",\"\",第二面!H173)","v":""},null,null,null,null,null,null,null,{"$f":"IF(第二面!L173=\"\",\"\",第二面!L173)","v":""},null,{"$f":"IF(第二面!M173=\"\",\"\",第二面!M173)","v":""}]
[null,null,{"$f":"IF(第二面!G174=\"\",\"\",第二面!G174)","v":"□"},"申請不要",{"$f":"IF(第二面!H175=\"\",\"\",第二面!H175)","v":""},null,null,null,null,null,null,null,{"$f":"IF(第二面!L175=\"\",\"\",第二面!L175)","v":""},null,{"$f":"IF(第二面!M175=\"\",\"\",第二面!M175)","v":""}]
["【７．備考】",null,null,null,null,null,{"$f":"IF(第二面!G179=\"\",\"\",第二面!G179&第二面!N179)","v":""}]
[null,null,null,null,{"$f":"IF(第二面!G180=\"\",\"\",第二面!G180)","v":""},null,null,null,null,null,null,null,{"$f":"IF(第二面!L180=\"\",\"\",第二面!L180)","v":""}]
[null,null,null,null,{"$f":"IF(第二面!G181=\"\",\"\",第二面!G181)","v":""},null,null,null,null,null,null,null,{"$f":"IF(第二面!L181=\"\",\"\",第二面!L181)","v":""}]
[null,null,null,null,{"$f":"IF(第二面!G182=\"\",\"\",第二面!G182)","v":""},null,null,null,null,null,null,null,{"$f":"IF(第二面!L182=\"\",\"\",第二面!L182)","v":""}]
[null,null,null,null,{"$f":"IF(第二面!G183=\"\",\"\",第二面!G183)","v":""},null,null,null,null,null,null,null,{"$f":"IF(第二面!L183=\"\",\"\",第二面!L183)","v":""}]

{"sheet":"建築主追加用(概)","index":25,"n_rows":30,"n_cols":9,"rows_kept":30,"cut":false,"hidden":false,"merged":[[14,6,15,14],[4,6,5,14],[29,5,29,14],[23,6,23,14],[21,0,21,16],[6,7,6,14],[13,6,13,14],[16,7,16,14],[11,0,11,16],[12,0,12,3],[0,0,0,16],[1,0,1,3],[2,0,2,3],[3,6,3,14],[10,0,10,16],[9,5,9,14],[7,6,7,7],[7,8,7,16],[30,0,30,16],[26,7,26,14],[17,6,17,7],[17,8,17,16],[27,6,27,7],[27,8,27,16],[19,5,19,14],[20,0,20,16],[22,0,22,3],[24,6,25,14]]}
["建築計画概要書（第一面）別紙"]
["別紙　建築主追加様式"]
["【１．建築主】"]
[null,"【","イ．","氏名のフリガナ","】",null,{"$f":"IF('建築主追加用(申)'!G4:O4=\"\",\"\",'建築主追加用(申)'!G4:O4)","v":""}]
[null,"【","ロ．","氏名","】",null,{"$f":"IF('建築主追加用(申)'!G5:O5=\"\",\"\",'建築主追加用(申)'!G5:O5)","v":""}]
[]
[null,"【","ハ．","郵便番号","】",null,"〒",{"$f":"IF(AND('建築主追加用(申)'!H8<>\"\",'建築主追加用(申)'!J8<>\"\"),'建築主追加用(申)'!H8&\"-\"&'建築主追加用(申)'!J8,\"\")","v":""}]
[null,"【","二．","住所","】",null,{"$f":"IF('建築主追加用(申)'!H9=\"\",\"\",'建築主追加用(申)'!H9)","v":""},null,{"$f":"IF('建築主追加用(申)'!I9=\"\",\"\",'建築主追加用(申)'!I9)","v":""}]
[]
[null,"【","ホ．","電話番号","】",{"$f":"IF('建築主追加用(申)'!H10=\"\",\"\",'建築主追加用(申)'!H10&\"-\"&'建築主追加用(申)'!J10&\"-\"&'建築主追加用(申)'!L10)","v":""}]
[]
[]
["【１．建築主】"]
[null,"【","イ．","氏名のフリガナ","】",null,{"$f":"IF('建築主追加用(申)'!G14:O14=\"\",\"\",'建築主追加用(申)'!G14:O14)","v":""}]
[null,"【","ロ．","氏名","】",null,{"$f":"IF('建築主追加用(申)'!G15:O15=\"\",\"\",'建築主追加用(申)'!G15:O15)","v":""}]
[]
[null,"【","ハ．","郵便番号","】",null,"〒",{"$f":"IF(AND('建築主追加用(申)'!H18<>\"\",'建築主追加用(申)'!J18<>\"\"),'建築主追加用(申)'!H18&\"-\"&'建築主追加用(申)'!J18,\"\")","v":""}]
[null,"【","二．","住所","】",null,{"$f":"IF('建築主追加用(申)'!H19=\"\",\"\",'建築主追加用(申)'!H19)","v":""},null,{"$f":"IF('建築主追加用(申)'!I19=\"\",\"\",'建築主追加用(申)'!I19)","v":""}]
[]
[null,"【","ホ．","電話番号","】",{"$f":"IF('建築主追加用(申)'!H20=\"\",\"\",'建築主追加用(申)'!H20&\"-\"&'建築主追加用(申)'!J20&\"-\"&'建築主追加用(申)'!L20)","v":""}]
[]
[]
["【１．建築主】"]
[null,"【","イ．","氏名のフリガナ","】",null,{"$f":"IF('建築主追加用(申)'!G24:O24=\"\",\"\",'建築主追加用(申)'!G24:O24)","v":""}]
[null,"【","ロ．","氏名","】",null,{"$f":"IF('建築主追加用(申)'!G25:O25=\"\",\"\",'建築主追加用(申)'!G25:O25)","v":""}]
[]
[null,"【","ハ．","郵便番号","】",null,"〒",{"$f":"IF(AND('建築主追加用(申)'!H28<>\"\",'建築主追加用(申)'!J28<>\"\"),'建築主追加用(申)'!H28&\"-\"&'建築主追加用(申)'!J28,\"\")","v":""}]
[null,"【","二．","住所","】",null,{"$f":"IF('建築主追加用(申)'!H29=\"\",\"\",'建築主追加用(申)'!H29)","v":""},null,{"$f":"IF('建築主追加用(申)'!I29=\"\",\"\",'建築主追加用(申)'!I29)","v":""}]
[]
[null,"【","ホ．","電話番号","】",{"$f":"IF('建築主追加用(申)'!H30=\"\",\"\",'建築主追加用(申)'!H30&\"-\"&'建築主追加用(申)'!J30&\"-\"&'建築主追加用(申)'!L30)","v":""}]

{"sheet":"設計者追加用(概)","index":26,"n_rows":52,"n_cols":16,"rows_kept":52,"cut":false,"hidden":false,"merged":[[13,2,13,3],[15,6,15,14],[11,10,11,11],[11,3,11,4],[11,12,11,13],[11,8,11,9],[11,6,11,7],[0,0,0,16],[1,0,1,3],[2,0,2,3],[9,7,9,14],[3,2,3,3],[7,6,7,14],[5,6,5,14],[8,7,8,9],[10,7,10,11],[18,7,18,9],[17,6,17,14],[19,7,19,14],[20,7,20,11],[47,6,47,14],[21,3,21,4],[35,6,35,14],[31,3,31,4],[31,10,31,11],[31,8,31,9],[43,2,43,3],[45,6,45,14],[31,6,31,7],[21,8,21,9],[21,10,21,11],[21,6,21,7],[40,7,40,11],[27,6,27,14],[21,12,21,13],[23,2,23,3],[51,12,51,13],[48,7,48,9],[51,3,51,4],[51,6,51,7],[51,8,51,9],[51,10,51,11],[50,7,50,11],[49,7,49,14],[33,2,33,3],[41,3,41,4],[39,7,39,14],[25,6,25,14],[31,12,31,13],[41,8,41,9],[38,7,38,9],[41,6,41,7],[41,12,41,13],[28,7,28,9],[29,7,29,14],[30,7,30,11],[37,6,37,14],[41,10,41,11]]}
["建築計画概要書（第一面）別紙"]
["別紙　設計者追加様式"]
["【３．設計者】"]
[null,"（","その他の設計者）"]
[null,"【","イ．","資格","】",null,"（",{"$f":"IF('設計者追加用(申)'!H5=\"\",\"\",'設計者追加用(申)'!H5)","v":""},"）","建築士","（",{"$f":"IF('設計者追加用(申)'!L5=\"\",\"\",'設計者追加用(申)'!L5)","v":""},"）","登録　　第",{"$f":"IF('設計者追加用(申)'!O5=\"\",\"\",'設計者追加用(申)'!O5)","v":""},"号"]
[null,"【","ロ．","氏名","】",null,{"$f":"IF('設計者追加用(申)'!G6=\"\",\"\",'設計者追加用(申)'!G6)","v":""}]
[null,"【","ハ．","建築士事務所名","】",null,"（",{"$f":"IF('設計者追加用(申)'!H7=\"\",\"\",'設計者追加用(申)'!H7)","v":""},"）","建築士事務所","（",{"$f":"IF('設計者追加用(申)'!L7=\"\",\"\",'設計者追加用(申)'!L7)","v":""},"）","知事登録　第",{"$f":"IF('設計者追加用(申)'!O7=\"\",\"\",'設計者追加用(申)'!O7)","v":""},"号"]
[null,null,null,null,null,null,{"$f":"IF('設計者追加用(申)'!G8=\"\",\"\",'設計者追加用(申)'!G8)","v":""}]
[null,"【","二．","郵便番号","】",null,"〒",{"$f":"IF(AND('設計者追加用(申)'!H9<>\"\",'設計者追加用(申)'!J9<>\"\"),'設計者追加用(申)'!H9&\"-\"&'設計者追加用(申)'!J9,\"\")","v":""}]
[null,"【","ホ．","所在地","】",null,null,{"$f":"IF('設計者追加用(申)'!H10=\"\",\"\",'設計者追加用(申)'!H10&'設計者追加用(申)'!I10)","v":""}]
[null,"【","へ．","電話番号","】",null,null,{"$f":"IF('設計者追加用(申)'!H11=\"\",\"\",'設計者追加用(申)'!H11&\"-\"&'設計者追加用(申)'!J11&\"-\"&'設計者追加用(申)'!L11)","v":""}]
[null,"【","ト．","作成又は確認した設計図書",null,"】",{"$f":"IF('設計者追加用(申)'!G12=\"\",\"\",'設計者追加用(申)'!G12)","v":""},null,{"$f":"IF('設計者追加用(申)'!I12=\"\",\"\",'設計者追加用(申)'!I12)","v":""},null,{"$f":"IF('設計者追加用(申)'!K12=\"\",\"\",'設計者追加用(申)'!K12)","v":""},null,{"$f":"IF('設計者追加用(申)'!M12=\"\",\"\",'設計者追加用(申)'!M12)","v":""}]
[]
[]
[null,"【","イ．","資格","】",null,"（",{"$f":"IF('設計者追加用(申)'!H15=\"\",\"\",'設計者追加用(申)'!H15)","v":""},"）","建築士","（",{"$f":"IF('設計者追加用(申)'!L15=\"\",\"\",'設計者追加用(申)'!L15)","v":""},"）","登録　　第",{"$f":"IF('設計者追加用(申)'!O15=\"\",\"\",'設計者追加用(申)'!O15)","v":""},"号"]
[null,"【","ロ．","氏名","】",null,{"$f":"IF('設計者追加用(申)'!G16=\"\",\"\",'設計者追加用(申)'!G16)","v":""}]
[null,"【","ハ．","建築士事務所名","】",null,"（",{"$f":"IF('設計者追加用(申)'!H17=\"\",\"\",'設計者追加用(申)'!H17)","v":""},"）","建築士事務所","（",{"$f":"IF('設計者追加用(申)'!L17=\"\",\"\",'設計者追加用(申)'!L17)","v":""},"）","知事登録　第",{"$f":"IF('設計者追加用(申)'!O17=\"\",\"\",'設計者追加用(申)'!O17)","v":""},"号"]
[null,null,null,null,null,null,{"$f":"IF('設計者追加用(申)'!G18=\"\",\"\",'設計者追加用(申)'!G18)","v":""}]
[null,"【","二．","郵便番号","】",null,"〒",{"$f":"IF(AND('設計者追加用(申)'!H19<>\"\",'設計者追加用(申)'!J19<>\"\"),'設計者追加用(申)'!H19&\"-\"&'設計者追加用(申)'!J19,\"\")","v":""}]
[null,"【","ホ．","所在地","】",null,null,{"$f":"IF('設計者追加用(申)'!H20=\"\",\"\",'設計者追加用(申)'!H20&'設計者追加用(申)'!I20)","v":""}]
[null,"【","へ．","電話番号","】",null,null,{"$f":"IF('設計者追加用(申)'!H21=\"\",\"\",'設計者追加用(申)'!H21&\"-\"&'設計者追加用(申)'!J21&\"-\"&'設計者追加用(申)'!L21)","v":""}]
[null,"【","ト．","作成又は確認した設計図書",null,"】",{"$f":"IF('設計者追加用(申)'!G22=\"\",\"\",'設計者追加用(申)'!G22)","v":""},null,{"$f":"IF('設計者追加用(申)'!I22=\"\",\"\",'設計者追加用(申)'!I22)","v":""},null,{"$f":"IF('設計者追加用(申)'!K22=\"\",\"\",'設計者追加用(申)'!K22)","v":""},null,{"$f":"IF('設計者追加用(申)'!M22=\"\",\"\",'設計者追加用(申)'!M22)","v":""}]
[]
[]
[null,"【","イ．","資格","】",null,"（",{"$f":"IF('設計者追加用(申)'!H25=\"\",\"\",'設計者追加用(申)'!H25)","v":""},"）","建築士","（",{"$f":"IF('設計者追加用(申)'!L25=\"\",\"\",'設計者追加用(申)'!L25)","v":""},"）","登録　　第",{"$f":"IF('設計者追加用(申)'!O25=\"\",\"\",'設計者追加用(申)'!O25)","v":""},"号"]
[null,"【","ロ．","氏名","】",null,{"$f":"IF('設計者追加用(申)'!G26=\"\",\"\",'設計者追加用(申)'!G26)","v":""}]
[null,"【","ハ．","建築士事務所名","】",null,"（",{"$f":"IF('設計者追加用(申)'!H27=\"\",\"\",'設計者追加用(申)'!H27)","v":""},"）","建築士事務所","（",{"$f":"IF('設計者追加用(申)'!L27=\"\",\"\",'設計者追加用(申)'!L27)","v":""},"）","知事登録　第",{"$f":"IF('設計者追加用(申)'!O27=\"\",\"\",'設計者追加用(申)'!O27)","v":""},"号"]
[null,null,null,null,null,null,{"$f":"IF('設計者追加用(申)'!G28=\"\",\"\",'設計者追加用(申)'!G28)","v":""}]
[null,"【","二．","郵便番号","】",null,"〒",{"$f":"IF(AND('設計者追加用(申)'!H29<>\"\",'設計者追加用(申)'!J29<>\"\"),'設計者追加用(申)'!H29&\"-\"&'設計者追加用(申)'!J29,\"\")","v":""}]
[null,"【","ホ．","所在地","】",null,null,{"$f":"IF('設計者追加用(申)'!H30=\"\",\"\",'設計者追加用(申)'!H30&'設計者追加用(申)'!I30)","v":""}]
[null,"【","へ．","電話番号","】",null,null,{"$f":"IF('設計者追加用(申)'!H31=\"\",\"\",'設計者追加用(申)'!H31&\"-\"&'設計者追加用(申)'!J31&\"-\"&'設計者追加用(申)'!L31)","v":""}]
[null,"【","ト．","作成又は確認した設計図書",null,"】",{"$f":"IF('設計者追加用(申)'!G32=\"\",\"\",'設計者追加用(申)'!G32)","v":""},null,{"$f":"IF('設計者追加用(申)'!I32=\"\",\"\",'設計者追加用(申)'!I32)","v":""},null,{"$f":"IF('設計者追加用(申)'!K32=\"\",\"\",'設計者追加用(申)'!K32)","v":""},null,{"$f":"IF('設計者追加用(申)'!M32=\"\",\"\",'設計者追加用(申)'!M32)","v":""}]
[]
[]
[null,"【","イ．","資格","】",null,"（",{"$f":"IF('設計者追加用(申)'!H35=\"\",\"\",'設計者追加用(申)'!H35)","v":""},"）","建築士","（",{"$f":"IF('設計者追加用(申)'!L35=\"\",\"\",'設計者追加用(申)'!L35)","v":""},"）","登録　　第",{"$f":"IF('設計者追加用(申)'!O35=\"\",\"\",'設計者追加用(申)'!O35)","v":""},"号"]
[null,"【","ロ．","氏名","】",null,{"$f":"IF('設計者追加用(申)'!G36=\"\",\"\",'設計者追加用(申)'!G36)","v":""}]
[null,"【","ハ．","建築士事務所名","】",null,"（",{"$f":"IF('設計者追加用(申)'!H37=\"\",\"\",'設計者追加用(申)'!H37)","v":""},"）","建築士事務所","（",{"$f":"IF('設計者追加用(申)'!L37=\"\",\"\",'設計者追加用(申)'!L37)","v":""},"）","知事登録　第",{"$f":"IF('設計者追加用(申)'!O37=\"\",\"\",'設計者追加用(申)'!O37)","v":""},"号"]
[null,null,null,null,null,null,{"$f":"IF('設計者追加用(申)'!G38=\"\",\"\",'設計者追加用(申)'!G38)","v":""}]
[null,"【","二．","郵便番号","】",null,"〒",{"$f":"IF(AND('設計者追加用(申)'!H39<>\"\",'設計者追加用(申)'!J39<>\"\"),'設計者追加用(申)'!H39&\"-\"&'設計者追加用(申)'!J39,\"\")","v":""}]
[null,"【","ホ．","所在地","】",null,null,{"$f":"IF('設計者追加用(申)'!H40=\"\",\"\",'設計者追加用(申)'!H40&'設計者追加用(申)'!I40)","v":""}]
[null,"【","へ．","電話番号","】",null,null,{"$f":"IF('設計者追加用(申)'!H41=\"\",\"\",'設計者追加用(申)'!H41&\"-\"&'設計者追加用(申)'!J41&\"-\"&'設計者追加用(申)'!L41)","v":""}]
[null,"【","ト．","作成又は確認した設計図書",null,"】",{"$f":"IF('設計者追加用(申)'!G42=\"\",\"\",'設計者追加用(申)'!G42)","v":""},null,{"$f":"IF('設計者追加用(申)'!I42=\"\",\"\",'設計者追加用(申)'!I42)","v":""},null,{"$f":"IF('設計者追加用(申)'!K42=\"\",\"\",'設計者追加用(申)'!K42)","v":""},null,{"$f":"IF('設計者追加用(申)'!M42=\"\",\"\",'設計者追加用(申)'!M42)","v":""}]
[]
[]
[null,"【","イ．","資格","】",null,"（",{"$f":"IF('設計者追加用(申)'!H45=\"\",\"\",'設計者追加用(申)'!H45)","v":""},"）","建築士","（",{"$f":"IF('設計者追加用(申)'!L45=\"\",\"\",'設計者追加用(申)'!L45)","v":""},"）","登録　　第",{"$f":"IF('設計者追加用(申)'!O45=\"\",\"\",'設計者追加用(申)'!O45)","v":""},"号"]
[null,"【","ロ．","氏名","】",null,{"$f":"IF('設計者追加用(申)'!G46=\"\",\"\",'設計者追加用(申)'!G46)","v":""}]
[null,"【","ハ．","建築士事務所名","】",null,"（",{"$f":"IF('設計者追加用(申)'!H47=\"\",\"\",'設計者追加用(申)'!H47)","v":""},"）","建築士事務所","（",{"$f":"IF('設計者追加用(申)'!L47=\"\",\"\",'設計者追加用(申)'!L47)","v":""},"）","知事登録　第",{"$f":"IF('設計者追加用(申)'!O47=\"\",\"\",'設計者追加用(申)'!O47)","v":""},"号"]
[null,null,null,null,null,null,{"$f":"IF('設計者追加用(申)'!G48=\"\",\"\",'設計者追加用(申)'!G48)","v":""}]
[null,"【","二．","郵便番号","】",null,"〒",{"$f":"IF(AND('設計者追加用(申)'!H49<>\"\",'設計者追加用(申)'!J49<>\"\"),'設計者追加用(申)'!H49&\"-\"&'設計者追加用(申)'!J49,\"\")","v":""}]
[null,"【","ホ．","所在地","】",null,null,{"$f":"IF('設計者追加用(申)'!H50=\"\",\"\",'設計者追加用(申)'!H50&'設計者追加用(申)'!I50)","v":""}]
[null,"【","へ．","電話番号","】",null,null,{"$f":"IF('設計者追加用(申)'!H51=\"\",\"\",'設計者追加用(申)'!H51&\"-\"&'設計者追加用(申)'!J51&\"-\"&'設計者追加用(申)'!L51)","v":""}]
[null,"【","ト．","作成又は確認した設計図書",null,"】",{"$f":"IF('設計者追加用(申)'!G52=\"\",\"\",'設計者追加用(申)'!G52)","v":""},null,{"$f":"IF('設計者追加用(申)'!I52=\"\",\"\",'設計者追加用(申)'!I52)","v":""},null,{"$f":"IF('設計者追加用(申)'!K52=\"\",\"\",'設計者追加用(申)'!K52)","v":""},null,{"$f":"IF('設計者追加用(申)'!M52=\"\",\"\",'設計者追加用(申)'!M52)","v":""}]

{"sheet":"工事監理者追加用(概)","index":27,"n_rows":52,"n_cols":16,"rows_kept":52,"cut":false,"hidden":false,"merged":[[40,7,40,11],[51,6,51,7],[51,8,51,9],[51,10,51,11],[35,6,35,14],[51,12,51,13],[49,7,49,14],[50,7,50,11],[33,2,33,4],[28,7,28,9],[29,7,29,14],[48,7,48,9],[43,2,43,4],[45,6,45,14],[41,10,41,11],[41,12,41,13],[38,7,38,9],[39,7,39,14],[31,6,31,7],[47,6,47,14],[41,6,41,7],[37,6,37,14],[41,8,41,9],[31,10,31,11],[23,2,23,4],[30,7,30,11],[25,6,25,14],[31,8,31,9],[31,12,31,13],[27,6,27,14],[9,7,9,14],[10,7,10,11],[18,7,18,9],[11,8,11,9],[13,2,13,4],[11,12,11,13],[15,6,15,14],[0,0,0,16],[1,0,1,3],[21,12,21,13],[5,6,5,14],[11,6,11,7],[2,0,2,3],[17,6,17,14],[11,10,11,11],[3,2,3,4],[21,10,21,11],[7,6,7,14],[19,7,19,14],[20,7,20,11],[21,8,21,9],[21,6,21,7],[8,7,8,9]]}
["建築計画概要書（第一面）別紙"]
["別紙　工事監理者追加様式"]
["【５．工事監理者】"]
[null,"（","その他の工事監理者）"]
[null,"【","イ．","資格","】",null,"（",{"$f":"IF('工事監理者追加用(申)'!H5=\"\",\"\",'工事監理者追加用(申)'!H5)","v":""},"）","建築士","（",{"$f":"IF('工事監理者追加用(申)'!L5=\"\",\"\",'工事監理者追加用(申)'!L5)","v":""},"）","登録　　第",{"$f":"IF('工事監理者追加用(申)'!O5=\"\",\"\",'工事監理者追加用(申)'!O5)","v":""},"号"]
[null,"【","ロ．","氏名","】",null,{"$f":"IF('工事監理者追加用(申)'!G6=\"\",\"\",'工事監理者追加用(申)'!G6)","v":""}]
[null,"【","ハ．","建築士事務所名","】",null,"（",{"$f":"IF('工事監理者追加用(申)'!H7=\"\",\"\",'工事監理者追加用(申)'!H7)","v":""},"）","建築士事務所","（",{"$f":"IF('工事監理者追加用(申)'!L7=\"\",\"\",'工事監理者追加用(申)'!L7)","v":""},"）","知事登録　第",{"$f":"IF('工事監理者追加用(申)'!O7=\"\",\"\",'工事監理者追加用(申)'!O7)","v":""},"号"]
[null,null,null,null,null,null,{"$f":"IF('工事監理者追加用(申)'!G8=\"\",\"\",'工事監理者追加用(申)'!G8:O8)","v":""}]
[null,"【","二．","郵便番号","】",null,"〒",{"$f":"IF(AND('工事監理者追加用(申)'!H9<>\"\",'工事監理者追加用(申)'!J9<>\"\"),'工事監理者追加用(申)'!H9&\"-\"&'工事監理者追加用(申)'!J9,\"\")","v":""}]
[null,"【","ホ．","所在地","】",null,null,{"$f":"IF('工事監理者追加用(申)'!H10=\"\",\"\",'工事監理者追加用(申)'!H10&'工事監理者追加用(申)'!I10)","v":""}]
[null,"【","へ．","電話番号","】",null,null,{"$f":"IF('工事監理者追加用(申)'!H11=\"\",\"\",'工事監理者追加用(申)'!H11&\"-\"&'工事監理者追加用(申)'!J11&\"-\"&'工事監理者追加用(申)'!L11)","v":""}]
[null,"【","ト．","工事と照合する設計図書","】",null,{"$f":"IF('工事監理者追加用(申)'!G12=\"\",\"\",'工事監理者追加用(申)'!G12)","v":""},null,{"$f":"IF('工事監理者追加用(申)'!I12=\"\",\"\",'工事監理者追加用(申)'!I12)","v":""},null,{"$f":"IF('工事監理者追加用(申)'!K12=\"\",\"\",'工事監理者追加用(申)'!K12)","v":""},null,{"$f":"IF('工事監理者追加用(申)'!M12=\"\",\"\",'工事監理者追加用(申)'!M12)","v":""}]
[]
[]
[null,"【","イ．","資格","】",null,"（",{"$f":"IF('工事監理者追加用(申)'!H15=\"\",\"\",'工事監理者追加用(申)'!H15)","v":""},"）","建築士","（",{"$f":"IF('工事監理者追加用(申)'!L15=\"\",\"\",'工事監理者追加用(申)'!L15)","v":""},"）","登録　　第",{"$f":"IF('工事監理者追加用(申)'!O15=\"\",\"\",'工事監理者追加用(申)'!O15)","v":""},"号"]
[null,"【","ロ．","氏名","】",null,{"$f":"IF('工事監理者追加用(申)'!G16=\"\",\"\",'工事監理者追加用(申)'!G16)","v":""}]
[null,"【","ハ．","建築士事務所名","】",null,"（",{"$f":"IF('工事監理者追加用(申)'!H17=\"\",\"\",'工事監理者追加用(申)'!H17)","v":""},"）","建築士事務所","（",{"$f":"IF('工事監理者追加用(申)'!L17=\"\",\"\",'工事監理者追加用(申)'!L17)","v":""},"）","知事登録　第",{"$f":"IF('工事監理者追加用(申)'!O17=\"\",\"\",'工事監理者追加用(申)'!O17)","v":""},"号"]
[null,null,null,null,null,null,{"$f":"IF('工事監理者追加用(申)'!G18=\"\",\"\",'工事監理者追加用(申)'!G18:O18)","v":""}]
[null,"【","二．","郵便番号","】",null,"〒",{"$f":"IF(AND('工事監理者追加用(申)'!H19<>\"\",'工事監理者追加用(申)'!J19<>\"\"),'工事監理者追加用(申)'!H19&\"-\"&'工事監理者追加用(申)'!J19,\"\")","v":""}]
[null,"【","ホ．","所在地","】",null,null,{"$f":"IF('工事監理者追加用(申)'!H20=\"\",\"\",'工事監理者追加用(申)'!H20&'工事監理者追加用(申)'!I20)","v":""}]
[null,"【","へ．","電話番号","】",null,null,{"$f":"IF('工事監理者追加用(申)'!H21=\"\",\"\",'工事監理者追加用(申)'!H21&\"-\"&'工事監理者追加用(申)'!J21&\"-\"&'工事監理者追加用(申)'!L21)","v":""}]
[null,"【","ト．","工事と照合する設計図書","】",null,{"$f":"IF('工事監理者追加用(申)'!G22=\"\",\"\",'工事監理者追加用(申)'!G22)","v":""},null,{"$f":"IF('工事監理者追加用(申)'!I22=\"\",\"\",'工事監理者追加用(申)'!I22)","v":""},null,{"$f":"IF('工事監理者追加用(申)'!K22=\"\",\"\",'工事監理者追加用(申)'!K22)","v":""},null,{"$f":"IF('工事監理者追加用(申)'!M22=\"\",\"\",'工事監理者追加用(申)'!M22)","v":""}]
[]
[]
[null,"【","イ．","資格","】",null,"（",{"$f":"IF('工事監理者追加用(申)'!H25=\"\",\"\",'工事監理者追加用(申)'!H25)","v":""},"）","建築士","（",{"$f":"IF('工事監理者追加用(申)'!L25=\"\",\"\",'工事監理者追加用(申)'!L25)","v":""},"）","登録　　第",{"$f":"IF('工事監理者追加用(申)'!O25=\"\",\"\",'工事監理者追加用(申)'!O25)","v":""},"号"]
[null,"【","ロ．","氏名","】",null,{"$f":"IF('工事監理者追加用(申)'!G26=\"\",\"\",'工事監理者追加用(申)'!G26)","v":""}]
[null,"【","ハ．","建築士事務所名","】",null,"（",{"$f":"IF('工事監理者追加用(申)'!H27=\"\",\"\",'工事監理者追加用(申)'!H27)","v":""},"）","建築士事務所","（",{"$f":"IF('工事監理者追加用(申)'!L27=\"\",\"\",'工事監理者追加用(申)'!L27)","v":""},"）","知事登録　第",{"$f":"IF('工事監理者追加用(申)'!O27=\"\",\"\",'工事監理者追加用(申)'!O27)","v":""},"号"]
[null,null,null,null,null,null,{"$f":"IF('工事監理者追加用(申)'!G28=\"\",\"\",'工事監理者追加用(申)'!G28:O28)","v":""}]
[null,"【","二．","郵便番号","】",null,"〒",{"$f":"IF(AND('工事監理者追加用(申)'!H29<>\"\",'工事監理者追加用(申)'!J29<>\"\"),'工事監理者追加用(申)'!H29&\"-\"&'工事監理者追加用(申)'!J29,\"\")","v":""}]
[null,"【","ホ．","所在地","】",null,null,{"$f":"IF('工事監理者追加用(申)'!H30=\"\",\"\",'工事監理者追加用(申)'!H30&'工事監理者追加用(申)'!I30)","v":""}]
[null,"【","へ．","電話番号","】",null,null,{"$f":"IF('工事監理者追加用(申)'!H31=\"\",\"\",'工事監理者追加用(申)'!H31&\"-\"&'工事監理者追加用(申)'!J31&\"-\"&'工事監理者追加用(申)'!L31)","v":""}]
[null,"【","ト．","工事と照合する設計図書","】",null,{"$f":"IF('工事監理者追加用(申)'!G32=\"\",\"\",'工事監理者追加用(申)'!G32)","v":""},null,{"$f":"IF('工事監理者追加用(申)'!I32=\"\",\"\",'工事監理者追加用(申)'!I32)","v":""},null,{"$f":"IF('工事監理者追加用(申)'!K32=\"\",\"\",'工事監理者追加用(申)'!K32)","v":""},null,{"$f":"IF('工事監理者追加用(申)'!M32=\"\",\"\",'工事監理者追加用(申)'!M32)","v":""}]
[]
[]
[null,"【","イ．","資格","】",null,"（",{"$f":"IF('工事監理者追加用(申)'!H35=\"\",\"\",'工事監理者追加用(申)'!H35)","v":""},"）","建築士","（",{"$f":"IF('工事監理者追加用(申)'!L35=\"\",\"\",'工事監理者追加用(申)'!L35)","v":""},"）","登録　　第",{"$f":"IF('工事監理者追加用(申)'!O35=\"\",\"\",'工事監理者追加用(申)'!O35)","v":""},"号"]
[null,"【","ロ．","氏名","】",null,{"$f":"IF('工事監理者追加用(申)'!G36=\"\",\"\",'工事監理者追加用(申)'!G36)","v":""}]
[null,"【","ハ．","建築士事務所名","】",null,"（",{"$f":"IF('工事監理者追加用(申)'!H37=\"\",\"\",'工事監理者追加用(申)'!H37)","v":""},"）","建築士事務所","（",{"$f":"IF('工事監理者追加用(申)'!L37=\"\",\"\",'工事監理者追加用(申)'!L37)","v":""},"）","知事登録　第",{"$f":"IF('工事監理者追加用(申)'!O37=\"\",\"\",'工事監理者追加用(申)'!O37)","v":""},"号"]
[null,null,null,null,null,null,{"$f":"IF('工事監理者追加用(申)'!G38=\"\",\"\",'工事監理者追加用(申)'!G38:O38)","v":""}]
[null,"【","二．","郵便番号","】",null,"〒",{"$f":"IF(AND('工事監理者追加用(申)'!H39<>\"\",'工事監理者追加用(申)'!J39<>\"\"),'工事監理者追加用(申)'!H39&\"-\"&'工事監理者追加用(申)'!J39,\"\")","v":""}]
[null,"【","ホ．","所在地","】",null,null,{"$f":"IF('工事監理者追加用(申)'!H40=\"\",\"\",'工事監理者追加用(申)'!H40&'工事監理者追加用(申)'!I40)","v":""}]
[null,"【","へ．","電話番号","】",null,null,{"$f":"IF('工事監理者追加用(申)'!H41=\"\",\"\",'工事監理者追加用(申)'!H41&\"-\"&'工事監理者追加用(申)'!J41&\"-\"&'工事監理者追加用(申)'!L41)","v":""}]
[null,"【","ト．","工事と照合する設計図書","】",null,{"$f":"IF('工事監理者追加用(申)'!G42=\"\",\"\",'工事監理者追加用(申)'!G42)","v":""},null,{"$f":"IF('工事監理者追加用(申)'!I42=\"\",\"\",'工事監理者追加用(申)'!I42)","v":""},null,{"$f":"IF('工事監理者追加用(申)'!K42=\"\",\"\",'工事監理者追加用(申)'!K42)","v":""},null,{"$f":"IF('工事監理者追加用(申)'!M42=\"\",\"\",'工事監理者追加用(申)'!M42)","v":""}]
[]
[]
[null,"【","イ．","資格","】",null,"（",{"$f":"IF('工事監理者追加用(申)'!H45=\"\",\"\",'工事監理者追加用(申)'!H45)","v":""},"）","建築士","（",{"$f":"IF('工事監理者追加用(申)'!L45=\"\",\"\",'工事監理者追加用(申)'!L45)","v":""},"）","登録　　第",{"$f":"IF('工事監理者追加用(申)'!O45=\"\",\"\",'工事監理者追加用(申)'!O45)","v":""},"号"]
[null,"【","ロ．","氏名","】",null,{"$f":"IF('工事監理者追加用(申)'!G46=\"\",\"\",'工事監理者追加用(申)'!G46)","v":""}]
[null,"【","ハ．","建築士事務所名","】",null,"（",{"$f":"IF('工事監理者追加用(申)'!H47=\"\",\"\",'工事監理者追加用(申)'!H47)","v":""},"）","建築士事務所","（",{"$f":"IF('工事監理者追加用(申)'!L47=\"\",\"\",'工事監理者追加用(申)'!L47)","v":""},"）","知事登録　第",{"$f":"IF('工事監理者追加用(申)'!O47=\"\",\"\",'工事監理者追加用(申)'!O47)","v":""},"号"]
[null,null,null,null,null,null,{"$f":"IF('工事監理者追加用(申)'!G48=\"\",\"\",'工事監理者追加用(申)'!G48:O48)","v":""}]
[null,"【","二．","郵便番号","】",null,"〒",{"$f":"IF(AND('工事監理者追加用(申)'!H49<>\"\",'工事監理者追加用(申)'!J49<>\"\"),'工事監理者追加用(申)'!H49&\"-\"&'工事監理者追加用(申)'!J49,\"\")","v":""}]
[null,"【","ホ．","所在地","】",null,null,{"$f":"IF('工事監理者追加用(申)'!H50=\"\",\"\",'工事監理者追加用(申)'!H50&'工事監理者追加用(申)'!I50)","v":""}]
[null,"【","へ．","電話番号","】",null,null,{"$f":"IF('工事監理者追加用(申)'!H51=\"\",\"\",'工事監理者追加用(申)'!H51&\"-\"&'工事監理者追加用(申)'!J51&\"-\"&'工事監理者追加用(申)'!L51)","v":""}]
[null,"【","ト．","工事と照合する設計図書","】",null,{"$f":"IF('工事監理者追加用(申)'!G52=\"\",\"\",'工事監理者追加用(申)'!G52)","v":""},null,{"$f":"IF('工事監理者追加用(申)'!I52=\"\",\"\",'工事監理者追加用(申)'!I52)","v":""},null,{"$f":"IF('工事監理者追加用(申)'!K52=\"\",\"\",'工事監理者追加用(申)'!K52)","v":""},null,{"$f":"IF('工事監理者追加用(申)'!M52=\"\",\"\",'工事監理者追加用(申)'!M52)","v":""}]

{"sheet":"建築計画概要書第二面 ","index":28,"n_rows":85,"n_cols":24,"rows_kept":85,"cut":false,"hidden":false,"merged":[[81,0,81,23],[82,0,82,23],[83,0,83,23],[84,0,84,23],[10,8,10,23],[11,8,11,23],[12,8,12,23],[45,19,45,22],[46,19,46,22],[38,14,38,16],[45,14,45,16],[46,14,46,16],[43,14,43,16],[40,14,40,16],[39,3,39,22],[31,0,31,3],[38,9,38,11],[40,19,40,22],[33,9,33,11],[33,14,33,16],[41,3,41,5],[41,9,41,11],[35,19,35,22],[44,3,44,5],[28,17,28,20],[28,13,28,16],[34,3,34,7],[35,9,35,11],[35,14,35,16],[32,19,32,22],[31,20,31,22],[38,3,38,5],[32,0,32,3],[76,0,76,14],[29,0,29,2],[30,4,30,5],[37,14,37,16],[38,19,38,22],[41,14,41,16],[41,19,41,22],[31,16,31,18],[32,14,32,16],[29,13,29,14],[31,13,31,14],[30,13,30,14],[30,15,30,22],[40,3,40,5],[37,9,37,11],[36,9,36,11],[30,6,30,11],[44,9,44,11],[44,14,44,16],[44,19,44,22],[40,9,40,11],[42,3,42,23],[37,19,37,22],[43,9,43,11],[17,19,17,20],[23,11,23,12],[21,19,21,20],[23,7,23,8],[18,19,18,20],[19,19,19,21],[29,6,29,11],[26,3,26,9],[29,15,29,22],[25,20,25,21],[20,3,20,12],[24,20,24,21],[24,11,24,12],[24,3,24,4],[21,7,21,8],[27,3,27,9],[27,13,27,15],[23,19,23,20],[23,15,23,16],[28,5,28,8],[28,9,28,12],[29,4,29,5],[25,11,25,12],[26,13,26,15],[9,15,9,18],[14,8,14,12],[15,8,15,12],[22,3,22,10],[15,3,15,5],[18,11,18,12],[14,14,14,18],[15,14,15,18],[17,7,17,8],[18,7,18,8],[16,0,16,3],[17,15,17,16],[19,7,19,9],[19,11,19,13],[19,15,19,17],[21,15,21,16],[21,11,21,12],[61,14,61,16],[0,0,0,23],[2,0,2,3],[4,0,4,3],[4,4,4,22],[8,0,8,3],[9,11,9,14],[5,0,5,9],[6,20,6,22],[7,11,7,18],[6,11,6,13],[6,5,6,8],[7,5,7,8],[6,15,6,18],[9,7,9,10],[8,17,8,19],[8,5,8,7],[2,4,3,22],[8,11,8,13],[9,0,9,6],[13,0,13,3],[18,15,18,16],[17,11,17,12],[53,19,53,22],[48,19,48,22],[49,19,49,22],[53,9,53,11],[53,14,53,16],[50,14,50,16],[48,14,48,16],[47,19,47,22],[47,14,47,16],[52,9,52,11],[49,14,49,16],[48,9,48,11],[47,9,47,11],[51,9,51,11],[51,14,51,16],[51,19,51,22],[50,19,50,22],[75,13,75,22],[70,0,70,4],[63,9,63,11],[64,13,64,14],[63,6,63,7],[64,15,64,19],[73,5,73,6],[70,5,70,11],[68,6,68,22],[69,6,69,22],[72,9,72,10],[74,5,74,6],[71,0,71,4],[64,7,64,11],[68,0,68,5],[67,6,67,22],[71,5,71,11],[80,4,80,23],[78,0,78,14],[43,19,43,22],[45,9,45,11],[43,3,43,5],[32,9,32,11],[33,19,33,22],[75,5,75,6],[66,19,66,22],[69,0,69,5],[66,14,66,17],[52,19,52,22],[52,14,52,16],[49,9,49,11],[49,3,49,5],[62,14,62,16],[63,14,63,16],[67,4,67,5],[67,0,67,3],[72,13,72,22],[73,13,73,22],[59,9,59,11],[60,14,60,16],[74,13,74,22],[85,0,85,23],[46,9,46,11],[47,3,47,5],[48,3,48,5],[52,3,52,5],[53,3,53,5],[57,0,57,4],[37,0,37,3],[51,3,51,5],[46,3,46,5],[45,3,45,5],[61,9,61,11],[50,3,50,5],[62,9,62,11],[58,9,58,11],[60,0,60,4],[66,9,66,12],[72,0,72,6],[60,9,60,11],[54,9,54,11],[62,6,62,7],[55,9,55,11],[50,9,50,11],[80,0,80,3]]}
["建築計画概要書（第二面）"]
["建築物及びその敷地に関する事項"]
["【１．地名地番】",null,null,null,{"$f":"IF(第三面!E3=\"\",\"\",第三面!E3&第三面!H3)","v":""}]
[]
["【２．住居表示】",null,null,null,{"$f":"IF(第三面!E5=\"\",\"\",第三面!E5&第三面!H5)","v":""}]
["【３．都市計画区域及び準都市計画区域の内外の別等】"]
[null,null,null,null,{"$f":"第三面!E7","v":"□"},"都市計画区域内",null,null,null,"（",{"$f":"第三面!K7","v":"□"},"市街化区域",null,null,{"$f":"第三面!O7","v":"□"},"市街化調整区域",null,null,null,{"$f":"第三面!T7","v":"□"},"区域区分非設定",null,null,"）"]
[null,null,null,null,{"$f":"第三面!E8","v":"□"},"準都市計画区域内",null,null,null,null,{"$f":"第三面!K8","v":"□"},"都市計画区域及び準都市計画区域外"]
["【４．防火地域】",null,null,null,{"$f":"第三面!E9","v":"□"},"防火地域",null,null,null,null,{"$f":"第三面!I9","v":"□"},"準防火地域",null,null,null,null,{"$f":"第三面!M9","v":"□"},"指定無し"]
["【５．その他の区域、地域、地区又は街区】",null,null,null,null,null,null,{"$f":"IF(第三面!I10=\"\",\"\",第三面!I10)","v":""},null,null,null,{"$f":"IF(第三面!M10=\"\",\"\",第三面!M10)","v":""},null,null,null,{"$f":"IF(第三面!Q10=\"\",\"\",第三面!Q10)","v":""}]
[null,null,null,null,null,null,null,null,{"$f":"第三面!I11","v":0}]
[null,null,null,null,null,null,null,null,{"$f":"第三面!I12","v":0}]
[null,null,null,null,null,null,null,null,{"$f":"第三面!I13","v":0}]
["【６．道　路】"]
[null,"【","イ．","幅員","】",null,null,null,{"$f":"IF(第三面!H15=\"\",\"\",第三面!H15)","v":""},null,null,null,null,"m",{"$f":"IF(第三面!N15=\"\",\"\",第三面!N15)","v":""}]
[null,"【","ロ．","敷地と接している部分の長さ",null,null,"】",null,{"$f":"IF(第三面!H16=\"\",\"\",第三面!H16)","v":""},null,null,null,null,"m",{"$f":"IF(第三面!N16=\"\",\"\",第三面!N16)","v":""}]
["【７．敷地面積】"]
[null,"【","イ．","敷地面積","】","（1）","（",{"$f":"IF(第三面!H18=\"\",\"\",第三面!H18)","v":""},null,"㎡）","（",{"$f":"IF(第三面!M18=\"\",\"\",第三面!M18)","v":""},null,"㎡）","（",{"$f":"IF(第三面!R18=\"\",\"\",第三面!R18)","v":""},null,"㎡）","（",{"$f":"IF(第三面!W18=\"\",\"\",第三面!W18)","v":""},null,"㎡）"]
[null,null,null,null,null,"（2）","（",{"$f":"IF(第三面!H19=\"\",\"\",第三面!H19)","v":""},null,"㎡）","（",{"$f":"IF(第三面!M19=\"\",\"\",第三面!M19)","v":""},null,"㎡）","（",{"$f":"IF(第三面!R19=\"\",\"\",第三面!R19)","v":""},null,"㎡）","（",{"$f":"IF(第三面!W19=\"\",\"\",第三面!W19)","v":""},null,"㎡）"]
[null,"【","ロ．","用途地域等","】",null,"（",{"$f":"IF(第三面!H20=\"\",\"\",第三面!H20)","v":""},null,null,"） （",{"$f":"IF(第三面!M20=\"\",\"\",第三面!M20)","v":""},null,null,"） （",{"$f":"IF(第三面!R20=\"\",\"\",第三面!R20)","v":""},null,null,"） （",{"$f":"IF(第三面!W20=\"\",\"\",第三面!W20)","v":""},null,null,"）"]
[null,"【","ハ．","建築基準法第５２条第１項及び第２項の規定による建築物の容積率",null,null,null,null,null,null,null,null,null,"】"]
[null,null,null,null,null,null,"（",{"$f":"IF(第三面!H22=\"\",\"\",第三面!H22)","v":""},null,"%）","（",{"$f":"IF(第三面!M22=\"\",\"\",第三面!M22)","v":""},null,"%）","（",{"$f":"IF(第三面!R22=\"\",\"\",第三面!R22)","v":""},null,"%）","（",{"$f":"IF(第三面!W22=\"\",\"\",第三面!W22)","v":""},null,"%）"]
[null,"【","二．","建築基準法第５３条第１項の規定による建築物の建蔽率",null,null,null,null,null,null,null,"】"]
[null,null,null,null,null,null,"（",{"$f":"IF(第三面!H24=\"\",\"\",第三面!H24)","v":""},null,"%）","（",{"$f":"IF(第三面!M24=\"\",\"\",第三面!M24)","v":""},null,"%）","（",{"$f":"IF(第三面!R24=\"\",\"\",第三面!R24)","v":""},null,"%）","（",{"$f":"IF(第三面!W24=\"\",\"\",第三面!W24)","v":""},null,"%）"]
[null,"【","ホ．","敷地面積の合計",null,"】",null,null,null,"（1）",null,{"$f":"SUM(H18,L18,P18,T18)","v":0},null,"㎡"]
[null,null,null,null,null,null,null,null,null,"（2）",null,{"$f":"SUM(H19,L19,P19,T19)","v":0},null,"㎡"]
[null,"【","ヘ．","敷地に建築可能な延べ面積を敷地面積で除した数値",null,null,null,null,null,null,"】",null,null,{"$f":"IF(第三面!M27=\"\",\"\",第三面!M27)","v":""},null,null,"%"]
[null,"【","ト．","敷地に建築可能な建築面積を敷地面積で除した数値",null,null,null,null,null,null,"】",null,null,{"$f":"IF(第三面!M28=\"\",\"\",第三面!M28)","v":""},null,null,"%"]
[null,"【","チ．","備考","】",{"$f":"IF(第三面!H29=\"\",\"\",第三面!H29)","v":""},null,null,null,{"$f":"IF(第三面!M29=\"\",\"\",第三面!M29)","v":""},null,null,null,{"$f":"IF(第三面!R29=\"\",\"\",第三面!R29)","v":""},null,null,null,{"$f":"IF(第三面!W29=\"\",\"\",第三面!W29)","v":""}]
["【８．主要用途】　",null,null,"（区分",{"$f":"IF(第三面!E30=\"\",\"\",第三面!E30)","v":""},null,{"$f":"IF(第三面!G30=\"\",\"\",第三面!G30)","v":""},null,null,null,null,null,")(",{"$f":"IF(第三面!P30=\"\",\"\",第三面!P30)","v":""},null,{"$f":"IF(第三面!R30=\"\",\"\",第三面!R30)","v":""},null,null,null,null,null,null,null,"）"]
[null,null,null,"（区分",{"$f":"IF(第三面!E31=\"\",\"\",第三面!E31)","v":""},null,{"$f":"IF(第三面!G31=\"\",\"\",第三面!G31)","v":""},null,null,null,null,null,")(",{"$f":"IF(第三面!P31=\"\",\"\",第三面!P31)","v":""},null,{"$f":"IF(第三面!R31=\"\",\"\",第三面!R31)","v":""},null,null,null,null,null,null,null,"）"]
["【９．工事種別】",null,null,null,{"$f":"第三面!D32","v":"□"},"新築",{"$f":"第三面!G32","v":"□"},"増築",{"$f":"第三面!J32","v":"□"},"改築",{"$f":"第三面!M32","v":"□"},"移転",{"$f":"第三面!P32","v":"□"},"用途変更",null,{"$f":"第三面!S32","v":"□"},"大規模の修繕",null,null,{"$f":"第三面!W32","v":"□"},"大規模の模様替"]
["【１０．建築面積】",null,null,null,null,null,null,null,"（","申請部分",null,null,"）","（","申請以外の部分",null,null,"）","（","合計",null,null,null,"）"]
[null,"【","イ．","建築物全体","】",null,null,null,"（",{"$f":"IF(第三面!H34=\"\",\"\",第三面!H34)","v":""},null,null,"㎡）","（",{"$f":"IF(第三面!O34=\"\",\"\",第三面!O34)","v":""},null,null,"㎡）","（",{"$f":"IF(第三面!V34=\"\",\"\",第三面!V34)","v":0},null,null,null,"㎡）"]
[null,"【","ロ．","建蔽率の算定の基礎となる建築面積",null,null,null,null,"】"]
[null,null,null,null,null,null,null,null,"（",{"$f":"IF(第三面!H36=\"\",\"\",第三面!H36)","v":""},null,null,"㎡）","（",{"$f":"IF(第三面!O36=\"\",\"\",第三面!O36)","v":""},null,null,"㎡）","（",{"$f":"IF(第三面!V36=\"\",\"\",第三面!V36)","v":0},null,null,null,"㎡）"]
[null,"【","ハ．","建蔽率","】",null,null,null,null,{"$f":"IF(第三面!H37=\"\",\"\",第三面!H37*100)","v":""},null,null,"%"]
["【１１．延べ面積】",null,null,null,null,null,null,null,"（","申請部分",null,null,"）","（","申請以外の部分",null,null,"）","（","合計",null,null,null,"）"]
[null,"【","イ．","建築物全体",null,null,"】",null,"（",{"$f":"IF(第三面!H39=\"\",\"\",第三面!H39)","v":""},null,null,"㎡）","（",{"$f":"IF(第三面!O39=\"\",\"\",第三面!O39)","v":""},null,null,"㎡）","（",{"$f":"IF(第三面!V39=\"\",\"\",第三面!V39)","v":0},null,null,null,"㎡）"]
[null,"【","ロ．","地階の住宅又は老人ホーム等の部分　　】"]
[null,null,null,null,null,null,null,null,"（",{"$f":"IF(第三面!H41=\"\",\"\",第三面!H41)","v":""},null,null,"㎡）","（",{"$f":"IF(第三面!O41=\"\",\"\",第三面!O41)","v":""},null,null,"㎡）","（",{"$f":"IF(第三面!V41=\"\",\"\",第三面!V41)","v":0},null,null,null,"㎡）"]
[null,"【","ハ．","エレベーターの昇降路の部分",null,null,"】",null,"（",{"$f":"IF(第三面!H42=\"\",\"\",第三面!H42)","v":""},null,null,"㎡）","（",{"$f":"IF(第三面!O42=\"\",\"\",第三面!O42)","v":""},null,null,"㎡）","（",{"$f":"IF(第三面!V42=\"\",\"\",第三面!V42)","v":0},null,null,null,"㎡）"]
[null,"【","ニ．","共同住宅又は老人ホーム等の共用の廊下等の部分　　】"]
[null,null,null,null,null,null,null,null,"（",{"$f":"IF(第三面!H44=\"\",\"\",第三面!H44)","v":""},null,null,"㎡）","（",{"$f":"IF(第三面!O44=\"\",\"\",第三面!O44)","v":""},null,null,"㎡）","（",{"$f":"IF(第三面!V44=\"\",\"\",第三面!V44)","v":0},null,null,null,"㎡）"]
[null,"【","ホ．","認定機械室等の部分",null,null,"】",null,"（",{"$f":"IF(第三面!H45=\"\",\"\",第三面!H45)","v":""},null,null,"㎡）","（",{"$f":"IF(第三面!O45=\"\",\"\",第三面!O45)","v":""},null,null,"㎡）","（",{"$f":"IF(第三面!V45=\"\",\"\",第三面!V45)","v":0},null,null,null,"㎡）"]
[null,"【","へ．","自動車車庫等の部分",null,null,"】",null,"（",{"$f":"IF(第三面!H46=\"\",\"\",第三面!H46)","v":""},null,null,"㎡）","（",{"$f":"IF(第三面!O46=\"\",\"\",第三面!O46)","v":""},null,null,"㎡）","（",{"$f":"IF(第三面!V46=\"\",\"\",第三面!V46)","v":0},null,null,null,"㎡）"]
[null,"【","ト．","備蓄倉庫の部分",null,null,"】",null,"（",{"$f":"IF(第三面!H47=\"\",\"\",第三面!H47)","v":""},null,null,"㎡）","（",{"$f":"IF(第三面!O47=\"\",\"\",第三面!O47)","v":""},null,null,"㎡）","（",{"$f":"IF(第三面!V47=\"\",\"\",第三面!V47)","v":0},null,null,null,"㎡）"]
[null,"【","チ．","蓄電池の設置部分",null,null,"】",null,"（",{"$f":"IF(第三面!H48=\"\",\"\",第三面!H48)","v":""},null,null,"㎡）","（",{"$f":"IF(第三面!O48=\"\",\"\",第三面!O48)","v":""},null,null,"㎡）","（",{"$f":"IF(第三面!V48=\"\",\"\",第三面!V48)","v":0},null,null,null,"㎡）"]
[null,"【","リ．","自家発電設備の設置部分",null,null,"】",null,"（",{"$f":"IF(第三面!H49=\"\",\"\",第三面!H49)","v":""},null,null,"㎡）","（",{"$f":"IF(第三面!O49=\"\",\"\",第三面!O49)","v":""},null,null,"㎡）","（",{"$f":"IF(第三面!V49=\"\",\"\",第三面!V49)","v":0},null,null,null,"㎡）"]
[null,"【","ヌ．","貯水槽の設置部分",null,null,"】",null,"（",{"$f":"IF(第三面!H50=\"\",\"\",第三面!H50)","v":""},null,null,"㎡）","（",{"$f":"IF(第三面!O50=\"\",\"\",第三面!O50)","v":""},null,null,"㎡）","（",{"$f":"IF(第三面!V50=\"\",\"\",第三面!V50)","v":0},null,null,null,"㎡）"]
[null,"【","ル．","宅配ボックスの設置部分",null,null,"】",null,"（",{"$f":"IF(第三面!H51=\"\",\"\",第三面!H51)","v":""},null,null,"㎡）","（",{"$f":"IF(第三面!O51=\"\",\"\",第三面!O51)","v":""},null,null,"㎡）","（",{"$f":"IF(第三面!V51=\"\",\"\",第三面!V51)","v":0},null,null,null,"㎡）"]
[null,"【","ヲ．","その他の不算入部分",null,null,"】",null,"（",{"$f":"IF(第三面!H52=\"\",\"\",第三面!H52)","v":""},null,null,"㎡）","（",{"$f":"IF(第三面!O52=\"\",\"\",第三面!O52)","v":""},null,null,"㎡）","（",{"$f":"IF(第三面!V52=\"\",\"\",第三面!V52)","v":0},null,null,null,"㎡）"]
[null,"【","ワ．","住宅の部分",null,null,"】",null,"（",{"$f":"IF(第三面!H53=\"\",\"\",第三面!H53)","v":""},null,null,"㎡）","（",{"$f":"IF(第三面!O53=\"\",\"\",第三面!O53)","v":""},null,null,"㎡）","（",{"$f":"IF(第三面!V53=\"\",\"\",第三面!V53)","v":0},null,null,null,"㎡）"]
[null,"【","カ．","老人ホーム等の部分",null,null,"】",null,"（",{"$f":"IF(第三面!H54=\"\",\"\",第三面!H54)","v":""},null,null,"㎡）","（",{"$f":"IF(第三面!O54=\"\",\"\",第三面!O54)","v":""},null,null,"㎡）","（",{"$f":"IF(第三面!V54=\"\",\"\",第三面!V54)","v":0},null,null,null,"㎡）"]
[null,"【","ヨ．","延べ面積",null,null,"】",null,null,{"$f":"IF(第三面!H55=\"\",\"\",第三面!H55)","v":0},null,null,"㎡"]
[null,"【","タ．","容積率",null,null,"】",null,null,{"$f":"IF(第三面!H56=\"\",\"\",第三面!H56*100)","v":""},null,null,"%"]
[]
["【１２．建築物の数】"]
[null,"【","イ．","申請に係る建築物の数",null,null,null,null,"】",{"$f":"IF(第三面!I59=\"\",\"\",第三面!I59)","v":""}]
[null,"【","ロ．","同一敷地内の他の建築物の数",null,null,null,null,"】",{"$f":"IF(第三面!I60=\"\",\"\",第三面!I60)","v":"0"}]
["【１３．建築物の高さ等】",null,null,null,null,null,null,null,"（","申請に係る建築物",null,null,"）","（","他の建築物",null,null,"）"]
[null,"【","イ．","最高の高さ","】",null,null,null,"（",{"$f":"IF(第三面!H62=\"\",\"\",第三面!H62)","v":""},null,null,"m）","（",{"$f":"IF(第三面!O62=\"\",\"\",第三面!O62)","v":""},null,null,"m）"]
[null,"【","ロ．","階数","】",null,"地上",null,"（",{"$f":"IF(第三面!H63=\"\",\"\",第三面!H63)","v":""},null,null,"階）","（",{"$f":"IF(第三面!O63=\"\",\"\",第三面!O63)","v":""},null,null,"階）"]
[null,null,null,null,null,null,"地下",null,"（",{"$f":"IF(第三面!H64=\"\",\"\",第三面!H64)","v":"0"},null,null,"階）","（",{"$f":"IF(第三面!O64=\"\",\"\",第三面!O64)","v":""},null,null,"階）"]
[null,"【","ハ．","構造","】",null,null,{"$f":"IF(第三面!F65=\"\",\"\",第三面!F65)","v":""},null,null,null,null,"造","一部",null,{"$f":"IF(第三面!O65=\"\",\"\",第三面!O65)","v":""},null,null,null,null,"造"]
[null,"【","二．","建築基準法第５６条第７項の規定による特例の適用の有無",null,null,null,null,null,null,null,"】",{"$f":"第三面!O66","v":"□"},"有",null,{"$f":"第三面!R66","v":"□"},"無"]
[null,"【","ホ．","適用があるときは、特例の区分",null,null,null,"】",{"$f":"第三面!H67","v":"□"},"道路高さ制限不適用",null,null,null,{"$f":"第三面!O67","v":"□"},"隣地高さ制限不適用",null,null,null,{"$f":"第三面!V67","v":"□"},"北側高さ制限不適用"]
["【１４．許可・認定等】",null,null,null,null,null,{"$f":"IF(第三面!E68=\"\",\"\",第三面!E68)","v":""}]
[null,null,null,null,null,null,{"$f":"IF(第三面!E69=\"\",\"\",第三面!E69)","v":""}]
[null,null,null,null,null,null,{"$f":"IF(第三面!E70=\"\",\"\",第三面!E70)","v":""}]
["【１５．工事着手予定年月日】",null,null,null,null,{"$f":"IF(AND(第三面!H71<>\"\",第三面!J71<>\"\",第三面!L71<>\"\"),\"令和\"&第三面!H71&\"年\"&第三面!J71&\"月\"&第三面!L71&\"日\",\"令和　　　　　　年　　　　　　月　　　　　　日\")","v":"令和　　　　　　年　　　　　　月　　　　　　日"}]
["【１６．工事完了予定年月日】",null,null,null,null,{"$f":"IF(AND(第三面!H72<>\"\",第三面!J72<>\"\",第三面!L72<>\"\"),\"令和\"&第三面!H72&\"年\"&第三面!J72&\"月\"&第三面!L72&\"日\",\"令和　　　　　　年　　　　　　月　　　　　　日\")","v":"令和　　　　　　年　　　　　　月　　　　　　日"}]
["【１７．特定工程工事終了予定年月日】",null,null,null,null,null,null,null,null,null,null,null,null,"（特定工程）"]
[null,null,"（第",{"$f":"IF(第三面!D74=\"\",\"\",第三面!D74)","v":""},"回）","令和",null,{"$f":"第三面!H74","v":0},"年",{"$f":"第三面!J74","v":0},"月",{"$f":"第三面!L74","v":0},"日　（",{"$f":"IF(第三面!O74=\"\",\"\",第三面!O74)","v":""},null,null,null,null,null,null,null,null,null,"）"]
[null,null,"（第",{"$f":"IF(第三面!D75=\"\",\"\",第三面!D75)","v":""},"回）","令和",null,{"$f":"第三面!H75","v":0},"年",{"$f":"第三面!J75","v":0},"月",{"$f":"第三面!L75","v":0},"日　（",{"$f":"IF(第三面!O75=\"\",\"\",第三面!O75)","v":""},null,null,null,null,null,null,null,null,null,"）"]
[null,null,"（第",{"$f":"IF(第三面!D76=\"\",\"\",第三面!D76)","v":""},"回）","令和",null,{"$f":"第三面!H76","v":0},"年",{"$f":"第三面!J76","v":0},"月",{"$f":"第三面!L76","v":0},"日　（",{"$f":"IF(第三面!O76=\"\",\"\",第三面!O76)","v":""},null,null,null,null,null,null,null,null,null,"）"]
["【１８．建築基準法第12条第１項の規定による調査の要否】"]
[null,null,{"$f":"第三面!S77","v":"□"},"要",{"$f":"第三面!U77","v":"□"},"否"]
["【１９．建築基準法第12条第3項の規定による検査を要する防火設備の有無】"]
[null,null,{"$f":"第三面!S78","v":"□"},"有",{"$f":"第三面!U78","v":"□"},"無"]
["【２０．その他必要な事項】",null,null,null,{"$f":"第三面!E81","v":0}]
[{"$f":"第三面!E79","v":0}]
[{"$f":"第三面!E80","v":0}]
[{"$f":"第三面!E82","v":0}]
[{"$f":"第三面!E83","v":0}]

{"sheet":"建築計画概要書第三面 ","index":29,"n_rows":51,"n_cols":2,"rows_kept":51,"cut":false,"hidden":false,"merged":[[0,0,0,35]]}
["建築計画概要書（第三面）"]
["付近見取図"]
[]
[]
[]
[]
[]
[]
[]
[]
[]
[]
[]
[]
[]
[]
[]
[]
[]
[]
[]
["配置図"]
[]
[]
[]
[]
[]
[]
[]
[]
[]
[]
[]
[]
[]
[]
[]
[]
[]
[]
[]
["（注意）"]
["１．第一面及び第二面関係"]
["①","これらは第二号様式の第二面及び第三面の写しに代えることができます。この場合には、最上段に「建築計画概要書（第一面）」"]
[null,"及び「建築計画概要書（第二面）」と明示してください。"]
["②","第一面の５欄及び６欄は、それぞれ工事監理者又は工事施工者が未定のときは、後で定まつてから工事着手前に届け出てください。"]
[null,"この場合には、特定行政庁が届出のあつた旨を明示した上で記入します。"]
["２．第三面関係"]
["①","付近見取図には、方位、道路及び目標となる地物を明示してください。"]
["②","配置図には、縮尺、方位、敷地境界線、敷地内における建築物の位置、申請に係る建築物と他の建築物との別並びに敷地の接する"]
[null,"道路の位置及び幅員を明示してください。"]

{"sheet":"建築計画概要書第四面","index":30,"n_rows":46,"n_cols":24,"rows_kept":46,"cut":false,"hidden":false,"merged":[[37,3,37,20],[20,4,20,8],[21,4,21,20],[38,3,38,20],[28,4,28,8],[32,4,32,20],[33,4,33,8],[35,3,35,20],[25,4,25,20],[27,4,27,20],[36,3,36,20],[23,4,23,20],[24,4,24,8],[17,4,17,20],[19,4,19,20],[7,4,7,20],[8,4,8,8],[9,4,9,20],[10,4,10,8],[11,4,11,20],[12,4,12,8],[14,4,14,20],[0,0,0,20],[2,0,2,20],[4,4,4,20],[5,4,5,8],[15,4,15,8]]}
["建築計画概要書（第四面）"]
["第三十七号様式（第六条の三、第十一条の三関係）（Ａ４）"]
["建築基準法令による処分等の概要書"]
["【１．建築確認】"]
[null,"【イ．","確認済証交付者","】",null,null,null,null,null,null,null,null,null,null,null,null,null,null,null,null,null,null,null,"指定確認検査機関　株式会社　グッド・アイズ建築検査機構"]
[null,"【ロ．","確認済証番号","】",null,null,null,null,null,"号","【ハ．交付年月日】",null,null,null,"令和",null,"年",null,"月",null,"日"]
["（計画変更の確認）"]
["（１）","【イ．","確認済証交付者","】"]
[null,"【ロ．","確認済証番号","】",null,null,null,null,null,"号","【ハ．交付年月日】",null,null,null,"令和",null,"年",null,"月",null,"日"]
["（２）","【イ．","確認済証交付者","】"]
[null,"【ロ．","確認済証番号","】",null,null,null,null,null,"号","【ハ．交付年月日】",null,null,null,"令和",null,"年",null,"月",null,"日"]
["（３）","【イ．","確認済証交付者","】"]
[null,"【ロ．","確認済証番号","】",null,null,null,null,null,"号","【ハ．交付年月日】",null,null,null,"令和",null,"年",null,"月",null,"日"]
["（構造計算適合性判定）"]
[null,"【イ．","判定結果通知書交付者","】"]
[null,"【ロ．","判定結果通知書交付番号","】",null,null,null,null,null,"号","【ハ．交付年月日】",null,null,null,"令和",null,"年",null,"月",null,"日"]
["【２．中間検査】"]
["（１）","【イ．","特定工程","】"]
[null,"【ロ．","検査日","】","令和",null,"年",null,"月",null,"日"]
[null,"【ハ．","中間検査合格証交付者","】"]
[null,"【二．","中間検査合格証番号","】",null,null,null,null,null,"号","【ホ．交付年月日】",null,null,null,"令和",null,"年",null,"月",null,"日"]
["（２）","【イ．","特定工程","】"]
[null,"【ロ．","検査日","】","令和",null,"年",null,"月",null,"日"]
[null,"【ハ．","中間検査合格証交付者","】"]
[null,"【二．","中間検査合格証番号","】",null,null,null,null,null,"号","【ホ．交付年月日】",null,null,null,"令和",null,"年",null,"月",null,"日"]
["（３）","【イ．","特定工程","】"]
[null,"【ロ．","検査日","】","令和",null,"年",null,"月",null,"日"]
[null,"【ハ．","中間検査合格証交付者","】"]
[null,"【二．","中間検査合格証番号","】",null,null,null,null,null,"号","【ホ．交付年月日】",null,null,null,"令和",null,"年",null,"月",null,"日"]
[]
["【３．完了検査】"]
[null,"【イ．","検査日","】","令和",null,"年",null,"月",null,"日"]
[null,"【ロ．","検査済証交付者","】"]
[null,"【ハ．","検査済証番号","】",null,null,null,null,null,"号","【二．交付年月日】",null,null,null,"令和",null,"年",null,"月",null,"日"]
[]
["【４．その他処分】"]
[]
[]
[]
["【5．定期報告等】"]
[null,"（１）","【報告年月日】",null,"令和",null,"年",null,"月",null,"日"]
[null,"（２）","【報告年月日】",null,"令和",null,"年",null,"月",null,"日"]
[null,"（３）","【報告年月日】",null,"令和",null,"年",null,"月",null,"日"]
[null,"（４）","【報告年月日】",null,"令和",null,"年",null,"月",null,"日"]
[null,"（５）","【報告年月日】",null,"令和",null,"年",null,"月",null,"日"]
["【6．備　考】"]

{"sheet":"用途区分","index":31,"n_rows":81,"n_cols":2,"rows_kept":81,"cut":false,"hidden":true,"merged":[[41,1,42,1],[48,1,49,1],[52,1,58,1],[59,1,60,1],[75,1,77,1]]}
["建築物又は建築物部分の用途の区分","用途を示す記号"]
["一戸建ての住宅","08010"]
["長屋","08020"]
["共同住宅","08030"]
["寄宿舎","08040"]
["下宿","08050"]
["住宅で事務所、店舗その他これらに類する用途を兼ねるもの","08060"]
["幼稚園","08070"]
["小学校","08080"]
["中学校・高等学校","08090"]
["養護学校、盲学校又は聾学校","08100"]
["大学又は高等専門学校","08110"]
["専修学校","08120"]
["各種学校","08130"]
["幼保連携認定こども園","08132"]
["図書館その他これに類するもの","08140"]
["博物館その他これに類するもの","08150"]
["美術館その他これに類するもの","08152"]
["神社、寺院、教会その他これらに類するもの","08160"]
["老人ホーム、福祉ホームその他これらに類するもの","08170"]
["保育所その他これに類するもの","08180"]
["助産所(入所する者の寝室があるものに限る。)","08190"]
["助産所(入所する者の寝室がないものに限る。)","08192"]
["児童福祉施設等(建築基準法施行令第19条第1項に規定する児童福祉施設等をいい、\n第4項に掲げるものを除く。次項において同じ。)　(入所する者の寝室があるものに限る。)","08210"]
["児童福祉施設等(入所する者の寝室がないものに限る。)","08220"]
["公衆浴場(個室付浴場業に係る公衆浴場を除く）","08230"]
["診療所(患者の収容施設のあるものに限る）","08240"]
["診療所(患者の収容施設のないものに限る）","08250"]
["病院","08260"]
["巡査派出所","08270"]
["公衆電話所","08280"]
["郵便局","08290"]
["地方公共団体の支庁又は支所","08300"]
["公衆便所、休憩所又は路線バスの停留所の上家","08310"]
["建築基準法施行令第130条の4第5号に基づき建設大臣が指定する施設","08320"]
["税務署、警察署、保健所又は消防署その他これに類するもの","08330"]
["工場（自動車修理工場を除く）","08340"]
["自動車修理工場","08350"]
["危険物の貯蔵又は処理に供するもの","08360"]
["ボーリング場、スケート場、水泳場、スキー場、ゴルフ練習場又はバッティング練習場","08370"]
["体育館又はスポーツ練習場(前項に掲げるものを除く）","08380"]
["マージャン屋、ぱちんこ屋、射的場、勝馬投票券発売場、場外車券売り場その他これらに類するもの","08390"]
["又はカラオケボックスその他これに類するもの"]
["ホテル又は旅館","08400"]
["自動車教習所","08410"]
["畜舎","08420"]
["堆肥舎又は水産物の増殖場若しくは養殖場","08430"]
["日用品の販売を主たる目的とする店舗","08438"]
["百貨店、マーケットその他の物品販売業を営む店舗　(前項に掲げるもの及び専ら性的好奇心を","08440"]
["そそる写真その他の物品の販売を行うものを除く。）"]
["飲食店（次項に掲げるものを除く。）","08450"]
["食堂又は喫茶店","08452"]
["理髪店、美容院、クリーニング取次店、質屋、貸衣装屋、貸本屋その他これらに類するサービス業を","08456"]
["営む店舗、洋服店、畳屋、建具屋、自転車店、家庭電気器具店その他これらに類するサービス業を"]
["営む店舗で作業場の床面積の合計が50平方メートル以内のもの（原動機を使用する場合にあって"]
["は、その出力の合計が0.75キロワット以下のものに限る。）、自家販売のために食品製造業を営"]
["むパン屋、米屋、豆腐屋、菓子屋その他これらに類するもので作業場の床面積の合計が50平方メー"]
["トル以内のもの（原動機を使用する場合にあっては、その出力の合計が0.75キロワット以下のも"]
["のに限る。）又は学習塾、華道教室、囲碁教室その他これらに類する施設"]
["銀行の支店、損害保険代理店、宅地建物取引業を営む店舗その他これらに類するサービス業を営む","08458"]
["店舗"]
["物品販売業を営む店舗以外の店舗（前2項に掲げるものを除く。）","08460"]
["事務所","08470"]
["映画スタジオ又はテレビスタジオ","08480"]
["自動車車庫","08490"]
["自転車駐車場","08500"]
["倉庫業を営む倉庫","08510"]
["倉庫業を営まない倉庫","08520"]
["劇場・映画館又は演芸場","08530"]
["観覧場","08540"]
["公会堂又は集会場","08550"]
["展示場","08560"]
["料理店","08570"]
["キャバレー、カフェ、ナイトクラブ又はバー","08580"]
["ダンスホール","08590"]
["個室付浴場に係る公衆浴場、ヌードスタジオ、のぞき劇場、ストリップ劇場、専ら異性を同伴する客の","08600"]
["休憩の用に供する施設、専ら性的好奇心をそそる写真その他の物品の販売を目的とする店舗その"]
["他これらに類するもの"]
["卸売市場","08610"]
["火葬場又はと蓄場、汚物処理場、ごみ焼却場その他の処理施設","08620"]
["その他","08990"]

{"sheet":"マスタシート","index":32,"n_rows":140,"n_cols":37,"rows_kept":140,"cut":false,"hidden":true,"merged":[]}
[]
[null,null,null,"第二面　【６．工事施工者】","第二面"]
["年","月","日","固定文言","設計図書","建築主人数","都道府県","建築士","登録","備考","選択","地区_区域","用途地域","備考_3面7","用途","CODE","構造","特定工程回数","特定工程",null,null,"計画変更時",null,"耐火建築物","確認の特例","便所の種類","柱の小径","工事届宛先","工事届選択","工事届用途1","工事届用途２","工事届番号","数","火災警報器","適判機関"]
[]
[null,null,null,null,null,null,null,null,null,null,null,null,null,null,null,null,null,null,null,"建築面積",{"$f":"IF(ISERROR(第三面!V34/第三面!H25),\"\",(第三面!V36/第三面!H25))","v":""},"建築面積"]
["元",1,1,"未定（決定になり次第通知）","意匠図一式","他1名","神奈川県","一級","大臣","構造設計図書の作成　　　構造設計一級建築士",null,"法22条区域","第1種低層住居","角地","一戸建ての住宅","08010","木（軸組）",1,"屋根工事完了時",null,null,null,null,"耐火建築物",1,"水洗","90×90mm","東京都知事","※","01",11,1,"0","住宅用火災警報器設置","（株）国際確認検査センター","東京都","中央区"]
[2,2,2,null,"設計図書一式","他2名","東京都","二級","神奈川県知事","設備設計図書の作成　　　設備設計一級建築士","□","第1種高度地区","第2種低層住居","防火地域内の耐火建築物","長屋","08020","木（枠組壁工法）",2,"1階の鉄骨その他の構造部材の建て方工事完了時",null,null,null,null,"準耐火建築物（イ-1）",2,"くみ取り","105×105mm","神奈川県知事",null,"02",12,2,1,null,"ビューロベリタスジャパン（株）","神奈川県","横浜市"]
[3,3,3,null,"設備図一式","他3名","千葉県","木造","東京都知事","構造設計図書の法適合確認　　　構造設計一級建築士","■","第2種高度地区","第1種中高層住居","準防火地域内の耐火建築物","共同住宅","08030","鉄筋コンクリート",3,"2階の床及びこれを支持するはりに鉄筋を配置する工事完了時","車庫1/5",{"$f":"MIN(第三面!V46,第三面!V39/5)","v":0},"車庫1/5",{"$f":"MIN(#REF!,#REF!/5)","v":{"$error":"#REF!"}},"準耐火建築物（イ-2）",3,"くみ取り（改良）","120×120mm","埼玉県知事",null,"03",13,3,2,null,"（財）住宅金融普及協会","東京都","文京区"]
[4,4,4,null,"構造図一式",null,"埼玉県",null,"千葉県知事","設備設計図書の法適合確認　　　設備設計一級建築士",null,"第3種高度地区","第2種中高層住居","準防火地域内の準耐火建築物","寄宿舎","08040","鉄骨",null,"2階の床工事完了時","備蓄倉庫1/50",{"$f":"MIN(第三面!V47,第三面!V39/50)","v":0},"備蓄倉庫1/50",{"$f":"MIN(#REF!,#REF!/50)","v":{"$error":"#REF!"}},"準耐火建築物（ロ-1）",4,null,null,"千葉県知事",null,"04",15,4,3,null,"（財）日本建築センター","東京都","千代田区"]
[5,5,5,null,"構造計算書",null,"群馬県",null,"埼玉県知事","構造設計を行った日",null,"第4種高度地区","第1種住居","地区計画による","下宿","08050","鉄骨鉄筋コンクリート",null,"基礎配筋完了時","蓄電池1/50",{"$f":"MIN(第三面!V48,第三面!V39/50)","v":0},"蓄電池1/50",{"$f":"MIN(#REF!,#REF!/50)","v":{"$error":"#REF!"}},"準耐火建築物（ロ-2）",null,null,null,"茨城県知事",null,"05",16,5,4,null,"日本ERI株式会社","東京都","港区"]
[6,6,6,null,null,null,"栃木県",null,"群馬県知事","設備設計を行った日",null,"第5種高度地区","第2種住居","風致地区による","住宅で○○を兼ねるもの","08060",null,null,"全軸組緊結完了時","自家発電1/100",{"$f":"MIN(第三面!V49,第三面!V39/100)","v":0},"自家発電1/100",{"$f":"MIN(#REF!,#REF!/100)","v":{"$error":"#REF!"}},"その他",null,null,null,"栃木県知事",null,null,17,null,5,null,"（株）都市居住評価センター","東京都","港区"]
[7,7,7,null,null,null,"茨城県",null,"栃木県知事",null,null,"第6種高度地区","準住居地域",null,"幼稚園","08070",null,null,"小屋組完了時","貯水槽1/100",{"$f":"MIN(第三面!V50,第三面!V39/100)","v":0},"貯水槽1/100",{"$f":"MIN(#REF!,#REF!/100)","v":{"$error":"#REF!"}},null,null,null,null,"群馬県知事",null,null,18,null,6,null,"（株）東京建築検査機構","東京都","中央区"]
[8,8,8,null,null,null,"北海道",null,"茨城県知事",null,null,"第7種高度地区","近隣商業地域",null,"小学校","08080",null,null,"最下階から２つ目の床版配筋完了時","宅配ボックス1/100",{"$f":"MIN(第三面!V51,第三面!V39/100)","v":0},"宅配ボックス1/100",{"$f":"MIN(#REF!,#REF!/100)","v":{"$error":"#REF!"}},null,null,null,null,"青森県知事",null,null,19,null,7,null,"アウェイ建築評価ネット（株）","東京都","新宿区"]
[9,9,9,null,null,null,"青森県",null,"北海道知事",null,null,"第8種高度地区","商業地域",null,"中学校　　","08090",null,null,"軸組の接合完了時",null,null,"認定機械室等の部分1/1",{"$f":"第三面!V45","v":0},null,null,null,null,"岩手県知事",null,null,20,null,8,null,"ハウスプラス確認検査（株）","東京都","港区"]
[10,10,10,null,null,null,"岩手県",null,"青森県知事",null,null,"第9種高度地区","準工業地域",null,"高等学校","08090",null,null,null,null,null,"その他不算入部分1/1",{"$f":"第三面!V52","v":0},null,null,null,null,"宮城県知事",null,null,21,null,9,null,"（株）建築構造センター","東京都","新宿区"]
[11,11,11,null,null,null,"宮城県",null,"岩手県知事",null,null,"最低限高度地区（7ｍ）","工業地域",null,"中等教育学校","08090",null,null,null,"車庫1/5（桁整理）",{"$f":"ROUNDDOWN(U8,2)","v":0},"車庫1/5（桁整理）",{"$f":"ROUNDDOWN(W8,2)","v":{"$error":"#REF!"}},null,null,null,null,"秋田県知事",null,null,22,null,10,null,"（株）神奈川建築確認検査機関","神奈川県","相模原市"]
[12,12,12,null,null,null,"秋田県",null,"宮城県知事",null,null,"新防火地域","工業専用地域",null,"養護学校　　","08100",null,null,null,"備蓄倉庫1/50（桁整理）",{"$f":"ROUNDDOWN(U9,2)","v":0},"備蓄倉庫1/50（桁整理）",{"$f":"ROUNDDOWN(W9,2)","v":{"$error":"#REF!"}},null,null,null,null,"山形県知事",null,null,23,null,11,null,"（財）さいたま住宅検査センター","埼玉県","さいたま市"]
[13,null,13,null,null,null,"山形県",null,"秋田県知事",null,null,"宅地造成等規制区域","指定なし",null,"盲学校","08100",null,null,null,"蓄電池1/50（桁整理）",0,"蓄電池1/50（桁整理）",{"$error":"#REF!"},null,null,null,null,"福島県知事",null,null,24,null,12,null,"（財）神奈川建築安全協会","神奈川県","横浜市"]
[14,null,14,null,null,null,"福島県",null,"山形県知事",null,null,"特別工業地区",null,null,"聾学校","08100",null,null,null,"自家発電1/100（桁整理）",0,"自家発電1/100（桁整理）",{"$error":"#REF!"},null,null,null,null,"新潟県知事",null,null,25,null,13,null,"（財）東京都防災・建築まちづくりセンター","東京都","港区"]
[15,null,15,null,null,null,"新潟県",null,"福島県知事",null,null,"地区計画区域",null,null,"大学　","08110",null,null,null,"貯水槽1/100（桁整理）",0,"貯水槽1/100（桁整理）.",{"$error":"#REF!"},null,null,null,null,"富山県知事",null,null,26,null,14,null,"（財）日本建築設備・昇降機センター","東京都","港区"]
[16,null,16,null,null,null,"富山県",null,"新潟県知事",null,null,"土地区画整理区域",null,null,"高等専門学校","08110",null,null,null,"宅配ボックス1/100（桁整理）",0,"宅配ボックス1/100（桁整理）",{"$f":"ROUNDDOWN(W13,2)","v":{"$error":"#REF!"}},null,null,null,null,"石川県知事",null,null,27,null,15]
[17,null,17,null,null,null,"石川県",null,"富山県知事",null,null,"第1種風致地区",null,null,"専修学校","08120",null,null,null,"桁整理合計",{"$f":"SUM(U16:U21,U23:U24)","v":0},"桁整理合計",{"$f":"SUM(W16:W21,W23:W24)","v":{"$error":"#REF!"}},null,null,null,null,"福井県知事",null,null,24,null,16,null,"（財）宮城県建築住宅センター","宮城県","仙台市"]
[18,null,18,null,null,null,"福井県",null,"石川県知事",null,null,"第2種風致地区",null,null,"各種学校","08130",null,null,null,"認定機械室等の部分",{"$f":"W23","v":0},"認定機械室等の部分",{"$f":"ROUNDDOWN(W14,2)","v":0},null,null,null,null,"山梨県知事",null,null,25,null,17,null,"（財）日本住宅・木材技術センター","東京都","江東区"]
[19,null,19,null,null,null,"山梨県",null,"福井県知事",null,null,"駐車場整備地区",null,null,"図書館","08140",null,null,null,"その他不算入部分",{"$f":"W24","v":0},"その他不算入部分",{"$f":"ROUNDDOWN(W15,2)","v":0},null,null,null,null,"長野県知事",null,null,26,null,18,null,"（株）山形県建築サポートセンター","山形県","山形市"]
[20,null,20,null,null,null,"長野県",null,"山梨県知事",null,null,null,null,null,"博物館","08150",null,null,null,"容積率",{"$f":"IF(ISERROR(第三面!H55/第三面!H25),\"\",(第三面!H55/第三面!H25))","v":""},"容積率",{"$f":"IF(ISERROR(#REF!/#REF!),\"\",(#REF!/#REF!))","v":""},null,null,null,null,"岐阜県知事",null,null,27,null,19,null,"（財）千葉県建設技術センター","千葉県","千葉市"]
[21,null,21,null,null,null,"岐阜県",null,"長野県知事",null,null,null,null,null,"美術館","08152",null,null,null,null,null,null,null,null,null,null,null,"静岡県知事",null,null,28,null,20,null,"（財）茨城県建築センター","茨城県","水戸市"]
[22,null,22,null,null,null,"静岡県",null,"岐阜県知事",null,null,null,null,null,"神社　　","08160",null,null,null,null,null,null,null,null,null,null,null,"愛知県知事",null,null,29,null,null,null,"（財）群馬県建築構造技術センター","群馬県","高崎市"]
[23,null,23,null,null,null,"愛知県",null,"静岡県知事",null,null,null,null,null,"寺院","08160",null,null,null,null,null,null,null,null,null,null,null,null,null,null,30,null,null,null,"（財）福島県建築安全機構","福島県","福島市"]
[24,null,24,null,null,null,"三重県",null,"愛知県知事",null,null,null,null,null,"教会","08160",null,null,null,null,null,null,null,null,null,null,null,null,null,null,31,null,null,null,"（財）長野県建築住宅センター","長野県","長野市"]
[25,null,25,null,null,null,"滋賀県",null,"三重県知事",null,null,null,null,null,"老人ホーム　","08170",null,null,null,null,null,null,null,null,null,null,null,null,null,null,32,null,null,null,"（財）新潟県建築住宅センター","新潟県","新潟市"]
[26,null,26,null,null,null,"京都府",null,"滋賀県知事",null,null,null,null,null,"身体障害者福祉ホーム","08170",null,null,null,null,null,null,null,null,null,null,null,null,null,null,33,null,null,null,"NPO法人　静岡県建築技術安心支援センター","静岡県","静岡市"]
[27,null,27,null,null,null,"大阪府",null,"京都府知事",null,null,null,null,null,"保育所","08180",null,null,null,null,null,null,null,null,null,null,null,null,null,null,34,null,null,null,"（財）愛知県建築住宅センター","愛知県","名古屋市"]
[28,null,28,null,null,null,"兵庫県",null,"大阪府知事",null,null,null,null,null,"助産所(入所する者の寝室のあるものに限る。)","08190",null,null,null,null,null,null,null,null,null,null,null,null,null,null,35]
[29,null,29,null,null,null,"奈良県",null,"兵庫県知事",null,null,null,null,null,"助産所(入所する者の寝室のないものに限る。)","08192",null,null,null,null,null,null,null,null,null,null,null,null,null,null,36,null,null,null,"（株）グッド・アイズ建築検査機構　東京都新宿区"]
[30,null,30,null,null,null,"和歌山県",null,"奈良県知事",null,null,null,null,null,"児童福祉施設等(入所する者の寝室のあるものに限る。)","08210",null,null,null,null,null,null,null,null,null,null,null,null,null,null,37]
[31,null,31,null,null,null,"鳥取県",null,"和歌山県知事",null,null,null,null,null,"児童福祉施設等(入所する者の寝室のないものに限る。)","08220",null,null,null,null,null,null,null,null,null,null,null,null,null,null,38]
[32,null,null,null,null,null,"島根県",null,"鳥取県知事",null,null,null,null,null,"公衆浴場(個室付浴場業に係る公衆浴場を除く）","08230",null,null,null,null,null,null,null,null,null,null,null,null,null,null,39]
[33,null,null,null,null,null,"岡山県",null,"島根県知事",null,null,null,null,null,"診療所(患者の収容施設のあるものに限る）","08240",null,null,null,null,null,null,null,null,null,null,null,null,null,null,40]
[34,null,null,null,null,null,"広島県",null,"岡山県知事",null,null,null,null,null,"診療所(患者の収容施設のないものに限る）","08250",null,null,null,null,null,null,null,null,null,null,null,null,null,null,41]
[35,null,null,null,null,null,"山口県",null,"広島県知事",null,null,null,null,null,"病院","08260",null,null,null,null,null,null,null,null,null,null,null,null,null,null,42]
[36,null,null,null,null,null,"徳島県",null,"山口県知事",null,null,null,null,null,"巡査派出所","08270",null,null,null,null,null,null,null,null,null,null,null,null,null,null,43]
[37,null,null,null,null,null,"香川県",null,"徳島県知事",null,null,null,null,null,"公衆電話所","08280",null,null,null,null,null,null,null,null,null,null,null,null,null,null,44]
[38,null,null,null,null,null,"愛媛県",null,"香川県知事",null,null,null,null,null,"郵便局","08290",null,null,null,null,null,null,null,null,null,null,null,null,null,null,45]
[39,null,null,null,null,null,"高知県",null,"愛媛県知事",null,null,null,null,null,"地方公共団体の支庁","08300",null,null,null,null,null,null,null,null,null,null,null,null,null,null,46]
[40,null,null,null,null,null,"福岡県",null,"高知県知事",null,null,null,null,null,"地方公共団体の支所","08300",null,null,null,null,null,null,null,null,null,null,null,null,null,null,99]
[null,null,null,null,null,null,"佐賀県",null,"福岡県知事",null,null,null,null,null,"公衆便所","08310"]
[null,null,null,null,null,null,"長崎県",null,"佐賀県知事",null,null,null,null,null,"休憩所","08310"]
[null,null,null,null,null,null,"熊本県",null,"長崎県知事",null,null,null,null,null,"路線バスの停留所の上家","08310"]
[null,null,null,null,null,null,"大分県",null,"熊本県知事",null,null,null,null,null,"建築基準法施行第130条の4第5号に基づき建設大臣が指定する施設","08320"]
[null,null,null,null,null,null,"宮崎県",null,"大分県知事",null,null,null,null,null,"税務署　　　","08330"]
[null,null,null,null,null,null,"鹿児島県",null,"宮崎県知事",null,null,null,null,null,"警察署","08330"]
[null,null,null,null,null,null,"沖縄県",null,"鹿児島県知事",null,null,null,null,null,"保健所","08330"]
[null,null,null,null,null,null,null,null,"沖縄県知事",null,null,null,null,null,"消防署","08330"]
[null,null,null,null,null,null,null,null,null,null,null,null,null,null,"工場（自動車修理工場を除く）","08340"]
[null,null,null,null,null,null,null,null,null,null,null,null,null,null,"自動車修理工場","08350"]
[null,null,null,null,null,null,null,null,null,null,null,null,null,null,"危険物の貯蔵又は処理に供するもの","08360"]
[null,null,null,null,null,null,null,null,null,null,null,null,null,null,"ボーリング場","08370"]
[null,null,null,null,null,null,null,null,null,null,null,null,null,null,"スケート場","08370"]
[null,null,null,null,null,null,null,null,null,null,null,null,null,null,"水泳場","08370"]
[null,null,null,null,null,null,null,null,null,null,null,null,null,null,"スキー場","08370"]
[null,null,null,null,null,null,null,null,null,null,null,null,null,null,"ゴルフ練習場","08370"]
[null,null,null,null,null,null,null,null,null,null,null,null,null,null,"バッティング練習場","08370"]
[null,null,null,null,null,null,null,null,null,null,null,null,null,null,"体育館","08380"]
[null,null,null,null,null,null,null,null,null,null,null,null,null,null,"スポーツ練習場","08380"]
[null,null,null,null,null,null,null,null,null,null,null,null,null,null,"マージャン屋","08390"]
[null,null,null,null,null,null,null,null,null,null,null,null,null,null,"パチンコ屋","08390"]
[null,null,null,null,null,null,null,null,null,null,null,null,null,null,"射的場","08390"]
[null,null,null,null,null,null,null,null,null,null,null,null,null,null,"勝馬投票券発売場","08390"]
[null,null,null,null,null,null,null,null,null,null,null,null,null,null,"場外車券売り場","08390"]
[null,null,null,null,null,null,null,null,null,null,null,null,null,null,"カラオケボックス","08390"]
[null,null,null,null,null,null,null,null,null,null,null,null,null,null,"ホテル　","08400"]
[null,null,null,null,null,null,null,null,null,null,null,null,null,null,"旅館","08400"]
[null,null,null,null,null,null,null,null,null,null,null,null,null,null,"自動車教習所","08410"]
[null,null,null,null,null,null,null,null,null,null,null,null,null,null,"畜舎","08420"]
[null,null,null,null,null,null,null,null,null,null,null,null,null,null,"堆肥舎　　","08430"]
[null,null,null,null,null,null,null,null,null,null,null,null,null,null,"水産物の増殖場","08430"]
[null,null,null,null,null,null,null,null,null,null,null,null,null,null,"養殖場","08430"]
[null,null,null,null,null,null,null,null,null,null,null,null,null,null,"日用品の販売を主たる目的とする店舗","08438"]
[null,null,null,null,null,null,null,null,null,null,null,null,null,null,"百貨店　　","08440"]
[null,null,null,null,null,null,null,null,null,null,null,null,null,null,"マーケット","08440"]
[null,null,null,null,null,null,null,null,null,null,null,null,null,null,"物品販売業を営む店舗","08440"]
[null,null,null,null,null,null,null,null,null,null,null,null,null,null,"飲食店","08450"]
[null,null,null,null,null,null,null,null,null,null,null,null,null,null,"食堂　","08452"]
[null,null,null,null,null,null,null,null,null,null,null,null,null,null,"喫茶店","08452"]
[null,null,null,null,null,null,null,null,null,null,null,null,null,null,"理髪店","08456"]
[null,null,null,null,null,null,null,null,null,null,null,null,null,null,"美容院","08456"]
[null,null,null,null,null,null,null,null,null,null,null,null,null,null,"クリーニング取次店","08456"]
[null,null,null,null,null,null,null,null,null,null,null,null,null,null,"質屋","08456"]
[null,null,null,null,null,null,null,null,null,null,null,null,null,null,"貸衣装屋","08456"]
[null,null,null,null,null,null,null,null,null,null,null,null,null,null,"貸本屋","08456"]
[null,null,null,null,null,null,null,null,null,null,null,null,null,null,"洋服店","08456"]
[null,null,null,null,null,null,null,null,null,null,null,null,null,null,"畳屋","08456"]
[null,null,null,null,null,null,null,null,null,null,null,null,null,null,"建具屋","08456"]
[null,null,null,null,null,null,null,null,null,null,null,null,null,null,"自転車店","08456"]
[null,null,null,null,null,null,null,null,null,null,null,null,null,null,"家庭電気器具店","08456"]
[null,null,null,null,null,null,null,null,null,null,null,null,null,null,"パン屋","08456"]
[null,null,null,null,null,null,null,null,null,null,null,null,null,null,"米屋","08456"]
[null,null,null,null,null,null,null,null,null,null,null,null,null,null,"豆腐屋","08456"]
[null,null,null,null,null,null,null,null,null,null,null,null,null,null,"菓子屋","08456"]
[null,null,null,null,null,null,null,null,null,null,null,null,null,null,"学習塾","08456"]
[null,null,null,null,null,null,null,null,null,null,null,null,null,null,"華道教室","08456"]
[null,null,null,null,null,null,null,null,null,null,null,null,null,null,"囲碁教室","08456"]
[null,null,null,null,null,null,null,null,null,null,null,null,null,null,"銀行の支店","08458"]
[null,null,null,null,null,null,null,null,null,null,null,null,null,null,"損害保険代理店","08458"]
[null,null,null,null,null,null,null,null,null,null,null,null,null,null,"宅地建物取引業を営む店舗","08458"]
[null,null,null,null,null,null,null,null,null,null,null,null,null,null,"物品販売業を営む店舗以外の店舗","08460"]
[null,null,null,null,null,null,null,null,null,null,null,null,null,null,"事務所","08470"]
[null,null,null,null,null,null,null,null,null,null,null,null,null,null,"映画スタジオ","08480"]
[null,null,null,null,null,null,null,null,null,null,null,null,null,null,"テレビスタジオ","08480"]
[null,null,null,null,null,null,null,null,null,null,null,null,null,null,"自動車車庫","08490"]
[null,null,null,null,null,null,null,null,null,null,null,null,null,null,"自転車駐車場","08500"]
[null,null,null,null,null,null,null,null,null,null,null,null,null,null,"倉庫業を営む倉庫","08510"]
[null,null,null,null,null,null,null,null,null,null,null,null,null,null,"倉庫業を営まない倉庫","08520"]
[null,null,null,null,null,null,null,null,null,null,null,null,null,null,"劇場","08530"]
[null,null,null,null,null,null,null,null,null,null,null,null,null,null,"映画館","08530"]
[null,null,null,null,null,null,null,null,null,null,null,null,null,null,"演芸場","08530"]
[null,null,null,null,null,null,null,null,null,null,null,null,null,null,"観覧場","08540"]
[null,null,null,null,null,null,null,null,null,null,null,null,null,null,"公会堂","08550"]
[null,null,null,null,null,null,null,null,null,null,null,null,null,null,"集会場","08550"]
[null,null,null,null,null,null,null,null,null,null,null,null,null,null,"展示場","08560"]
[null,null,null,null,null,null,null,null,null,null,null,null,null,null,"料理店","08570"]
[null,null,null,null,null,null,null,null,null,null,null,null,null,null,"キャバレー","08580"]
[null,null,null,null,null,null,null,null,null,null,null,null,null,null,"カフェ","08580"]
[null,null,null,null,null,null,null,null,null,null,null,null,null,null,"ナイトクラブ","08580"]
[null,null,null,null,null,null,null,null,null,null,null,null,null,null,"バー","08580"]
[null,null,null,null,null,null,null,null,null,null,null,null,null,null,"ダンスホール","08590"]
[null,null,null,null,null,null,null,null,null,null,null,null,null,null,"個室付浴場に係る公衆浴場　　　　　","08600"]
[null,null,null,null,null,null,null,null,null,null,null,null,null,null,"ヌードスタジオ","08600"]
[null,null,null,null,null,null,null,null,null,null,null,null,null,null,"のぞき劇場","08600"]
[null,null,null,null,null,null,null,null,null,null,null,null,null,null,"ストリップ劇場","08600"]
[null,null,null,null,null,null,null,null,null,null,null,null,null,null,"専ら異性を同伴する客の休息の用に供する施設","08600"]
[null,null,null,null,null,null,null,null,null,null,null,null,null,null,"専ら性的好奇心をそそる写真その他の物品の販売を目的とする店舗","08600"]
[null,null,null,null,null,null,null,null,null,null,null,null,null,null,"卸売市場","08610"]
[null,null,null,null,null,null,null,null,null,null,null,null,null,null,"火葬場","08620"]
[null,null,null,null,null,null,null,null,null,null,null,null,null,null,"と蓄場","08620"]
[null,null,null,null,null,null,null,null,null,null,null,null,null,null,"汚物処理場","08620"]
[null,null,null,null,null,null,null,null,null,null,null,null,null,null,"その他の処理場","08620"]
[null,null,null,null,null,null,null,null,null,null,null,null,null,null,"その他","08990"]
[null,null,null,null,null,null,null,null,null,null,null,null,null,null,"ゴミ置場","08990"]
[null,null,null,null,null,null,null,null,null,null,null,null,null,null,"プロパン庫","08990"]

{"sheet":"記入シート","index":33,"n_rows":27,"n_cols":36,"rows_kept":27,"cut":false,"hidden":true,"merged":[[24,0,26,1],[24,2,24,8],[24,10,24,34],[25,2,25,8],[25,10,25,34],[26,2,26,8],[26,10,26,34],[21,0,23,1],[21,2,21,8],[21,10,21,34],[22,2,22,8],[22,10,22,34],[23,2,23,8],[23,10,23,34],[18,0,20,1],[18,2,18,8],[18,10,18,34],[19,2,19,8],[19,10,19,34],[20,2,20,8],[20,10,20,34],[15,0,17,1],[15,2,15,8],[15,10,15,34],[16,2,16,8],[16,10,16,34],[17,2,17,8],[17,10,17,34],[12,0,14,1],[12,2,12,8],[12,10,12,34],[13,2,13,8],[13,10,13,34],[14,2,14,8],[14,10,14,34],[9,0,11,1],[9,2,9,8],[9,10,9,34],[10,2,10,8],[10,10,10,34],[11,2,11,8],[11,10,11,34],[6,0,8,1],[6,2,6,8],[6,10,6,34],[7,2,7,8],[7,10,7,34],[8,2,8,8],[8,10,8,34],[3,0,5,1],[3,2,3,8],[3,10,3,34],[4,2,4,8],[4,10,4,34],[5,2,5,8],[5,10,5,34],[0,0,2,1],[0,2,0,8],[0,10,0,34],[1,2,1,8],[1,10,1,34],[2,2,2,8],[2,10,2,34]]}
["元請\n業者",null,"会社名及び代表者名",null,null,null,null,null,null,"（",null,null,null,null,null,null,null,null,null,null,null,null,null,null,null,null,null,null,null,null,null,null,null,null,null,"）"]
[null,null,"郵便番号及び住所",null,null,null,null,null,null,"（",null,null,null,null,null,null,null,null,null,null,null,null,null,null,null,null,null,null,null,null,null,null,null,null,null,"）"]
[null,null,"電話番号",null,null,null,null,null,null,"（",null,null,null,null,null,null,null,null,null,null,null,null,null,null,null,null,null,null,null,null,null,null,null,null,null,"）"]
["下請\n業者",null,"会社名及び代表者名",null,null,null,null,null,null,"（",null,null,null,null,null,null,null,null,null,null,null,null,null,null,null,null,null,null,null,null,null,null,null,null,null,"）"]
[null,null,"郵便番号及び住所",null,null,null,null,null,null,"（",null,null,null,null,null,null,null,null,null,null,null,null,null,null,null,null,null,null,null,null,null,null,null,null,null,"）"]
[null,null,"電話番号",null,null,null,null,null,null,"（",null,null,null,null,null,null,null,null,null,null,null,null,null,null,null,null,null,null,null,null,null,null,null,null,null,"）"]
["下請\n業者",null,"会社名及び代表者名",null,null,null,null,null,null,"（",null,null,null,null,null,null,null,null,null,null,null,null,null,null,null,null,null,null,null,null,null,null,null,null,null,"）"]
[null,null,"郵便番号及び住所",null,null,null,null,null,null,"（",null,null,null,null,null,null,null,null,null,null,null,null,null,null,null,null,null,null,null,null,null,null,null,null,null,"）"]
[null,null,"電話番号",null,null,null,null,null,null,"（",null,null,null,null,null,null,null,null,null,null,null,null,null,null,null,null,null,null,null,null,null,null,null,null,null,"）"]
["下請\n業者",null,"会社名及び代表者名",null,null,null,null,null,null,"（",null,null,null,null,null,null,null,null,null,null,null,null,null,null,null,null,null,null,null,null,null,null,null,null,null,"）"]
[null,null,"郵便番号及び住所",null,null,null,null,null,null,"（",null,null,null,null,null,null,null,null,null,null,null,null,null,null,null,null,null,null,null,null,null,null,null,null,null,"）"]
[null,null,"電話番号",null,null,null,null,null,null,"（",null,null,null,null,null,null,null,null,null,null,null,null,null,null,null,null,null,null,null,null,null,null,null,null,null,"）"]
["下請\n業者",null,"会社名及び代表者名",null,null,null,null,null,null,"（",null,null,null,null,null,null,null,null,null,null,null,null,null,null,null,null,null,null,null,null,null,null,null,null,null,"）"]
[null,null,"郵便番号及び住所",null,null,null,null,null,null,"（",null,null,null,null,null,null,null,null,null,null,null,null,null,null,null,null,null,null,null,null,null,null,null,null,null,"）"]
[null,null,"電話番号",null,null,null,null,null,null,"（",null,null,null,null,null,null,null,null,null,null,null,null,null,null,null,null,null,null,null,null,null,null,null,null,null,"）"]
["下請\n業者",null,"会社名及び代表者名",null,null,null,null,null,null,"（",null,null,null,null,null,null,null,null,null,null,null,null,null,null,null,null,null,null,null,null,null,null,null,null,null,"）"]
[null,null,"郵便番号及び住所",null,null,null,null,null,null,"（",null,null,null,null,null,null,null,null,null,null,null,null,null,null,null,null,null,null,null,null,null,null,null,null,null,"）"]
[null,null,"電話番号",null,null,null,null,null,null,"（",null,null,null,null,null,null,null,null,null,null,null,null,null,null,null,null,null,null,null,null,null,null,null,null,null,"）"]
["下請\n業者",null,"会社名及び代表者名",null,null,null,null,null,null,"（",null,null,null,null,null,null,null,null,null,null,null,null,null,null,null,null,null,null,null,null,null,null,null,null,null,"）"]
[null,null,"郵便番号及び住所",null,null,null,null,null,null,"（",null,null,null,null,null,null,null,null,null,null,null,null,null,null,null,null,null,null,null,null,null,null,null,null,null,"）"]
[null,null,"電話番号",null,null,null,null,null,null,"（",null,null,null,null,null,null,null,null,null,null,null,null,null,null,null,null,null,null,null,null,null,null,null,null,null,"）"]
["下請\n業者",null,"会社名及び代表者名",null,null,null,null,null,null,"（",null,null,null,null,null,null,null,null,null,null,null,null,null,null,null,null,null,null,null,null,null,null,null,null,null,"）"]
[null,null,"郵便番号及び住所",null,null,null,null,null,null,"（",null,null,null,null,null,null,null,null,null,null,null,null,null,null,null,null,null,null,null,null,null,null,null,null,null,"）"]
[null,null,"電話番号",null,null,null,null,null,null,"（",null,null,null,null,null,null,null,null,null,null,null,null,null,null,null,null,null,null,null,null,null,null,null,null,null,"）"]
["下請\n業者",null,"会社名及び代表者名",null,null,null,null,null,null,"（",null,null,null,null,null,null,null,null,null,null,null,null,null,null,null,null,null,null,null,null,null,null,null,null,null,"）"]
[null,null,"郵便番号及び住所",null,null,null,null,null,null,"（",null,null,null,null,null,null,null,null,null,null,null,null,null,null,null,null,null,null,null,null,null,null,null,null,null,"）"]
[null,null,"電話番号",null,null,null,null,null,null,"（",null,null,null,null,null,null,null,null,null,null,null,null,null,null,null,null,null,null,null,null,null,null,null,null,null,"）"]